BEGIN:VCALENDAR
VERSION:2.0
PRODID:-//Meals On Wheels of Tampa - ECPv6.15.20//NONSGML v1.0//EN
CALSCALE:GREGORIAN
METHOD:PUBLISH
X-ORIGINAL-URL:https://mowtampa.org
X-WR-CALDESC:Events for Meals On Wheels of Tampa
REFRESH-INTERVAL;VALUE=DURATION:PT1H
X-Robots-Tag:noindex
X-PUBLISHED-TTL:PT1H
BEGIN:VTIMEZONE
TZID:America/New_York
BEGIN:DAYLIGHT
TZOFFSETFROM:-0500
TZOFFSETTO:-0400
TZNAME:EDT
DTSTART:20190310T070000
END:DAYLIGHT
BEGIN:STANDARD
TZOFFSETFROM:-0400
TZOFFSETTO:-0500
TZNAME:EST
DTSTART:20191103T060000
END:STANDARD
BEGIN:DAYLIGHT
TZOFFSETFROM:-0500
TZOFFSETTO:-0400
TZNAME:EDT
DTSTART:20200308T070000
END:DAYLIGHT
BEGIN:STANDARD
TZOFFSETFROM:-0400
TZOFFSETTO:-0500
TZNAME:EST
DTSTART:20201101T060000
END:STANDARD
BEGIN:DAYLIGHT
TZOFFSETFROM:-0500
TZOFFSETTO:-0400
TZNAME:EDT
DTSTART:20210314T070000
END:DAYLIGHT
BEGIN:STANDARD
TZOFFSETFROM:-0400
TZOFFSETTO:-0500
TZNAME:EST
DTSTART:20211107T060000
END:STANDARD
END:VTIMEZONE
BEGIN:VEVENT
DTSTART;TZID=America/New_York:20201002T110000
DTEND;TZID=America/New_York:20201002T120000
DTSTAMP:20260423T124138
CREATED:20200610T193323Z
LAST-MODIFIED:20200610T193346Z
UID:10000119-1601636400-1601640000@mowtampa.org
SUMMARY:Volunteer Orientation
DESCRIPTION:Volunteer Orientations are required for all delivery opportunities. \nWhere: Meals On Wheels of Tampa office \nWhen: 11am-Noon \nPlease complete a volunteer application by clicking here and then choose Create Account.
URL:https://mowtampa.org/event/volunteer-orientation-3/2020-10-02/
LOCATION:Meals On Wheels of Tampa\, Inc.\, 550 W Hillsborough Avenue\, Tampa\, FL\, 33603\, United States
CATEGORIES:Volunteer Orientation
GEO:27.9957562;-82.4676813
X-APPLE-STRUCTURED-LOCATION;VALUE=URI;X-ADDRESS=Meals On Wheels of Tampa Inc. 550 W Hillsborough Avenue Tampa FL 33603 United States;X-APPLE-RADIUS=500;X-TITLE=550 W Hillsborough Avenue:geo:-82.4676813,27.9957562
END:VEVENT
BEGIN:VEVENT
DTSTART;TZID=America/New_York:20201008T114500
DTEND;TZID=America/New_York:20201008T131500
DTSTAMP:20260423T124138
CREATED:20190730T183921Z
LAST-MODIFIED:20200103T200351Z
UID:10000075-1602157500-1602162900@mowtampa.org
SUMMARY:Volunteer Appreciation Luncheon
DESCRIPTION:Details coming soon!
URL:https://mowtampa.org/event/volunteer-appreciation-luncheon/2020-10-08/
LOCATION:Centro Asturiano de Tampa\, 1913 N. Nebraska Ave\, Tampa\, 33605\, United States
GEO:27.9620254;-82.4509662
X-APPLE-STRUCTURED-LOCATION;VALUE=URI;X-ADDRESS=Centro Asturiano de Tampa 1913 N. Nebraska Ave Tampa 33605 United States;X-APPLE-RADIUS=500;X-TITLE=1913 N. Nebraska Ave:geo:-82.4509662,27.9620254
END:VEVENT
BEGIN:VEVENT
DTSTART;TZID=America/New_York:20201009T110000
DTEND;TZID=America/New_York:20201009T120000
DTSTAMP:20260423T124138
CREATED:20200610T193323Z
LAST-MODIFIED:20200610T193346Z
UID:10000120-1602241200-1602244800@mowtampa.org
SUMMARY:Volunteer Orientation
DESCRIPTION:Volunteer Orientations are required for all delivery opportunities. \nWhere: Meals On Wheels of Tampa office \nWhen: 11am-Noon \nPlease complete a volunteer application by clicking here and then choose Create Account.
URL:https://mowtampa.org/event/volunteer-orientation-3/2020-10-09/
LOCATION:Meals On Wheels of Tampa\, Inc.\, 550 W Hillsborough Avenue\, Tampa\, FL\, 33603\, United States
CATEGORIES:Volunteer Orientation
GEO:27.9957562;-82.4676813
X-APPLE-STRUCTURED-LOCATION;VALUE=URI;X-ADDRESS=Meals On Wheels of Tampa Inc. 550 W Hillsborough Avenue Tampa FL 33603 United States;X-APPLE-RADIUS=500;X-TITLE=550 W Hillsborough Avenue:geo:-82.4676813,27.9957562
END:VEVENT
BEGIN:VEVENT
DTSTART;TZID=America/New_York:20201016T110000
DTEND;TZID=America/New_York:20201016T120000
DTSTAMP:20260423T124138
CREATED:20200610T193323Z
LAST-MODIFIED:20200610T193346Z
UID:10000121-1602846000-1602849600@mowtampa.org
SUMMARY:Volunteer Orientation
DESCRIPTION:Volunteer Orientations are required for all delivery opportunities. \nWhere: Meals On Wheels of Tampa office \nWhen: 11am-Noon \nPlease complete a volunteer application by clicking here and then choose Create Account.
URL:https://mowtampa.org/event/volunteer-orientation-3/2020-10-16/
LOCATION:Meals On Wheels of Tampa\, Inc.\, 550 W Hillsborough Avenue\, Tampa\, FL\, 33603\, United States
CATEGORIES:Volunteer Orientation
GEO:27.9957562;-82.4676813
X-APPLE-STRUCTURED-LOCATION;VALUE=URI;X-ADDRESS=Meals On Wheels of Tampa Inc. 550 W Hillsborough Avenue Tampa FL 33603 United States;X-APPLE-RADIUS=500;X-TITLE=550 W Hillsborough Avenue:geo:-82.4676813,27.9957562
END:VEVENT
BEGIN:VEVENT
DTSTART;TZID=America/New_York:20201017T093000
DTEND;TZID=America/New_York:20201017T113000
DTSTAMP:20260423T124138
CREATED:20200610T191708Z
LAST-MODIFIED:20200708T160051Z
UID:10000101-1602927000-1602934200@mowtampa.org
SUMMARY:Produce On Wheels (POW!) Delivery
DESCRIPTION:Produce On Wheels(POW!) Delivery\nVolunteers deliver bags of fresh produce to all program recipients. Routes take 60-90 minutes to complete. \nVolunteers must complete an application and attend an orientation prior to delivering. \nFor more information\, click here or call (813) 238-8410.
URL:https://mowtampa.org/event/produce-on-wheels-pow-delivery/2020-10-17/
LOCATION:Meals On Wheels of Tampa\, Inc.\, 550 W Hillsborough Avenue\, Tampa\, FL\, 33603\, United States
CATEGORIES:Produce On Wheels (POW!)
GEO:27.9957562;-82.4676813
X-APPLE-STRUCTURED-LOCATION;VALUE=URI;X-ADDRESS=Meals On Wheels of Tampa Inc. 550 W Hillsborough Avenue Tampa FL 33603 United States;X-APPLE-RADIUS=500;X-TITLE=550 W Hillsborough Avenue:geo:-82.4676813,27.9957562
END:VEVENT
BEGIN:VEVENT
DTSTART;TZID=America/New_York:20201023T110000
DTEND;TZID=America/New_York:20201023T120000
DTSTAMP:20260423T124138
CREATED:20200610T193323Z
LAST-MODIFIED:20200610T193346Z
UID:10000122-1603450800-1603454400@mowtampa.org
SUMMARY:Volunteer Orientation
DESCRIPTION:Volunteer Orientations are required for all delivery opportunities. \nWhere: Meals On Wheels of Tampa office \nWhen: 11am-Noon \nPlease complete a volunteer application by clicking here and then choose Create Account.
URL:https://mowtampa.org/event/volunteer-orientation-3/2020-10-23/
LOCATION:Meals On Wheels of Tampa\, Inc.\, 550 W Hillsborough Avenue\, Tampa\, FL\, 33603\, United States
CATEGORIES:Volunteer Orientation
GEO:27.9957562;-82.4676813
X-APPLE-STRUCTURED-LOCATION;VALUE=URI;X-ADDRESS=Meals On Wheels of Tampa Inc. 550 W Hillsborough Avenue Tampa FL 33603 United States;X-APPLE-RADIUS=500;X-TITLE=550 W Hillsborough Avenue:geo:-82.4676813,27.9957562
END:VEVENT
BEGIN:VEVENT
DTSTART;TZID=America/New_York:20201030T110000
DTEND;TZID=America/New_York:20201030T120000
DTSTAMP:20260423T124138
CREATED:20200610T193323Z
LAST-MODIFIED:20200610T193346Z
UID:10000123-1604055600-1604059200@mowtampa.org
SUMMARY:Volunteer Orientation
DESCRIPTION:Volunteer Orientations are required for all delivery opportunities. \nWhere: Meals On Wheels of Tampa office \nWhen: 11am-Noon \nPlease complete a volunteer application by clicking here and then choose Create Account.
URL:https://mowtampa.org/event/volunteer-orientation-3/2020-10-30/
LOCATION:Meals On Wheels of Tampa\, Inc.\, 550 W Hillsborough Avenue\, Tampa\, FL\, 33603\, United States
CATEGORIES:Volunteer Orientation
GEO:27.9957562;-82.4676813
X-APPLE-STRUCTURED-LOCATION;VALUE=URI;X-ADDRESS=Meals On Wheels of Tampa Inc. 550 W Hillsborough Avenue Tampa FL 33603 United States;X-APPLE-RADIUS=500;X-TITLE=550 W Hillsborough Avenue:geo:-82.4676813,27.9957562
END:VEVENT
END:VCALENDAR