BEGIN:VCALENDAR
VERSION:2.0
PRODID:-//Meals On Wheels of Tampa - ECPv6.15.20//NONSGML v1.0//EN
CALSCALE:GREGORIAN
METHOD:PUBLISH
X-WR-CALNAME:Meals On Wheels of Tampa
X-ORIGINAL-URL:https://mowtampa.org
X-WR-CALDESC:Events for Meals On Wheels of Tampa
REFRESH-INTERVAL;VALUE=DURATION:PT1H
X-Robots-Tag:noindex
X-PUBLISHED-TTL:PT1H
BEGIN:VTIMEZONE
TZID:America/New_York
BEGIN:DAYLIGHT
TZOFFSETFROM:-0500
TZOFFSETTO:-0400
TZNAME:EDT
DTSTART:20230312T070000
END:DAYLIGHT
BEGIN:STANDARD
TZOFFSETFROM:-0400
TZOFFSETTO:-0500
TZNAME:EST
DTSTART:20231105T060000
END:STANDARD
BEGIN:DAYLIGHT
TZOFFSETFROM:-0500
TZOFFSETTO:-0400
TZNAME:EDT
DTSTART:20240310T070000
END:DAYLIGHT
BEGIN:STANDARD
TZOFFSETFROM:-0400
TZOFFSETTO:-0500
TZNAME:EST
DTSTART:20241103T060000
END:STANDARD
BEGIN:DAYLIGHT
TZOFFSETFROM:-0500
TZOFFSETTO:-0400
TZNAME:EDT
DTSTART:20250309T070000
END:DAYLIGHT
BEGIN:STANDARD
TZOFFSETFROM:-0400
TZOFFSETTO:-0500
TZNAME:EST
DTSTART:20251102T060000
END:STANDARD
END:VTIMEZONE
BEGIN:VEVENT
DTSTART;TZID=America/New_York:20240703T110000
DTEND;TZID=America/New_York:20240703T120000
DTSTAMP:20260419T221420
CREATED:20240202T174044Z
LAST-MODIFIED:20240202T174044Z
UID:10000352-1720004400-1720008000@mowtampa.org
SUMMARY:Volunteer Orientation – In Person
DESCRIPTION:Volunteer Orientation – In Person\nAll new volunteers are required to participate in a Volunteer Orientation before they can sign up to deliver a route. \nIn person orientations are held at the Meals On Wheels of Tampa office located at 5320 North Boulevard Tampa FL 33603. \nRegistration is required. Please complete a volunteer application by clicking here and then choose Create Account.
URL:https://mowtampa.org/event/volunteer-orientation-in-person/2024-07-03/
END:VEVENT
BEGIN:VEVENT
DTSTART;TZID=America/New_York:20240628T110000
DTEND;TZID=America/New_York:20240628T120000
DTSTAMP:20260419T221420
CREATED:20240202T174931Z
LAST-MODIFIED:20240202T175417Z
UID:10000614-1719572400-1719576000@mowtampa.org
SUMMARY:Volunteer Orientation – Virtual
DESCRIPTION:Volunteer Orientation – Virtual\nAll new volunteers are required to participate in a Volunteer Orientation before they can sign up to deliver a route. \nVirtual orientations will be held over Zoom. It is a requirement that your camera be turned “on” during session. \nRegistration is required. Please complete a volunteer application by clicking here and then choose Create Account.
URL:https://mowtampa.org/event/volunteer-orientation-virtual/2024-06-28/
END:VEVENT
BEGIN:VEVENT
DTSTART;TZID=America/New_York:20240626T110000
DTEND;TZID=America/New_York:20240626T120000
DTSTAMP:20260419T221420
CREATED:20240202T174044Z
LAST-MODIFIED:20240202T174044Z
UID:10000351-1719399600-1719403200@mowtampa.org
SUMMARY:Volunteer Orientation – In Person
DESCRIPTION:Volunteer Orientation – In Person\nAll new volunteers are required to participate in a Volunteer Orientation before they can sign up to deliver a route. \nIn person orientations are held at the Meals On Wheels of Tampa office located at 5320 North Boulevard Tampa FL 33603. \nRegistration is required. Please complete a volunteer application by clicking here and then choose Create Account.
URL:https://mowtampa.org/event/volunteer-orientation-in-person/2024-06-26/
END:VEVENT
BEGIN:VEVENT
DTSTART;TZID=America/New_York:20240625T120000
DTEND;TZID=America/New_York:20240625T130000
DTSTAMP:20260419T221420
CREATED:20240809T214148Z
LAST-MODIFIED:20240809T214148Z
UID:10000885-1719316800-1719320400@mowtampa.org
SUMMARY:Nourish At Noon
DESCRIPTION:Nourish At Noon (NAN) Luncheon\nThis is a great opportunity for you to come tour the kitchen\, enjoy one of our meals and hear our story. \nRegistration is required. For more information\, click here or call (813) 238-8410.
URL:https://mowtampa.org/event/nourish-at-noon-32/
END:VEVENT
BEGIN:VEVENT
DTSTART;TZID=America/New_York:20240624T183000
DTEND;TZID=America/New_York:20240624T200000
DTSTAMP:20260419T221420
CREATED:20240809T221627Z
LAST-MODIFIED:20240809T221700Z
UID:10000892-1719253800-1719259200@mowtampa.org
SUMMARY:Ambassador Happy Hour Info Session
DESCRIPTION:Ambassadors Happy Hour Info Session\nWant to learn more about our young professional (ages of 21-39) group? Come join us! 
URL:https://mowtampa.org/event/ambassador-happy-hour-info-session/
END:VEVENT
BEGIN:VEVENT
DTSTART;TZID=America/New_York:20240624T173000
DTEND;TZID=America/New_York:20240624T183000
DTSTAMP:20260419T221420
CREATED:20240809T221454Z
LAST-MODIFIED:20240809T221454Z
UID:10000891-1719250200-1719253800@mowtampa.org
SUMMARY:Ambassadors Meeting
DESCRIPTION:Ambassadors Meeting\nMeeting of young professionals (ages of 21-39) who work together to promote and support the mission of Meals On Wheels of Tampa. \nFor more information\, click here.
URL:https://mowtampa.org/event/ambassadors-meeting-2/
END:VEVENT
BEGIN:VEVENT
DTSTART;TZID=America/New_York:20240621T110000
DTEND;TZID=America/New_York:20240621T120000
DTSTAMP:20260419T221420
CREATED:20240202T174931Z
LAST-MODIFIED:20240202T175417Z
UID:10000613-1718967600-1718971200@mowtampa.org
SUMMARY:Volunteer Orientation – Virtual
DESCRIPTION:Volunteer Orientation – Virtual\nAll new volunteers are required to participate in a Volunteer Orientation before they can sign up to deliver a route. \nVirtual orientations will be held over Zoom. It is a requirement that your camera be turned “on” during session. \nRegistration is required. Please complete a volunteer application by clicking here and then choose Create Account.
URL:https://mowtampa.org/event/volunteer-orientation-virtual/2024-06-21/
END:VEVENT
BEGIN:VEVENT
DTSTART;TZID=America/New_York:20240619T110000
DTEND;TZID=America/New_York:20240619T120000
DTSTAMP:20260419T221420
CREATED:20240202T174044Z
LAST-MODIFIED:20240202T174044Z
UID:10000350-1718794800-1718798400@mowtampa.org
SUMMARY:Volunteer Orientation – In Person
DESCRIPTION:Volunteer Orientation – In Person\nAll new volunteers are required to participate in a Volunteer Orientation before they can sign up to deliver a route. \nIn person orientations are held at the Meals On Wheels of Tampa office located at 5320 North Boulevard Tampa FL 33603. \nRegistration is required. Please complete a volunteer application by clicking here and then choose Create Account.
URL:https://mowtampa.org/event/volunteer-orientation-in-person/2024-06-19/
END:VEVENT
BEGIN:VEVENT
DTSTART;TZID=America/New_York:20240615T093000
DTEND;TZID=America/New_York:20240615T110000
DTSTAMP:20260419T221420
CREATED:20230224T201129Z
LAST-MODIFIED:20250107T232301Z
UID:10000981-1718443800-1718449200@mowtampa.org
SUMMARY:Hurricane Bag Delivery
DESCRIPTION:Hurricane Bag Delivery\nVolunteers deliver Hurricane Preparedness Bags to all program recipients. \nVolunteers must complete an application and attend an orientation prior to delivering. \nRoutes must be signed up for in advance. Routes take 60-90 minutes to complete. \nFor more information\, call (813) 238-8410.
URL:https://mowtampa.org/event/hurricane-preparedness-pack-delivery/2024-06-15/
END:VEVENT
BEGIN:VEVENT
DTSTART;TZID=America/New_York:20240614T110000
DTEND;TZID=America/New_York:20240614T120000
DTSTAMP:20260419T221420
CREATED:20240202T174931Z
LAST-MODIFIED:20240202T175417Z
UID:10000612-1718362800-1718366400@mowtampa.org
SUMMARY:Volunteer Orientation – Virtual
DESCRIPTION:Volunteer Orientation – Virtual\nAll new volunteers are required to participate in a Volunteer Orientation before they can sign up to deliver a route. \nVirtual orientations will be held over Zoom. It is a requirement that your camera be turned “on” during session. \nRegistration is required. Please complete a volunteer application by clicking here and then choose Create Account.
URL:https://mowtampa.org/event/volunteer-orientation-virtual/2024-06-14/
END:VEVENT
BEGIN:VEVENT
DTSTART;TZID=America/New_York:20240612T110000
DTEND;TZID=America/New_York:20240612T120000
DTSTAMP:20260419T221420
CREATED:20240202T174044Z
LAST-MODIFIED:20240202T174044Z
UID:10000349-1718190000-1718193600@mowtampa.org
SUMMARY:Volunteer Orientation – In Person
DESCRIPTION:Volunteer Orientation – In Person\nAll new volunteers are required to participate in a Volunteer Orientation before they can sign up to deliver a route. \nIn person orientations are held at the Meals On Wheels of Tampa office located at 5320 North Boulevard Tampa FL 33603. \nRegistration is required. Please complete a volunteer application by clicking here and then choose Create Account.
URL:https://mowtampa.org/event/volunteer-orientation-in-person/2024-06-12/
END:VEVENT
BEGIN:VEVENT
DTSTART;TZID=America/New_York:20240607T110000
DTEND;TZID=America/New_York:20240607T120000
DTSTAMP:20260419T221420
CREATED:20240202T174931Z
LAST-MODIFIED:20240202T175417Z
UID:10000611-1717758000-1717761600@mowtampa.org
SUMMARY:Volunteer Orientation – Virtual
DESCRIPTION:Volunteer Orientation – Virtual\nAll new volunteers are required to participate in a Volunteer Orientation before they can sign up to deliver a route. \nVirtual orientations will be held over Zoom. It is a requirement that your camera be turned “on” during session. \nRegistration is required. Please complete a volunteer application by clicking here and then choose Create Account.
URL:https://mowtampa.org/event/volunteer-orientation-virtual/2024-06-07/
END:VEVENT
BEGIN:VEVENT
DTSTART;TZID=America/New_York:20240605T110000
DTEND;TZID=America/New_York:20240605T120000
DTSTAMP:20260419T221420
CREATED:20240202T174044Z
LAST-MODIFIED:20240202T174044Z
UID:10000348-1717585200-1717588800@mowtampa.org
SUMMARY:Volunteer Orientation – In Person
DESCRIPTION:Volunteer Orientation – In Person\nAll new volunteers are required to participate in a Volunteer Orientation before they can sign up to deliver a route. \nIn person orientations are held at the Meals On Wheels of Tampa office located at 5320 North Boulevard Tampa FL 33603. \nRegistration is required. Please complete a volunteer application by clicking here and then choose Create Account.
URL:https://mowtampa.org/event/volunteer-orientation-in-person/2024-06-05/
END:VEVENT
BEGIN:VEVENT
DTSTART;TZID=America/New_York:20240531T110000
DTEND;TZID=America/New_York:20240531T120000
DTSTAMP:20260419T221420
CREATED:20240202T174931Z
LAST-MODIFIED:20240202T175417Z
UID:10000610-1717153200-1717156800@mowtampa.org
SUMMARY:Volunteer Orientation – Virtual
DESCRIPTION:Volunteer Orientation – Virtual\nAll new volunteers are required to participate in a Volunteer Orientation before they can sign up to deliver a route. \nVirtual orientations will be held over Zoom. It is a requirement that your camera be turned “on” during session. \nRegistration is required. Please complete a volunteer application by clicking here and then choose Create Account.
URL:https://mowtampa.org/event/volunteer-orientation-virtual/2024-05-31/
END:VEVENT
BEGIN:VEVENT
DTSTART;TZID=America/New_York:20240529T110000
DTEND;TZID=America/New_York:20240529T120000
DTSTAMP:20260419T221420
CREATED:20240202T174044Z
LAST-MODIFIED:20240202T174044Z
UID:10000347-1716980400-1716984000@mowtampa.org
SUMMARY:Volunteer Orientation – In Person
DESCRIPTION:Volunteer Orientation – In Person\nAll new volunteers are required to participate in a Volunteer Orientation before they can sign up to deliver a route. \nIn person orientations are held at the Meals On Wheels of Tampa office located at 5320 North Boulevard Tampa FL 33603. \nRegistration is required. Please complete a volunteer application by clicking here and then choose Create Account.
URL:https://mowtampa.org/event/volunteer-orientation-in-person/2024-05-29/
END:VEVENT
BEGIN:VEVENT
DTSTART;VALUE=DATE:20240527
DTEND;VALUE=DATE:20240528
DTSTAMP:20260419T221420
CREATED:20240202T180504Z
LAST-MODIFIED:20240202T180504Z
UID:10000861-1716768000-1716854399@mowtampa.org
SUMMARY:Office Closed
DESCRIPTION:The Meals On Wheels of Tampa administrative offices will be closed in observance of the Memorial Day Holiday.
URL:https://mowtampa.org/event/office-closed-10/
END:VEVENT
BEGIN:VEVENT
DTSTART;TZID=America/New_York:20240524T110000
DTEND;TZID=America/New_York:20240524T120000
DTSTAMP:20260419T221420
CREATED:20240202T174931Z
LAST-MODIFIED:20240202T175417Z
UID:10000609-1716548400-1716552000@mowtampa.org
SUMMARY:Volunteer Orientation – Virtual
DESCRIPTION:Volunteer Orientation – Virtual\nAll new volunteers are required to participate in a Volunteer Orientation before they can sign up to deliver a route. \nVirtual orientations will be held over Zoom. It is a requirement that your camera be turned “on” during session. \nRegistration is required. Please complete a volunteer application by clicking here and then choose Create Account.
URL:https://mowtampa.org/event/volunteer-orientation-virtual/2024-05-24/
END:VEVENT
BEGIN:VEVENT
DTSTART;TZID=America/New_York:20240522T110000
DTEND;TZID=America/New_York:20240522T120000
DTSTAMP:20260419T221420
CREATED:20240202T174044Z
LAST-MODIFIED:20240202T174044Z
UID:10000346-1716375600-1716379200@mowtampa.org
SUMMARY:Volunteer Orientation – In Person
DESCRIPTION:Volunteer Orientation – In Person\nAll new volunteers are required to participate in a Volunteer Orientation before they can sign up to deliver a route. \nIn person orientations are held at the Meals On Wheels of Tampa office located at 5320 North Boulevard Tampa FL 33603. \nRegistration is required. Please complete a volunteer application by clicking here and then choose Create Account.
URL:https://mowtampa.org/event/volunteer-orientation-in-person/2024-05-22/
END:VEVENT
BEGIN:VEVENT
DTSTART;TZID=America/New_York:20240518T093000
DTEND;TZID=America/New_York:20240518T230000
DTSTAMP:20260419T221420
CREATED:20230224T200047Z
LAST-MODIFIED:20250107T232048Z
UID:10000965-1716024600-1716073200@mowtampa.org
SUMMARY:Produce on Wheels (POW!) Delivery
DESCRIPTION:Produce On Wheels (POW!) Delivery\nVolunteers deliver bags of fresh produce to all program recipients. \nVolunteers must complete an application and attend an orientation prior to delivering. \nRoutes must be signed up for in advance. Routes take 60-90 minutes to complete. \nFor more information\, click here or call (813) 238-8410.
URL:https://mowtampa.org/event/produce-on-wheels-pow-delivery-6/2024-05-18/
END:VEVENT
BEGIN:VEVENT
DTSTART;TZID=America/New_York:20240517T110000
DTEND;TZID=America/New_York:20240517T120000
DTSTAMP:20260419T221420
CREATED:20240202T174931Z
LAST-MODIFIED:20240202T175417Z
UID:10000608-1715943600-1715947200@mowtampa.org
SUMMARY:Volunteer Orientation – Virtual
DESCRIPTION:Volunteer Orientation – Virtual\nAll new volunteers are required to participate in a Volunteer Orientation before they can sign up to deliver a route. \nVirtual orientations will be held over Zoom. It is a requirement that your camera be turned “on” during session. \nRegistration is required. Please complete a volunteer application by clicking here and then choose Create Account.
URL:https://mowtampa.org/event/volunteer-orientation-virtual/2024-05-17/
END:VEVENT
BEGIN:VEVENT
DTSTART;TZID=America/New_York:20240515T110000
DTEND;TZID=America/New_York:20240515T120000
DTSTAMP:20260419T221420
CREATED:20240202T174044Z
LAST-MODIFIED:20240202T174044Z
UID:10000345-1715770800-1715774400@mowtampa.org
SUMMARY:Volunteer Orientation – In Person
DESCRIPTION:Volunteer Orientation – In Person\nAll new volunteers are required to participate in a Volunteer Orientation before they can sign up to deliver a route. \nIn person orientations are held at the Meals On Wheels of Tampa office located at 5320 North Boulevard Tampa FL 33603. \nRegistration is required. Please complete a volunteer application by clicking here and then choose Create Account.
URL:https://mowtampa.org/event/volunteer-orientation-in-person/2024-05-15/
END:VEVENT
BEGIN:VEVENT
DTSTART;TZID=America/New_York:20240510T110000
DTEND;TZID=America/New_York:20240510T120000
DTSTAMP:20260419T221420
CREATED:20240202T174931Z
LAST-MODIFIED:20240202T175417Z
UID:10000607-1715338800-1715342400@mowtampa.org
SUMMARY:Volunteer Orientation – Virtual
DESCRIPTION:Volunteer Orientation – Virtual\nAll new volunteers are required to participate in a Volunteer Orientation before they can sign up to deliver a route. \nVirtual orientations will be held over Zoom. It is a requirement that your camera be turned “on” during session. \nRegistration is required. Please complete a volunteer application by clicking here and then choose Create Account.
URL:https://mowtampa.org/event/volunteer-orientation-virtual/2024-05-10/
END:VEVENT
BEGIN:VEVENT
DTSTART;TZID=America/New_York:20240508T110000
DTEND;TZID=America/New_York:20240508T120000
DTSTAMP:20260419T221420
CREATED:20240202T174044Z
LAST-MODIFIED:20240202T174044Z
UID:10000344-1715166000-1715169600@mowtampa.org
SUMMARY:Volunteer Orientation – In Person
DESCRIPTION:Volunteer Orientation – In Person\nAll new volunteers are required to participate in a Volunteer Orientation before they can sign up to deliver a route. \nIn person orientations are held at the Meals On Wheels of Tampa office located at 5320 North Boulevard Tampa FL 33603. \nRegistration is required. Please complete a volunteer application by clicking here and then choose Create Account.
URL:https://mowtampa.org/event/volunteer-orientation-in-person/2024-05-08/
END:VEVENT
BEGIN:VEVENT
DTSTART;TZID=America/New_York:20240503T110000
DTEND;TZID=America/New_York:20240503T120000
DTSTAMP:20260419T221420
CREATED:20240202T174931Z
LAST-MODIFIED:20240202T175417Z
UID:10000606-1714734000-1714737600@mowtampa.org
SUMMARY:Volunteer Orientation – Virtual
DESCRIPTION:Volunteer Orientation – Virtual\nAll new volunteers are required to participate in a Volunteer Orientation before they can sign up to deliver a route. \nVirtual orientations will be held over Zoom. It is a requirement that your camera be turned “on” during session. \nRegistration is required. Please complete a volunteer application by clicking here and then choose Create Account.
URL:https://mowtampa.org/event/volunteer-orientation-virtual/2024-05-03/
END:VEVENT
BEGIN:VEVENT
DTSTART;TZID=America/New_York:20240501T110000
DTEND;TZID=America/New_York:20240501T120000
DTSTAMP:20260419T221420
CREATED:20240202T174044Z
LAST-MODIFIED:20240202T174044Z
UID:10000343-1714561200-1714564800@mowtampa.org
SUMMARY:Volunteer Orientation – In Person
DESCRIPTION:Volunteer Orientation – In Person\nAll new volunteers are required to participate in a Volunteer Orientation before they can sign up to deliver a route. \nIn person orientations are held at the Meals On Wheels of Tampa office located at 5320 North Boulevard Tampa FL 33603. \nRegistration is required. Please complete a volunteer application by clicking here and then choose Create Account.
URL:https://mowtampa.org/event/volunteer-orientation-in-person/2024-05-01/
END:VEVENT
BEGIN:VEVENT
DTSTART;TZID=America/New_York:20240430T120000
DTEND;TZID=America/New_York:20240430T130000
DTSTAMP:20260419T221420
CREATED:20240202T173403Z
LAST-MODIFIED:20240202T173403Z
UID:10000332-1714478400-1714482000@mowtampa.org
SUMMARY:Nourish At Noon
DESCRIPTION:Nourish At Noon (NAN) Luncheon\nThis is a great opportunity for you to come tour the kitchen\, enjoy one of our meals and hear our story. \nRegistration is required. For more information\, click here or call (813) 238-8410.
URL:https://mowtampa.org/event/nourish-at-noon-31/
END:VEVENT
BEGIN:VEVENT
DTSTART;TZID=America/New_York:20240426T110000
DTEND;TZID=America/New_York:20240426T120000
DTSTAMP:20260419T221420
CREATED:20240202T174931Z
LAST-MODIFIED:20240202T175417Z
UID:10000605-1714129200-1714132800@mowtampa.org
SUMMARY:Volunteer Orientation – Virtual
DESCRIPTION:Volunteer Orientation – Virtual\nAll new volunteers are required to participate in a Volunteer Orientation before they can sign up to deliver a route. \nVirtual orientations will be held over Zoom. It is a requirement that your camera be turned “on” during session. \nRegistration is required. Please complete a volunteer application by clicking here and then choose Create Account.
URL:https://mowtampa.org/event/volunteer-orientation-virtual/2024-04-26/
END:VEVENT
BEGIN:VEVENT
DTSTART;TZID=America/New_York:20240424T110000
DTEND;TZID=America/New_York:20240424T120000
DTSTAMP:20260419T221420
CREATED:20240202T174044Z
LAST-MODIFIED:20240202T174044Z
UID:10000342-1713956400-1713960000@mowtampa.org
SUMMARY:Volunteer Orientation – In Person
DESCRIPTION:Volunteer Orientation – In Person\nAll new volunteers are required to participate in a Volunteer Orientation before they can sign up to deliver a route. \nIn person orientations are held at the Meals On Wheels of Tampa office located at 5320 North Boulevard Tampa FL 33603. \nRegistration is required. Please complete a volunteer application by clicking here and then choose Create Account.
URL:https://mowtampa.org/event/volunteer-orientation-in-person/2024-04-24/
END:VEVENT
BEGIN:VEVENT
DTSTART;TZID=America/New_York:20240420T093000
DTEND;TZID=America/New_York:20240420T110000
DTSTAMP:20260419T221420
CREATED:20230224T195952Z
LAST-MODIFIED:20250107T231849Z
UID:10000949-1713605400-1713610800@mowtampa.org
SUMMARY:Produce On Wheels (POW!) Delivery
DESCRIPTION:Produce On Wheels (POW!) Delivery\nVolunteers deliver bags of fresh produce to all program recipients. \nVolunteers must complete an application and attend an orientation prior to delivering. \nRoutes must be signed up for in advance. Routes take 60-90 minutes to complete. \nFor more information\, click here or call (813) 238-8410.
URL:https://mowtampa.org/event/produce-on-wheels-pow-delivery-5/2024-04-20/
END:VEVENT
BEGIN:VEVENT
DTSTART;TZID=America/New_York:20240419T110000
DTEND;TZID=America/New_York:20240419T120000
DTSTAMP:20260419T221420
CREATED:20240202T174931Z
LAST-MODIFIED:20240202T175417Z
UID:10000604-1713524400-1713528000@mowtampa.org
SUMMARY:Volunteer Orientation – Virtual
DESCRIPTION:Volunteer Orientation – Virtual\nAll new volunteers are required to participate in a Volunteer Orientation before they can sign up to deliver a route. \nVirtual orientations will be held over Zoom. It is a requirement that your camera be turned “on” during session. \nRegistration is required. Please complete a volunteer application by clicking here and then choose Create Account.
URL:https://mowtampa.org/event/volunteer-orientation-virtual/2024-04-19/
END:VEVENT
END:VCALENDAR