BEGIN:VCALENDAR
VERSION:2.0
PRODID:-//Meals On Wheels of Tampa - ECPv6.15.20//NONSGML v1.0//EN
CALSCALE:GREGORIAN
METHOD:PUBLISH
X-WR-CALNAME:Meals On Wheels of Tampa
X-ORIGINAL-URL:https://mowtampa.org
X-WR-CALDESC:Events for Meals On Wheels of Tampa
REFRESH-INTERVAL;VALUE=DURATION:PT1H
X-Robots-Tag:noindex
X-PUBLISHED-TTL:PT1H
BEGIN:VTIMEZONE
TZID:America/New_York
BEGIN:DAYLIGHT
TZOFFSETFROM:-0500
TZOFFSETTO:-0400
TZNAME:EDT
DTSTART:20230312T070000
END:DAYLIGHT
BEGIN:STANDARD
TZOFFSETFROM:-0400
TZOFFSETTO:-0500
TZNAME:EST
DTSTART:20231105T060000
END:STANDARD
BEGIN:DAYLIGHT
TZOFFSETFROM:-0500
TZOFFSETTO:-0400
TZNAME:EDT
DTSTART:20240310T070000
END:DAYLIGHT
BEGIN:STANDARD
TZOFFSETFROM:-0400
TZOFFSETTO:-0500
TZNAME:EST
DTSTART:20241103T060000
END:STANDARD
BEGIN:DAYLIGHT
TZOFFSETFROM:-0500
TZOFFSETTO:-0400
TZNAME:EDT
DTSTART:20250309T070000
END:DAYLIGHT
BEGIN:STANDARD
TZOFFSETFROM:-0400
TZOFFSETTO:-0500
TZNAME:EST
DTSTART:20251102T060000
END:STANDARD
END:VTIMEZONE
BEGIN:VEVENT
DTSTART;TZID=America/New_York:20240503T110000
DTEND;TZID=America/New_York:20240503T120000
DTSTAMP:20260420T032552
CREATED:20240202T174931Z
LAST-MODIFIED:20240202T175417Z
UID:10000606-1714734000-1714737600@mowtampa.org
SUMMARY:Volunteer Orientation – Virtual
DESCRIPTION:Volunteer Orientation – Virtual\nAll new volunteers are required to participate in a Volunteer Orientation before they can sign up to deliver a route. \nVirtual orientations will be held over Zoom. It is a requirement that your camera be turned “on” during session. \nRegistration is required. Please complete a volunteer application by clicking here and then choose Create Account.
URL:https://mowtampa.org/event/volunteer-orientation-virtual/2024-05-03/
END:VEVENT
BEGIN:VEVENT
DTSTART;TZID=America/New_York:20240501T110000
DTEND;TZID=America/New_York:20240501T120000
DTSTAMP:20260420T032552
CREATED:20240202T174044Z
LAST-MODIFIED:20240202T174044Z
UID:10000343-1714561200-1714564800@mowtampa.org
SUMMARY:Volunteer Orientation – In Person
DESCRIPTION:Volunteer Orientation – In Person\nAll new volunteers are required to participate in a Volunteer Orientation before they can sign up to deliver a route. \nIn person orientations are held at the Meals On Wheels of Tampa office located at 5320 North Boulevard Tampa FL 33603. \nRegistration is required. Please complete a volunteer application by clicking here and then choose Create Account.
URL:https://mowtampa.org/event/volunteer-orientation-in-person/2024-05-01/
END:VEVENT
BEGIN:VEVENT
DTSTART;TZID=America/New_York:20240430T120000
DTEND;TZID=America/New_York:20240430T130000
DTSTAMP:20260420T032552
CREATED:20240202T173403Z
LAST-MODIFIED:20240202T173403Z
UID:10000332-1714478400-1714482000@mowtampa.org
SUMMARY:Nourish At Noon
DESCRIPTION:Nourish At Noon (NAN) Luncheon\nThis is a great opportunity for you to come tour the kitchen\, enjoy one of our meals and hear our story. \nRegistration is required. For more information\, click here or call (813) 238-8410.
URL:https://mowtampa.org/event/nourish-at-noon-31/
END:VEVENT
BEGIN:VEVENT
DTSTART;TZID=America/New_York:20240426T110000
DTEND;TZID=America/New_York:20240426T120000
DTSTAMP:20260420T032552
CREATED:20240202T174931Z
LAST-MODIFIED:20240202T175417Z
UID:10000605-1714129200-1714132800@mowtampa.org
SUMMARY:Volunteer Orientation – Virtual
DESCRIPTION:Volunteer Orientation – Virtual\nAll new volunteers are required to participate in a Volunteer Orientation before they can sign up to deliver a route. \nVirtual orientations will be held over Zoom. It is a requirement that your camera be turned “on” during session. \nRegistration is required. Please complete a volunteer application by clicking here and then choose Create Account.
URL:https://mowtampa.org/event/volunteer-orientation-virtual/2024-04-26/
END:VEVENT
BEGIN:VEVENT
DTSTART;TZID=America/New_York:20240424T110000
DTEND;TZID=America/New_York:20240424T120000
DTSTAMP:20260420T032552
CREATED:20240202T174044Z
LAST-MODIFIED:20240202T174044Z
UID:10000342-1713956400-1713960000@mowtampa.org
SUMMARY:Volunteer Orientation – In Person
DESCRIPTION:Volunteer Orientation – In Person\nAll new volunteers are required to participate in a Volunteer Orientation before they can sign up to deliver a route. \nIn person orientations are held at the Meals On Wheels of Tampa office located at 5320 North Boulevard Tampa FL 33603. \nRegistration is required. Please complete a volunteer application by clicking here and then choose Create Account.
URL:https://mowtampa.org/event/volunteer-orientation-in-person/2024-04-24/
END:VEVENT
BEGIN:VEVENT
DTSTART;TZID=America/New_York:20240420T093000
DTEND;TZID=America/New_York:20240420T110000
DTSTAMP:20260420T032552
CREATED:20230224T195952Z
LAST-MODIFIED:20250107T231849Z
UID:10000949-1713605400-1713610800@mowtampa.org
SUMMARY:Produce On Wheels (POW!) Delivery
DESCRIPTION:Produce On Wheels (POW!) Delivery\nVolunteers deliver bags of fresh produce to all program recipients. \nVolunteers must complete an application and attend an orientation prior to delivering. \nRoutes must be signed up for in advance. Routes take 60-90 minutes to complete. \nFor more information\, click here or call (813) 238-8410.
URL:https://mowtampa.org/event/produce-on-wheels-pow-delivery-5/2024-04-20/
END:VEVENT
BEGIN:VEVENT
DTSTART;TZID=America/New_York:20240419T110000
DTEND;TZID=America/New_York:20240419T120000
DTSTAMP:20260420T032552
CREATED:20240202T174931Z
LAST-MODIFIED:20240202T175417Z
UID:10000604-1713524400-1713528000@mowtampa.org
SUMMARY:Volunteer Orientation – Virtual
DESCRIPTION:Volunteer Orientation – Virtual\nAll new volunteers are required to participate in a Volunteer Orientation before they can sign up to deliver a route. \nVirtual orientations will be held over Zoom. It is a requirement that your camera be turned “on” during session. \nRegistration is required. Please complete a volunteer application by clicking here and then choose Create Account.
URL:https://mowtampa.org/event/volunteer-orientation-virtual/2024-04-19/
END:VEVENT
BEGIN:VEVENT
DTSTART;TZID=America/New_York:20240418T120000
DTEND;TZID=America/New_York:20240418T130000
DTSTAMP:20260420T032552
CREATED:20240202T173320Z
LAST-MODIFIED:20240202T173320Z
UID:10000331-1713441600-1713445200@mowtampa.org
SUMMARY:Nourish At Noon
DESCRIPTION:Nourish At Noon (NAN) Luncheon\nThis is a great opportunity for you to come tour the kitchen\, enjoy one of our meals and hear our story. \nRegistration is required. For more information\, click here or call (813) 238-8410.
URL:https://mowtampa.org/event/nourish-at-noon-30/
END:VEVENT
BEGIN:VEVENT
DTSTART;TZID=America/New_York:20240417T110000
DTEND;TZID=America/New_York:20240417T120000
DTSTAMP:20260420T032552
CREATED:20240202T174044Z
LAST-MODIFIED:20240202T174044Z
UID:10000341-1713351600-1713355200@mowtampa.org
SUMMARY:Volunteer Orientation – In Person
DESCRIPTION:Volunteer Orientation – In Person\nAll new volunteers are required to participate in a Volunteer Orientation before they can sign up to deliver a route. \nIn person orientations are held at the Meals On Wheels of Tampa office located at 5320 North Boulevard Tampa FL 33603. \nRegistration is required. Please complete a volunteer application by clicking here and then choose Create Account.
URL:https://mowtampa.org/event/volunteer-orientation-in-person/2024-04-17/
END:VEVENT
BEGIN:VEVENT
DTSTART;TZID=America/New_York:20240412T110000
DTEND;TZID=America/New_York:20240412T120000
DTSTAMP:20260420T032552
CREATED:20240202T174931Z
LAST-MODIFIED:20240202T175417Z
UID:10000603-1712919600-1712923200@mowtampa.org
SUMMARY:Volunteer Orientation – Virtual
DESCRIPTION:Volunteer Orientation – Virtual\nAll new volunteers are required to participate in a Volunteer Orientation before they can sign up to deliver a route. \nVirtual orientations will be held over Zoom. It is a requirement that your camera be turned “on” during session. \nRegistration is required. Please complete a volunteer application by clicking here and then choose Create Account.
URL:https://mowtampa.org/event/volunteer-orientation-virtual/2024-04-12/
END:VEVENT
BEGIN:VEVENT
DTSTART;TZID=America/New_York:20240410T110000
DTEND;TZID=America/New_York:20240410T120000
DTSTAMP:20260420T032552
CREATED:20240202T174044Z
LAST-MODIFIED:20240202T174044Z
UID:10000340-1712746800-1712750400@mowtampa.org
SUMMARY:Volunteer Orientation – In Person
DESCRIPTION:Volunteer Orientation – In Person\nAll new volunteers are required to participate in a Volunteer Orientation before they can sign up to deliver a route. \nIn person orientations are held at the Meals On Wheels of Tampa office located at 5320 North Boulevard Tampa FL 33603. \nRegistration is required. Please complete a volunteer application by clicking here and then choose Create Account.
URL:https://mowtampa.org/event/volunteer-orientation-in-person/2024-04-10/
END:VEVENT
BEGIN:VEVENT
DTSTART;TZID=America/New_York:20240409T173000
DTEND;TZID=America/New_York:20240409T183000
DTSTAMP:20260420T032552
CREATED:20240809T221017Z
LAST-MODIFIED:20240809T221017Z
UID:10000890-1712683800-1712687400@mowtampa.org
SUMMARY:Ambassadors Meeting
DESCRIPTION:Ambassadors Meeting\nMeeting of young professionals (ages of 21-39) who work together to promote and support the mission of Meals On Wheels of Tampa. \nFor more information\, click here. \n 
URL:https://mowtampa.org/event/ambassadors-meeting/
END:VEVENT
BEGIN:VEVENT
DTSTART;TZID=America/New_York:20240405T110000
DTEND;TZID=America/New_York:20240405T120000
DTSTAMP:20260420T032552
CREATED:20240202T174931Z
LAST-MODIFIED:20240202T175417Z
UID:10000602-1712314800-1712318400@mowtampa.org
SUMMARY:Volunteer Orientation – Virtual
DESCRIPTION:Volunteer Orientation – Virtual\nAll new volunteers are required to participate in a Volunteer Orientation before they can sign up to deliver a route. \nVirtual orientations will be held over Zoom. It is a requirement that your camera be turned “on” during session. \nRegistration is required. Please complete a volunteer application by clicking here and then choose Create Account.
URL:https://mowtampa.org/event/volunteer-orientation-virtual/2024-04-05/
END:VEVENT
BEGIN:VEVENT
DTSTART;TZID=America/New_York:20240403T110000
DTEND;TZID=America/New_York:20240403T120000
DTSTAMP:20260420T032552
CREATED:20240202T174044Z
LAST-MODIFIED:20240202T174044Z
UID:10000339-1712142000-1712145600@mowtampa.org
SUMMARY:Volunteer Orientation – In Person
DESCRIPTION:Volunteer Orientation – In Person\nAll new volunteers are required to participate in a Volunteer Orientation before they can sign up to deliver a route. \nIn person orientations are held at the Meals On Wheels of Tampa office located at 5320 North Boulevard Tampa FL 33603. \nRegistration is required. Please complete a volunteer application by clicking here and then choose Create Account.
URL:https://mowtampa.org/event/volunteer-orientation-in-person/2024-04-03/
END:VEVENT
BEGIN:VEVENT
DTSTART;TZID=America/New_York:20240402T120000
DTEND;TZID=America/New_York:20240402T130000
DTSTAMP:20260420T032552
CREATED:20240202T173248Z
LAST-MODIFIED:20240202T173248Z
UID:10000330-1712059200-1712062800@mowtampa.org
SUMMARY:Nourish At Noon
DESCRIPTION:Nourish At Noon (NAN) Luncheon\nThis is a great opportunity for you to come tour the kitchen\, enjoy one of our meals and hear our story. \nRegistration is required. For more information\, click here or call (813) 238-8410.
URL:https://mowtampa.org/event/nourish-at-noon-29/
END:VEVENT
BEGIN:VEVENT
DTSTART;TZID=America/New_York:20240329T110000
DTEND;TZID=America/New_York:20240329T120000
DTSTAMP:20260420T032552
CREATED:20240202T174931Z
LAST-MODIFIED:20240202T175417Z
UID:10000601-1711710000-1711713600@mowtampa.org
SUMMARY:Volunteer Orientation – Virtual
DESCRIPTION:Volunteer Orientation – Virtual\nAll new volunteers are required to participate in a Volunteer Orientation before they can sign up to deliver a route. \nVirtual orientations will be held over Zoom. It is a requirement that your camera be turned “on” during session. \nRegistration is required. Please complete a volunteer application by clicking here and then choose Create Account.
URL:https://mowtampa.org/event/volunteer-orientation-virtual/2024-03-29/
END:VEVENT
BEGIN:VEVENT
DTSTART;VALUE=DATE:20240329
DTEND;VALUE=DATE:20240330
DTSTAMP:20260420T032552
CREATED:20240202T180418Z
LAST-MODIFIED:20240202T180418Z
UID:10000860-1711670400-1711756799@mowtampa.org
SUMMARY:Office Closed
DESCRIPTION:The Meals On Wheels of Tampa administrative offices will be closed in observance of Good Friday.
URL:https://mowtampa.org/event/office-closed-9/
END:VEVENT
BEGIN:VEVENT
DTSTART;TZID=America/New_York:20240327T110000
DTEND;TZID=America/New_York:20240327T120000
DTSTAMP:20260420T032552
CREATED:20240202T174044Z
LAST-MODIFIED:20240202T174044Z
UID:10000338-1711537200-1711540800@mowtampa.org
SUMMARY:Volunteer Orientation – In Person
DESCRIPTION:Volunteer Orientation – In Person\nAll new volunteers are required to participate in a Volunteer Orientation before they can sign up to deliver a route. \nIn person orientations are held at the Meals On Wheels of Tampa office located at 5320 North Boulevard Tampa FL 33603. \nRegistration is required. Please complete a volunteer application by clicking here and then choose Create Account.
URL:https://mowtampa.org/event/volunteer-orientation-in-person/2024-03-27/
END:VEVENT
BEGIN:VEVENT
DTSTART;TZID=America/New_York:20240322T110000
DTEND;TZID=America/New_York:20240322T120000
DTSTAMP:20260420T032552
CREATED:20240202T174931Z
LAST-MODIFIED:20240202T175417Z
UID:10000600-1711105200-1711108800@mowtampa.org
SUMMARY:Volunteer Orientation – Virtual
DESCRIPTION:Volunteer Orientation – Virtual\nAll new volunteers are required to participate in a Volunteer Orientation before they can sign up to deliver a route. \nVirtual orientations will be held over Zoom. It is a requirement that your camera be turned “on” during session. \nRegistration is required. Please complete a volunteer application by clicking here and then choose Create Account.
URL:https://mowtampa.org/event/volunteer-orientation-virtual/2024-03-22/
END:VEVENT
BEGIN:VEVENT
DTSTART;TZID=America/New_York:20240321T120000
DTEND;TZID=America/New_York:20240321T130000
DTSTAMP:20260420T032552
CREATED:20240202T173202Z
LAST-MODIFIED:20240202T173202Z
UID:10000329-1711022400-1711026000@mowtampa.org
SUMMARY:Nourish At Noon
DESCRIPTION:Nourish At Noon (NAN) Luncheon\nThis is a great opportunity for you to come tour the kitchen\, enjoy one of our meals and hear our story. \nRegistration is required. For more information\, click here or call (813) 238-8410.
URL:https://mowtampa.org/event/nourish-at-noon-28/
END:VEVENT
BEGIN:VEVENT
DTSTART;TZID=America/New_York:20240320T110000
DTEND;TZID=America/New_York:20240320T120000
DTSTAMP:20260420T032552
CREATED:20240202T174044Z
LAST-MODIFIED:20240202T174044Z
UID:10000337-1710932400-1710936000@mowtampa.org
SUMMARY:Volunteer Orientation – In Person
DESCRIPTION:Volunteer Orientation – In Person\nAll new volunteers are required to participate in a Volunteer Orientation before they can sign up to deliver a route. \nIn person orientations are held at the Meals On Wheels of Tampa office located at 5320 North Boulevard Tampa FL 33603. \nRegistration is required. Please complete a volunteer application by clicking here and then choose Create Account.
URL:https://mowtampa.org/event/volunteer-orientation-in-person/2024-03-20/
END:VEVENT
BEGIN:VEVENT
DTSTART;TZID=America/New_York:20240316T093000
DTEND;TZID=America/New_York:20240316T110000
DTSTAMP:20260420T032552
CREATED:20230224T195854Z
LAST-MODIFIED:20250107T231709Z
UID:10000933-1710581400-1710586800@mowtampa.org
SUMMARY:Produce On Wheels (POW!) Delivery
DESCRIPTION:Produce On Wheels (POW!) Delivery\nVolunteers deliver bags of fresh produce to all program recipients. \nVolunteers must complete an application and attend an orientation prior to delivering. \nRoutes must be signed up for in advance. Routes take 60-90 minutes to complete. \nFor more information\, click here or call (813) 238-8410.
URL:https://mowtampa.org/event/produce-on-wheels-pow-delivery-4/2024-03-16/
END:VEVENT
BEGIN:VEVENT
DTSTART;TZID=America/New_York:20240315T110000
DTEND;TZID=America/New_York:20240315T120000
DTSTAMP:20260420T032552
CREATED:20240202T174931Z
LAST-MODIFIED:20240202T175417Z
UID:10000599-1710500400-1710504000@mowtampa.org
SUMMARY:Volunteer Orientation – Virtual
DESCRIPTION:Volunteer Orientation – Virtual\nAll new volunteers are required to participate in a Volunteer Orientation before they can sign up to deliver a route. \nVirtual orientations will be held over Zoom. It is a requirement that your camera be turned “on” during session. \nRegistration is required. Please complete a volunteer application by clicking here and then choose Create Account.
URL:https://mowtampa.org/event/volunteer-orientation-virtual/2024-03-15/
END:VEVENT
BEGIN:VEVENT
DTSTART;TZID=America/New_York:20240313T110000
DTEND;TZID=America/New_York:20240313T120000
DTSTAMP:20260420T032552
CREATED:20240202T174044Z
LAST-MODIFIED:20240202T174044Z
UID:10000336-1710327600-1710331200@mowtampa.org
SUMMARY:Volunteer Orientation – In Person
DESCRIPTION:Volunteer Orientation – In Person\nAll new volunteers are required to participate in a Volunteer Orientation before they can sign up to deliver a route. \nIn person orientations are held at the Meals On Wheels of Tampa office located at 5320 North Boulevard Tampa FL 33603. \nRegistration is required. Please complete a volunteer application by clicking here and then choose Create Account.
URL:https://mowtampa.org/event/volunteer-orientation-in-person/2024-03-13/
END:VEVENT
BEGIN:VEVENT
DTSTART;TZID=America/New_York:20240308T110000
DTEND;TZID=America/New_York:20240308T120000
DTSTAMP:20260420T032552
CREATED:20240202T174931Z
LAST-MODIFIED:20240202T175417Z
UID:10000598-1709895600-1709899200@mowtampa.org
SUMMARY:Volunteer Orientation – Virtual
DESCRIPTION:Volunteer Orientation – Virtual\nAll new volunteers are required to participate in a Volunteer Orientation before they can sign up to deliver a route. \nVirtual orientations will be held over Zoom. It is a requirement that your camera be turned “on” during session. \nRegistration is required. Please complete a volunteer application by clicking here and then choose Create Account.
URL:https://mowtampa.org/event/volunteer-orientation-virtual/2024-03-08/
END:VEVENT
BEGIN:VEVENT
DTSTART;TZID=America/New_York:20240306T110000
DTEND;TZID=America/New_York:20240306T120000
DTSTAMP:20260420T032552
CREATED:20240202T174044Z
LAST-MODIFIED:20240202T174044Z
UID:10000335-1709722800-1709726400@mowtampa.org
SUMMARY:Volunteer Orientation – In Person
DESCRIPTION:Volunteer Orientation – In Person\nAll new volunteers are required to participate in a Volunteer Orientation before they can sign up to deliver a route. \nIn person orientations are held at the Meals On Wheels of Tampa office located at 5320 North Boulevard Tampa FL 33603. \nRegistration is required. Please complete a volunteer application by clicking here and then choose Create Account.
URL:https://mowtampa.org/event/volunteer-orientation-in-person/2024-03-06/
END:VEVENT
BEGIN:VEVENT
DTSTART;TZID=America/New_York:20240301T110000
DTEND;TZID=America/New_York:20240301T120000
DTSTAMP:20260420T032552
CREATED:20240202T174931Z
LAST-MODIFIED:20240202T175417Z
UID:10000597-1709290800-1709294400@mowtampa.org
SUMMARY:Volunteer Orientation – Virtual
DESCRIPTION:Volunteer Orientation – Virtual\nAll new volunteers are required to participate in a Volunteer Orientation before they can sign up to deliver a route. \nVirtual orientations will be held over Zoom. It is a requirement that your camera be turned “on” during session. \nRegistration is required. Please complete a volunteer application by clicking here and then choose Create Account.
URL:https://mowtampa.org/event/volunteer-orientation-virtual/2024-03-01/
END:VEVENT
BEGIN:VEVENT
DTSTART;TZID=America/New_York:20240229T120000
DTEND;TZID=America/New_York:20240229T130000
DTSTAMP:20260420T032552
CREATED:20240202T172955Z
LAST-MODIFIED:20240202T172955Z
UID:10000328-1709208000-1709211600@mowtampa.org
SUMMARY:Nourish At Noon
DESCRIPTION:Nourish At Noon (NAN) Luncheon\nThis is a great opportunity for you to come tour the kitchen\, enjoy one of our meals and hear our story. \nRegistration is required. For more information\, click here or call (813) 238-8410.
URL:https://mowtampa.org/event/nourish-at-noon-27/
END:VEVENT
BEGIN:VEVENT
DTSTART;TZID=America/New_York:20240228T110000
DTEND;TZID=America/New_York:20240228T120000
DTSTAMP:20260420T032552
CREATED:20240202T174044Z
LAST-MODIFIED:20240202T174044Z
UID:10000334-1709118000-1709121600@mowtampa.org
SUMMARY:Volunteer Orientation – In Person
DESCRIPTION:Volunteer Orientation – In Person\nAll new volunteers are required to participate in a Volunteer Orientation before they can sign up to deliver a route. \nIn person orientations are held at the Meals On Wheels of Tampa office located at 5320 North Boulevard Tampa FL 33603. \nRegistration is required. Please complete a volunteer application by clicking here and then choose Create Account.
URL:https://mowtampa.org/event/volunteer-orientation-in-person/2024-02-28/
END:VEVENT
BEGIN:VEVENT
DTSTART;TZID=America/New_York:20240223T110000
DTEND;TZID=America/New_York:20240223T120000
DTSTAMP:20260420T032552
CREATED:20230224T211056Z
LAST-MODIFIED:20230224T211211Z
UID:10000299-1708686000-1708689600@mowtampa.org
SUMMARY:Volunteer Orientation - Virtual
DESCRIPTION:Volunteer Orientation – Virtual\nAll new volunteers are required to participate in a Volunteer Orientation before they can sign up to deliver a route. \nVirtual orientations will be held over Zoom. It is a requirement that your camera be turned “on” during session. \nRegistration is required. Please complete a volunteer application by clicking here and then choose Create Account.
URL:https://mowtampa.org/event/virtual-volunteer-orientation/2024-02-23/
END:VEVENT
END:VCALENDAR