BEGIN:VCALENDAR
VERSION:2.0
PRODID:-//Meals On Wheels of Tampa - ECPv6.15.20//NONSGML v1.0//EN
CALSCALE:GREGORIAN
METHOD:PUBLISH
X-WR-CALNAME:Meals On Wheels of Tampa
X-ORIGINAL-URL:https://mowtampa.org
X-WR-CALDESC:Events for Meals On Wheels of Tampa
REFRESH-INTERVAL;VALUE=DURATION:PT1H
X-Robots-Tag:noindex
X-PUBLISHED-TTL:PT1H
BEGIN:VTIMEZONE
TZID:America/New_York
BEGIN:DAYLIGHT
TZOFFSETFROM:-0500
TZOFFSETTO:-0400
TZNAME:EDT
DTSTART:20180311T070000
END:DAYLIGHT
BEGIN:STANDARD
TZOFFSETFROM:-0400
TZOFFSETTO:-0500
TZNAME:EST
DTSTART:20181104T060000
END:STANDARD
BEGIN:DAYLIGHT
TZOFFSETFROM:-0500
TZOFFSETTO:-0400
TZNAME:EDT
DTSTART:20190310T070000
END:DAYLIGHT
BEGIN:STANDARD
TZOFFSETFROM:-0400
TZOFFSETTO:-0500
TZNAME:EST
DTSTART:20191103T060000
END:STANDARD
BEGIN:DAYLIGHT
TZOFFSETFROM:-0500
TZOFFSETTO:-0400
TZNAME:EDT
DTSTART:20200308T070000
END:DAYLIGHT
BEGIN:STANDARD
TZOFFSETFROM:-0400
TZOFFSETTO:-0500
TZNAME:EST
DTSTART:20201101T060000
END:STANDARD
END:VTIMEZONE
BEGIN:VTIMEZONE
TZID:UTC
BEGIN:STANDARD
TZOFFSETFROM:+0000
TZOFFSETTO:+0000
TZNAME:UTC
DTSTART:20160101T000000
END:STANDARD
END:VTIMEZONE
BEGIN:VEVENT
DTSTART;TZID=America/New_York:20190606T120000
DTEND;TZID=America/New_York:20190606T130000
DTSTAMP:20260422T175547
CREATED:20190521T171224Z
LAST-MODIFIED:20190521T171431Z
UID:10000018-1559822400-1559826000@mowtampa.org
SUMMARY:Nourish At Noon Community Lunch
DESCRIPTION:Come enjoy lunch while we share our mission. \nThis is a great opportunity for you to tour the kitchen\, enjoy one of our meals and hear our story. \nWhere: Meals On Wheels office\, 550 W. Hillsborough Ave \n\n\n\n\n\nWhen: Noon-1pm \nPlease RSVP by clicking here. 
URL:https://mowtampa.org/event/nourish-at-noon-community-lunch/2019-06-06/
END:VEVENT
BEGIN:VEVENT
DTSTART;VALUE=DATE:20190527
DTEND;VALUE=DATE:20190528
DTSTAMP:20260422T175547
CREATED:20190521T173608Z
LAST-MODIFIED:20190521T173608Z
UID:10000066-1558915200-1559001599@mowtampa.org
SUMMARY:CLOSED for holiday
DESCRIPTION:The Meals On Wheels of Tampa office is closed for the holiday.
URL:https://mowtampa.org/event/closed-for-holiday-2/
END:VEVENT
BEGIN:VEVENT
DTSTART;TZID=UTC:20171021T093000
DTEND;TZID=UTC:20171021T103000
DTSTAMP:20260422T175547
CREATED:20170712T202323Z
LAST-MODIFIED:20170712T202323Z
UID:10000004-1508578200-1508581800@mowtampa.org
SUMMARY:Produce On Wheels (POW!) Delivery
DESCRIPTION:Produce On Wheels (POW!)\nTo increase our senior and homebound recipient’s access to fresh produce\, a new program was developed\, free of charge to home delivered meal recipients\, called POW! (Produce On Wheels).  POW! launched in October of 2015 after a needs assessment revealed the true wants and needs of the senior and homebound neighbors we serve. \nPOW! deliveries are meant to provide 4-5 healthy snacks.  Bags might include: a head of lettuce\, a tomato\, green pepper\, 2 oranges\, and a banana. Each month\, recipients will receive an educational handout (offered in both english and spanish) in the bag that has information on produce safety\, easy recipes\, the health benefits of what’s in the bag\, tips on how to reduce waste\, and a comments section. \nVolunteers deliver the POW! bag of fresh fruits and veggies to all meal recipients on the 3rd Saturday of each month. Recipients must be home to receive the bag. \n“I just wanted to let you know what a great day it was to deliver produce.  Everyone was so glad to see us. They were so excited to get fresh fruit and veggies. POW made their day! Thank you for allowing me to be part of this very special day!” -Mona\, Volunteer.  Another volunteer recalled that her kids had a blast “delivering bags of smiles”. \n\n\n\n\nStep 1. Please make sure to fill out a Volunteer Application.\n(If you have not done so already) \n \n\nStep 2. Sign up to deliver fresh produce!\n(Click the date you wish to deliver below)\n \nDeliver POW! July 15\, 2017 \nDeliver POW! August 19\, 2017 \nDeliver POW! September 16\, 2017 \nDeliver POW! October 21\, 2017 \n*No POW! delivery in November\, instead volunteers will deliver baked goodies and cards to all recipients on Thursday\, November 23. Click here for more information. \n*No POW! delivery in December\, instead volunteers will deliver holiday gift bags to all recipients on Saturday\, December 16. Click here for more information. \nTo see a map of the routes\, please click here. \n  \n\n\nSave
URL:https://mowtampa.org/event/produce-wheels-pow-delivery-4/
LOCATION:Meals On Wheels of Tampa\, Inc.\, 550 W Hillsborough Avenue\, Tampa\, FL\, 33603\, United States
CATEGORIES:Produce On Wheels (POW!)
ORGANIZER;CN="Lauren Vance":MAILTO:l.vance@mowtampa.org
GEO:27.9957562;-82.4676813
X-APPLE-STRUCTURED-LOCATION;VALUE=URI;X-ADDRESS=Meals On Wheels of Tampa Inc. 550 W Hillsborough Avenue Tampa FL 33603 United States;X-APPLE-RADIUS=500;X-TITLE=550 W Hillsborough Avenue:geo:-82.4676813,27.9957562
END:VEVENT
BEGIN:VEVENT
DTSTART;TZID=UTC:20170916T093000
DTEND;TZID=UTC:20170916T103000
DTSTAMP:20260422T175547
CREATED:20170712T202231Z
LAST-MODIFIED:20170712T202231Z
UID:10000003-1505554200-1505557800@mowtampa.org
SUMMARY:Produce On Wheels (POW!) Delivery
DESCRIPTION:Produce On Wheels (POW!)\nTo increase our senior and homebound recipient’s access to fresh produce\, a new program was developed\, free of charge to home delivered meal recipients\, called POW! (Produce On Wheels).  POW! launched in October of 2015 after a needs assessment revealed the true wants and needs of the senior and homebound neighbors we serve. \nPOW! deliveries are meant to provide 4-5 healthy snacks.  Bags might include: a head of lettuce\, a tomato\, green pepper\, 2 oranges\, and a banana. Each month\, recipients will receive an educational handout (offered in both english and spanish) in the bag that has information on produce safety\, easy recipes\, the health benefits of what’s in the bag\, tips on how to reduce waste\, and a comments section. \nVolunteers deliver the POW! bag of fresh fruits and veggies to all meal recipients on the 3rd Saturday of each month. Recipients must be home to receive the bag. \n“I just wanted to let you know what a great day it was to deliver produce.  Everyone was so glad to see us. They were so excited to get fresh fruit and veggies. POW made their day! Thank you for allowing me to be part of this very special day!” -Mona\, Volunteer.  Another volunteer recalled that her kids had a blast “delivering bags of smiles”. \n\n\n\n\nStep 1. Please make sure to fill out a Volunteer Application.\n(If you have not done so already) \n \n\nStep 2. Sign up to deliver fresh produce!\n(Click the date you wish to deliver below)\n \nDeliver POW! July 15\, 2017 \nDeliver POW! August 19\, 2017 \nDeliver POW! September 16\, 2017 \nDeliver POW! October 21\, 2017 \n*No POW! delivery in November\, instead volunteers will deliver baked goodies and cards to all recipients on Thursday\, November 23. Click here for more information. \n*No POW! delivery in December\, instead volunteers will deliver holiday gift bags to all recipients on Saturday\, December 16. Click here for more information. \nTo see a map of the routes\, please click here. \n  \n\n\nSave
URL:https://mowtampa.org/event/produce-wheels-pow-delivery-3/
LOCATION:Meals On Wheels of Tampa\, Inc.\, 550 W Hillsborough Avenue\, Tampa\, FL\, 33603\, United States
CATEGORIES:Produce On Wheels (POW!)
ORGANIZER;CN="Lauren Vance":MAILTO:l.vance@mowtampa.org
GEO:27.9957562;-82.4676813
X-APPLE-STRUCTURED-LOCATION;VALUE=URI;X-ADDRESS=Meals On Wheels of Tampa Inc. 550 W Hillsborough Avenue Tampa FL 33603 United States;X-APPLE-RADIUS=500;X-TITLE=550 W Hillsborough Avenue:geo:-82.4676813,27.9957562
END:VEVENT
BEGIN:VEVENT
DTSTART;TZID=UTC:20170819T093000
DTEND;TZID=UTC:20170819T103000
DTSTAMP:20260422T175547
CREATED:20170712T202109Z
LAST-MODIFIED:20170712T202109Z
UID:10000002-1503135000-1503138600@mowtampa.org
SUMMARY:Produce On Wheels (POW!) Delivery
DESCRIPTION:Produce On Wheels (POW!)\nTo increase our senior and homebound recipient’s access to fresh produce\, a new program was developed\, free of charge to home delivered meal recipients\, called POW! (Produce On Wheels).  POW! launched in October of 2015 after a needs assessment revealed the true wants and needs of the senior and homebound neighbors we serve. \nPOW! deliveries are meant to provide 4-5 healthy snacks.  Bags might include: a head of lettuce\, a tomato\, green pepper\, 2 oranges\, and a banana. Each month\, recipients will receive an educational handout (offered in both english and spanish) in the bag that has information on produce safety\, easy recipes\, the health benefits of what’s in the bag\, tips on how to reduce waste\, and a comments section. \nVolunteers deliver the POW! bag of fresh fruits and veggies to all meal recipients on the 3rd Saturday of each month. Recipients must be home to receive the bag. \n“I just wanted to let you know what a great day it was to deliver produce.  Everyone was so glad to see us. They were so excited to get fresh fruit and veggies. POW made their day! Thank you for allowing me to be part of this very special day!” -Mona\, Volunteer.  Another volunteer recalled that her kids had a blast “delivering bags of smiles”. \n\n\n\n\nStep 1. Please make sure to fill out a Volunteer Application.\n(If you have not done so already) \n \n\nStep 2. Sign up to deliver fresh produce!\n(Click the date you wish to deliver below)\n \nDeliver POW! July 15\, 2017 \nDeliver POW! August 19\, 2017 \nDeliver POW! September 16\, 2017 \nDeliver POW! October 21\, 2017 \n*No POW! delivery in November\, instead volunteers will deliver baked goodies and cards to all recipients on Thursday\, November 23. Click here for more information. \n*No POW! delivery in December\, instead volunteers will deliver holiday gift bags to all recipients on Saturday\, December 16. Click here for more information. \nTo see a map of the routes\, please click here. \n  \n\n\nSave
URL:https://mowtampa.org/event/produce-wheels-pow-delivery-2/
CATEGORIES:Produce On Wheels (POW!)
ORGANIZER;CN="Lauren Vance":MAILTO:l.vance@mowtampa.org
END:VEVENT
BEGIN:VEVENT
DTSTART;TZID=UTC:20170715T093000
DTEND;TZID=UTC:20170715T103000
DTSTAMP:20260422T175547
CREATED:20170712T201403Z
LAST-MODIFIED:20170712T201403Z
UID:10000001-1500111000-1500114600@mowtampa.org
SUMMARY:Produce On Wheels (POW!) Delivery
DESCRIPTION:Produce On Wheels (POW!)\nTo increase our senior and homebound recipient’s access to fresh produce\, a new program was developed\, free of charge to home delivered meal recipients\, called POW! (Produce On Wheels).  POW! launched in October of 2015 after a needs assessment revealed the true wants and needs of the senior and homebound neighbors we serve. \nPOW! deliveries are meant to provide 4-5 healthy snacks.  Bags might include: a head of lettuce\, a tomato\, green pepper\, 2 oranges\, and a banana. Each month\, recipients will receive an educational handout (offered in both english and spanish) in the bag that has information on produce safety\, easy recipes\, the health benefits of what’s in the bag\, tips on how to reduce waste\, and a comments section. \nVolunteers deliver the POW! bag of fresh fruits and veggies to all meal recipients on the 3rd Saturday of each month. Recipients must be home to receive the bag. \n“I just wanted to let you know what a great day it was to deliver produce.  Everyone was so glad to see us. They were so excited to get fresh fruit and veggies. POW made their day! Thank you for allowing me to be part of this very special day!” -Mona\, Volunteer.  Another volunteer recalled that her kids had a blast “delivering bags of smiles”. \n\n\n\n\nStep 1. Please make sure to fill out a Volunteer Application.\n(If you have not done so already) \n \n\nStep 2. Sign up to deliver fresh produce!\n(Click the date you wish to deliver below)\n \nDeliver POW! July 15\, 2017 \nDeliver POW! August 19\, 2017 \nDeliver POW! September 16\, 2017 \nDeliver POW! October 21\, 2017 \n*No POW! delivery in November\, instead volunteers will deliver baked goodies and cards to all recipients on Thursday\, November 23. Click here for more information. \n*No POW! delivery in December\, instead volunteers will deliver holiday gift bags to all recipients on Saturday\, December 16. Click here for more information. \nTo see a map of the routes\, please click here. \n 
URL:https://mowtampa.org/event/produce-wheels-pow-delivery/
LOCATION:Meals On Wheels of Tampa\, Inc.\, 550 W Hillsborough Avenue\, Tampa\, FL\, 33603\, United States
ORGANIZER;CN="Lauren Vance":MAILTO:l.vance@mowtampa.org
GEO:27.9957562;-82.4676813
X-APPLE-STRUCTURED-LOCATION;VALUE=URI;X-ADDRESS=Meals On Wheels of Tampa Inc. 550 W Hillsborough Avenue Tampa FL 33603 United States;X-APPLE-RADIUS=500;X-TITLE=550 W Hillsborough Avenue:geo:-82.4676813,27.9957562
END:VEVENT
END:VCALENDAR