BEGIN:VCALENDAR
VERSION:2.0
PRODID:-//Meals On Wheels of Tampa - ECPv6.15.20//NONSGML v1.0//EN
CALSCALE:GREGORIAN
METHOD:PUBLISH
X-WR-CALNAME:Meals On Wheels of Tampa
X-ORIGINAL-URL:https://mowtampa.org
X-WR-CALDESC:Events for Meals On Wheels of Tampa
REFRESH-INTERVAL;VALUE=DURATION:PT1H
X-Robots-Tag:noindex
X-PUBLISHED-TTL:PT1H
BEGIN:VTIMEZONE
TZID:America/New_York
BEGIN:DAYLIGHT
TZOFFSETFROM:-0500
TZOFFSETTO:-0400
TZNAME:EDT
DTSTART:20220313T070000
END:DAYLIGHT
BEGIN:STANDARD
TZOFFSETFROM:-0400
TZOFFSETTO:-0500
TZNAME:EST
DTSTART:20221106T060000
END:STANDARD
BEGIN:DAYLIGHT
TZOFFSETFROM:-0500
TZOFFSETTO:-0400
TZNAME:EDT
DTSTART:20230312T070000
END:DAYLIGHT
BEGIN:STANDARD
TZOFFSETFROM:-0400
TZOFFSETTO:-0500
TZNAME:EST
DTSTART:20231105T060000
END:STANDARD
BEGIN:DAYLIGHT
TZOFFSETFROM:-0500
TZOFFSETTO:-0400
TZNAME:EDT
DTSTART:20240310T070000
END:DAYLIGHT
BEGIN:STANDARD
TZOFFSETFROM:-0400
TZOFFSETTO:-0500
TZNAME:EST
DTSTART:20241103T060000
END:STANDARD
END:VTIMEZONE
BEGIN:VEVENT
DTSTART;TZID=America/New_York:20230818T110000
DTEND;TZID=America/New_York:20230818T120000
DTSTAMP:20260420T220712
CREATED:20230224T211056Z
LAST-MODIFIED:20230224T211211Z
UID:10000272-1692356400-1692360000@mowtampa.org
SUMMARY:Volunteer Orientation - Virtual
DESCRIPTION:Volunteer Orientation – Virtual\nAll new volunteers are required to participate in a Volunteer Orientation before they can sign up to deliver a route. \nVirtual orientations will be held over Zoom. It is a requirement that your camera be turned “on” during session. \nRegistration is required. Please complete a volunteer application by clicking here and then choose Create Account.
URL:https://mowtampa.org/event/virtual-volunteer-orientation/2023-08-18/
END:VEVENT
BEGIN:VEVENT
DTSTART;TZID=America/New_York:20230816T110000
DTEND;TZID=America/New_York:20230816T120000
DTSTAMP:20260420T220712
CREATED:20230224T210440Z
LAST-MODIFIED:20230224T211457Z
UID:10000212-1692183600-1692187200@mowtampa.org
SUMMARY:Volunteer Orientation - In Person
DESCRIPTION:Volunteer Orientation – In Person\nAll new volunteers are required to participate in a Volunteer Orientation before they can sign up to deliver a route. \nIn person orientations are held at the Meals On Wheels of Tampa office located at 5320 North Boulevard Tampa FL 33603. \nRegistration is required. Please complete a volunteer application by clicking here and then choose Create Account.
URL:https://mowtampa.org/event/in-person-volunteer-orientation/2023-08-16/
END:VEVENT
BEGIN:VEVENT
DTSTART;TZID=America/New_York:20230811T110000
DTEND;TZID=America/New_York:20230811T120000
DTSTAMP:20260420T220712
CREATED:20230224T211056Z
LAST-MODIFIED:20230224T211211Z
UID:10000271-1691751600-1691755200@mowtampa.org
SUMMARY:Volunteer Orientation - Virtual
DESCRIPTION:Volunteer Orientation – Virtual\nAll new volunteers are required to participate in a Volunteer Orientation before they can sign up to deliver a route. \nVirtual orientations will be held over Zoom. It is a requirement that your camera be turned “on” during session. \nRegistration is required. Please complete a volunteer application by clicking here and then choose Create Account.
URL:https://mowtampa.org/event/virtual-volunteer-orientation/2023-08-11/
END:VEVENT
BEGIN:VEVENT
DTSTART;TZID=America/New_York:20230809T110000
DTEND;TZID=America/New_York:20230809T120000
DTSTAMP:20260420T220712
CREATED:20230224T210440Z
LAST-MODIFIED:20230224T211457Z
UID:10000211-1691578800-1691582400@mowtampa.org
SUMMARY:Volunteer Orientation - In Person
DESCRIPTION:Volunteer Orientation – In Person\nAll new volunteers are required to participate in a Volunteer Orientation before they can sign up to deliver a route. \nIn person orientations are held at the Meals On Wheels of Tampa office located at 5320 North Boulevard Tampa FL 33603. \nRegistration is required. Please complete a volunteer application by clicking here and then choose Create Account.
URL:https://mowtampa.org/event/in-person-volunteer-orientation/2023-08-09/
END:VEVENT
BEGIN:VEVENT
DTSTART;TZID=America/New_York:20230808T120000
DTEND;TZID=America/New_York:20230808T130000
DTSTAMP:20260420T220712
CREATED:20240202T171245Z
LAST-MODIFIED:20240202T171532Z
UID:10000314-1691496000-1691499600@mowtampa.org
SUMMARY:Nourish At Noon
DESCRIPTION:Nourish At Noon (NAN) Luncheon\n\n\nThis is a great opportunity for you to come tour the kitchen\, enjoy one of our meals and hear our story. \nRegistration is required. For more information\, click here or call (813) 238-8410.
URL:https://mowtampa.org/event/36745/
END:VEVENT
BEGIN:VEVENT
DTSTART;TZID=America/New_York:20230804T110000
DTEND;TZID=America/New_York:20230804T120000
DTSTAMP:20260420T220712
CREATED:20230224T211056Z
LAST-MODIFIED:20230224T211211Z
UID:10000270-1691146800-1691150400@mowtampa.org
SUMMARY:Volunteer Orientation - Virtual
DESCRIPTION:Volunteer Orientation – Virtual\nAll new volunteers are required to participate in a Volunteer Orientation before they can sign up to deliver a route. \nVirtual orientations will be held over Zoom. It is a requirement that your camera be turned “on” during session. \nRegistration is required. Please complete a volunteer application by clicking here and then choose Create Account.
URL:https://mowtampa.org/event/virtual-volunteer-orientation/2023-08-04/
END:VEVENT
BEGIN:VEVENT
DTSTART;TZID=America/New_York:20230802T110000
DTEND;TZID=America/New_York:20230802T120000
DTSTAMP:20260420T220712
CREATED:20230224T210440Z
LAST-MODIFIED:20230224T211457Z
UID:10000210-1690974000-1690977600@mowtampa.org
SUMMARY:Volunteer Orientation - In Person
DESCRIPTION:Volunteer Orientation – In Person\nAll new volunteers are required to participate in a Volunteer Orientation before they can sign up to deliver a route. \nIn person orientations are held at the Meals On Wheels of Tampa office located at 5320 North Boulevard Tampa FL 33603. \nRegistration is required. Please complete a volunteer application by clicking here and then choose Create Account.
URL:https://mowtampa.org/event/in-person-volunteer-orientation/2023-08-02/
END:VEVENT
BEGIN:VEVENT
DTSTART;TZID=America/New_York:20230728T110000
DTEND;TZID=America/New_York:20230728T120000
DTSTAMP:20260420T220712
CREATED:20230224T211056Z
LAST-MODIFIED:20230224T211211Z
UID:10000269-1690542000-1690545600@mowtampa.org
SUMMARY:Volunteer Orientation - Virtual
DESCRIPTION:Volunteer Orientation – Virtual\nAll new volunteers are required to participate in a Volunteer Orientation before they can sign up to deliver a route. \nVirtual orientations will be held over Zoom. It is a requirement that your camera be turned “on” during session. \nRegistration is required. Please complete a volunteer application by clicking here and then choose Create Account.
URL:https://mowtampa.org/event/virtual-volunteer-orientation/2023-07-28/
END:VEVENT
BEGIN:VEVENT
DTSTART;TZID=America/New_York:20230727T120000
DTEND;TZID=America/New_York:20230727T130000
DTSTAMP:20260420T220712
CREATED:20230224T205304Z
LAST-MODIFIED:20230224T205304Z
UID:10000179-1690459200-1690462800@mowtampa.org
SUMMARY:Nourish At Noon
DESCRIPTION:Nourish At Noon (NAN) Luncheon\nThis is a great opportunity for you to come tour the kitchen\, enjoy one of our meals and hear our story. \nRegistration is required. For more information\, click here or call (813) 238-8410.
URL:https://mowtampa.org/event/nourish-at-noon-13/
END:VEVENT
BEGIN:VEVENT
DTSTART;TZID=America/New_York:20230726T110000
DTEND;TZID=America/New_York:20230726T120000
DTSTAMP:20260420T220712
CREATED:20230224T210440Z
LAST-MODIFIED:20230224T211457Z
UID:10000209-1690369200-1690372800@mowtampa.org
SUMMARY:Volunteer Orientation - In Person
DESCRIPTION:Volunteer Orientation – In Person\nAll new volunteers are required to participate in a Volunteer Orientation before they can sign up to deliver a route. \nIn person orientations are held at the Meals On Wheels of Tampa office located at 5320 North Boulevard Tampa FL 33603. \nRegistration is required. Please complete a volunteer application by clicking here and then choose Create Account.
URL:https://mowtampa.org/event/in-person-volunteer-orientation/2023-07-26/
END:VEVENT
BEGIN:VEVENT
DTSTART;TZID=America/New_York:20230721T110000
DTEND;TZID=America/New_York:20230721T120000
DTSTAMP:20260420T220712
CREATED:20230224T211056Z
LAST-MODIFIED:20230224T211211Z
UID:10000268-1689937200-1689940800@mowtampa.org
SUMMARY:Volunteer Orientation - Virtual
DESCRIPTION:Volunteer Orientation – Virtual\nAll new volunteers are required to participate in a Volunteer Orientation before they can sign up to deliver a route. \nVirtual orientations will be held over Zoom. It is a requirement that your camera be turned “on” during session. \nRegistration is required. Please complete a volunteer application by clicking here and then choose Create Account.
URL:https://mowtampa.org/event/virtual-volunteer-orientation/2023-07-21/
END:VEVENT
BEGIN:VEVENT
DTSTART;TZID=America/New_York:20230719T110000
DTEND;TZID=America/New_York:20230719T120000
DTSTAMP:20260420T220712
CREATED:20230224T210440Z
LAST-MODIFIED:20230224T211457Z
UID:10000208-1689764400-1689768000@mowtampa.org
SUMMARY:Volunteer Orientation - In Person
DESCRIPTION:Volunteer Orientation – In Person\nAll new volunteers are required to participate in a Volunteer Orientation before they can sign up to deliver a route. \nIn person orientations are held at the Meals On Wheels of Tampa office located at 5320 North Boulevard Tampa FL 33603. \nRegistration is required. Please complete a volunteer application by clicking here and then choose Create Account.
URL:https://mowtampa.org/event/in-person-volunteer-orientation/2023-07-19/
END:VEVENT
BEGIN:VEVENT
DTSTART;TZID=America/New_York:20230718T103000
DTEND;TZID=America/New_York:20230718T113000
DTSTAMP:20260420T220712
CREATED:20230524T214057Z
LAST-MODIFIED:20230524T214222Z
UID:10000300-1689676200-1689679800@mowtampa.org
SUMMARY:MOW Tampa Riverview Pickup Site Ribbon Cutting
DESCRIPTION:Location: First Baptist Church of Riverview\, 8626 US Highway 301 S\, Riverview\, FL 33578. Join the Greater Riverview Chamber of Commerce in celebrating a Ribbon Cutting Ceremony for Meals On Wheels of Tampa at the Riverview Pickup Site! Enjoy lite bites and hear from Stephen King\, Executive Director\, and Yvette Rouse\, Volunteer Manager of Meals On Wheels Tampa which serves the Greater Tampa area including Riverview and Gibsonton.
URL:https://mowtampa.org/event/meals-on-wheels-of-tampa-riverview-pickup-ribbon-cutting/
END:VEVENT
BEGIN:VEVENT
DTSTART;TZID=America/New_York:20230715T093000
DTEND;TZID=America/New_York:20230715T230000
DTSTAMP:20260420T220712
CREATED:20230224T200140Z
LAST-MODIFIED:20250107T232403Z
UID:10000170-1689413400-1689462000@mowtampa.org
SUMMARY:Produce On Wheels (POW!) Delivery
DESCRIPTION:Produce On Wheels (POW!) Delivery\nVolunteers deliver bags of fresh produce to all program recipients. \nVolunteers must complete an application and attend an orientation prior to delivering. \nRoutes must be signed up for in advance. Routes take 60-90 minutes to complete. \nFor more information\, click here or call (813) 238-8410.
URL:https://mowtampa.org/event/produce-on-wheels-pow-delivery-7/2023-07-15/
END:VEVENT
BEGIN:VEVENT
DTSTART;TZID=America/New_York:20230714T110000
DTEND;TZID=America/New_York:20230714T120000
DTSTAMP:20260420T220712
CREATED:20230224T211056Z
LAST-MODIFIED:20230224T211211Z
UID:10000267-1689332400-1689336000@mowtampa.org
SUMMARY:Volunteer Orientation - Virtual
DESCRIPTION:Volunteer Orientation – Virtual\nAll new volunteers are required to participate in a Volunteer Orientation before they can sign up to deliver a route. \nVirtual orientations will be held over Zoom. It is a requirement that your camera be turned “on” during session. \nRegistration is required. Please complete a volunteer application by clicking here and then choose Create Account.
URL:https://mowtampa.org/event/virtual-volunteer-orientation/2023-07-14/
END:VEVENT
BEGIN:VEVENT
DTSTART;TZID=America/New_York:20230712T110000
DTEND;TZID=America/New_York:20230712T120000
DTSTAMP:20260420T220712
CREATED:20230224T210440Z
LAST-MODIFIED:20230224T211457Z
UID:10000207-1689159600-1689163200@mowtampa.org
SUMMARY:Volunteer Orientation - In Person
DESCRIPTION:Volunteer Orientation – In Person\nAll new volunteers are required to participate in a Volunteer Orientation before they can sign up to deliver a route. \nIn person orientations are held at the Meals On Wheels of Tampa office located at 5320 North Boulevard Tampa FL 33603. \nRegistration is required. Please complete a volunteer application by clicking here and then choose Create Account.
URL:https://mowtampa.org/event/in-person-volunteer-orientation/2023-07-12/
END:VEVENT
BEGIN:VEVENT
DTSTART;TZID=America/New_York:20230711T120000
DTEND;TZID=America/New_York:20230711T130000
DTSTAMP:20260420T220712
CREATED:20230224T205222Z
LAST-MODIFIED:20230224T205222Z
UID:10000178-1689076800-1689080400@mowtampa.org
SUMMARY:Nourish At Noon
DESCRIPTION:Nourish At Noon (NAN) Luncheon\nThis is a great opportunity for you to come tour the kitchen\, enjoy one of our meals and hear our story. \nRegistration is required. For more information\, click here or call (813) 238-8410.
URL:https://mowtampa.org/event/nourish-at-noon-12/
END:VEVENT
BEGIN:VEVENT
DTSTART;TZID=America/New_York:20230707T110000
DTEND;TZID=America/New_York:20230707T120000
DTSTAMP:20260420T220712
CREATED:20230224T211056Z
LAST-MODIFIED:20230224T211211Z
UID:10000266-1688727600-1688731200@mowtampa.org
SUMMARY:Volunteer Orientation - Virtual
DESCRIPTION:Volunteer Orientation – Virtual\nAll new volunteers are required to participate in a Volunteer Orientation before they can sign up to deliver a route. \nVirtual orientations will be held over Zoom. It is a requirement that your camera be turned “on” during session. \nRegistration is required. Please complete a volunteer application by clicking here and then choose Create Account.
URL:https://mowtampa.org/event/virtual-volunteer-orientation/2023-07-07/
END:VEVENT
BEGIN:VEVENT
DTSTART;TZID=America/New_York:20230705T110000
DTEND;TZID=America/New_York:20230705T120000
DTSTAMP:20260420T220712
CREATED:20230224T210440Z
LAST-MODIFIED:20230224T211457Z
UID:10000206-1688554800-1688558400@mowtampa.org
SUMMARY:Volunteer Orientation - In Person
DESCRIPTION:Volunteer Orientation – In Person\nAll new volunteers are required to participate in a Volunteer Orientation before they can sign up to deliver a route. \nIn person orientations are held at the Meals On Wheels of Tampa office located at 5320 North Boulevard Tampa FL 33603. \nRegistration is required. Please complete a volunteer application by clicking here and then choose Create Account.
URL:https://mowtampa.org/event/in-person-volunteer-orientation/2023-07-05/
END:VEVENT
BEGIN:VEVENT
DTSTART;VALUE=DATE:20230704
DTEND;VALUE=DATE:20230705
DTSTAMP:20260420T220712
CREATED:20230224T193713Z
LAST-MODIFIED:20230224T194951Z
UID:10000151-1688428800-1688515199@mowtampa.org
SUMMARY:Office Closed
DESCRIPTION:The Meals On Wheels of Tampa administrative offices will be closed in observance of the Independance Day Holiday.
URL:https://mowtampa.org/event/office-closed-3/
END:VEVENT
BEGIN:VEVENT
DTSTART;TZID=America/New_York:20230630T110000
DTEND;TZID=America/New_York:20230630T120000
DTSTAMP:20260420T220712
CREATED:20230224T211056Z
LAST-MODIFIED:20230224T211211Z
UID:10000265-1688122800-1688126400@mowtampa.org
SUMMARY:Volunteer Orientation - Virtual
DESCRIPTION:Volunteer Orientation – Virtual\nAll new volunteers are required to participate in a Volunteer Orientation before they can sign up to deliver a route. \nVirtual orientations will be held over Zoom. It is a requirement that your camera be turned “on” during session. \nRegistration is required. Please complete a volunteer application by clicking here and then choose Create Account.
URL:https://mowtampa.org/event/virtual-volunteer-orientation/2023-06-30/
END:VEVENT
BEGIN:VEVENT
DTSTART;TZID=America/New_York:20230628T110000
DTEND;TZID=America/New_York:20230628T120000
DTSTAMP:20260420T220712
CREATED:20230224T210440Z
LAST-MODIFIED:20230224T211457Z
UID:10000205-1687950000-1687953600@mowtampa.org
SUMMARY:Volunteer Orientation - In Person
DESCRIPTION:Volunteer Orientation – In Person\nAll new volunteers are required to participate in a Volunteer Orientation before they can sign up to deliver a route. \nIn person orientations are held at the Meals On Wheels of Tampa office located at 5320 North Boulevard Tampa FL 33603. \nRegistration is required. Please complete a volunteer application by clicking here and then choose Create Account.
URL:https://mowtampa.org/event/in-person-volunteer-orientation/2023-06-28/
END:VEVENT
BEGIN:VEVENT
DTSTART;TZID=America/New_York:20230623T110000
DTEND;TZID=America/New_York:20230623T120000
DTSTAMP:20260420T220712
CREATED:20230224T211056Z
LAST-MODIFIED:20230224T211211Z
UID:10000264-1687518000-1687521600@mowtampa.org
SUMMARY:Volunteer Orientation - Virtual
DESCRIPTION:Volunteer Orientation – Virtual\nAll new volunteers are required to participate in a Volunteer Orientation before they can sign up to deliver a route. \nVirtual orientations will be held over Zoom. It is a requirement that your camera be turned “on” during session. \nRegistration is required. Please complete a volunteer application by clicking here and then choose Create Account.
URL:https://mowtampa.org/event/virtual-volunteer-orientation/2023-06-23/
END:VEVENT
BEGIN:VEVENT
DTSTART;TZID=America/New_York:20230622T120000
DTEND;TZID=America/New_York:20230622T130000
DTSTAMP:20260420T220712
CREATED:20230224T205138Z
LAST-MODIFIED:20230224T205138Z
UID:10000177-1687435200-1687438800@mowtampa.org
SUMMARY:Nourish At Noon
DESCRIPTION:Nourish At Noon (NAN) Luncheon\nThis is a great opportunity for you to come tour the kitchen\, enjoy one of our meals and hear our story. \nRegistration is required. For more information\, click here or call (813) 238-8410.
URL:https://mowtampa.org/event/nourish-at-noon-11/
END:VEVENT
BEGIN:VEVENT
DTSTART;TZID=America/New_York:20230621T110000
DTEND;TZID=America/New_York:20230621T120000
DTSTAMP:20260420T220712
CREATED:20230224T210440Z
LAST-MODIFIED:20230224T211457Z
UID:10000204-1687345200-1687348800@mowtampa.org
SUMMARY:Volunteer Orientation - In Person
DESCRIPTION:Volunteer Orientation – In Person\nAll new volunteers are required to participate in a Volunteer Orientation before they can sign up to deliver a route. \nIn person orientations are held at the Meals On Wheels of Tampa office located at 5320 North Boulevard Tampa FL 33603. \nRegistration is required. Please complete a volunteer application by clicking here and then choose Create Account.
URL:https://mowtampa.org/event/in-person-volunteer-orientation/2023-06-21/
END:VEVENT
BEGIN:VEVENT
DTSTART;TZID=America/New_York:20230617T093000
DTEND;TZID=America/New_York:20230617T110000
DTSTAMP:20260420T220712
CREATED:20230224T201129Z
LAST-MODIFIED:20250107T232301Z
UID:10000174-1686994200-1686999600@mowtampa.org
SUMMARY:Hurricane Bag Delivery
DESCRIPTION:Hurricane Bag Delivery\nVolunteers deliver Hurricane Preparedness Bags to all program recipients. \nVolunteers must complete an application and attend an orientation prior to delivering. \nRoutes must be signed up for in advance. Routes take 60-90 minutes to complete. \nFor more information\, call (813) 238-8410.
URL:https://mowtampa.org/event/hurricane-preparedness-pack-delivery/2023-06-17/
END:VEVENT
BEGIN:VEVENT
DTSTART;TZID=America/New_York:20230616T110000
DTEND;TZID=America/New_York:20230616T120000
DTSTAMP:20260420T220712
CREATED:20230224T211056Z
LAST-MODIFIED:20230224T211211Z
UID:10000263-1686913200-1686916800@mowtampa.org
SUMMARY:Volunteer Orientation - Virtual
DESCRIPTION:Volunteer Orientation – Virtual\nAll new volunteers are required to participate in a Volunteer Orientation before they can sign up to deliver a route. \nVirtual orientations will be held over Zoom. It is a requirement that your camera be turned “on” during session. \nRegistration is required. Please complete a volunteer application by clicking here and then choose Create Account.
URL:https://mowtampa.org/event/virtual-volunteer-orientation/2023-06-16/
END:VEVENT
BEGIN:VEVENT
DTSTART;TZID=America/New_York:20230614T110000
DTEND;TZID=America/New_York:20230614T120000
DTSTAMP:20260420T220712
CREATED:20230224T210440Z
LAST-MODIFIED:20230224T211457Z
UID:10000203-1686740400-1686744000@mowtampa.org
SUMMARY:Volunteer Orientation - In Person
DESCRIPTION:Volunteer Orientation – In Person\nAll new volunteers are required to participate in a Volunteer Orientation before they can sign up to deliver a route. \nIn person orientations are held at the Meals On Wheels of Tampa office located at 5320 North Boulevard Tampa FL 33603. \nRegistration is required. Please complete a volunteer application by clicking here and then choose Create Account.
URL:https://mowtampa.org/event/in-person-volunteer-orientation/2023-06-14/
END:VEVENT
BEGIN:VEVENT
DTSTART;TZID=America/New_York:20230609T110000
DTEND;TZID=America/New_York:20230609T120000
DTSTAMP:20260420T220712
CREATED:20230224T211056Z
LAST-MODIFIED:20230224T211211Z
UID:10000262-1686308400-1686312000@mowtampa.org
SUMMARY:Volunteer Orientation - Virtual
DESCRIPTION:Volunteer Orientation – Virtual\nAll new volunteers are required to participate in a Volunteer Orientation before they can sign up to deliver a route. \nVirtual orientations will be held over Zoom. It is a requirement that your camera be turned “on” during session. \nRegistration is required. Please complete a volunteer application by clicking here and then choose Create Account.
URL:https://mowtampa.org/event/virtual-volunteer-orientation/2023-06-09/
END:VEVENT
BEGIN:VEVENT
DTSTART;TZID=America/New_York:20230607T110000
DTEND;TZID=America/New_York:20230607T120000
DTSTAMP:20260420T220712
CREATED:20230224T210440Z
LAST-MODIFIED:20230224T211457Z
UID:10000202-1686135600-1686139200@mowtampa.org
SUMMARY:Volunteer Orientation - In Person
DESCRIPTION:Volunteer Orientation – In Person\nAll new volunteers are required to participate in a Volunteer Orientation before they can sign up to deliver a route. \nIn person orientations are held at the Meals On Wheels of Tampa office located at 5320 North Boulevard Tampa FL 33603. \nRegistration is required. Please complete a volunteer application by clicking here and then choose Create Account.
URL:https://mowtampa.org/event/in-person-volunteer-orientation/2023-06-07/
END:VEVENT
END:VCALENDAR