BEGIN:VCALENDAR
VERSION:2.0
PRODID:-//Meals On Wheels of Tampa - ECPv6.15.20//NONSGML v1.0//EN
CALSCALE:GREGORIAN
METHOD:PUBLISH
X-WR-CALNAME:Meals On Wheels of Tampa
X-ORIGINAL-URL:https://mowtampa.org
X-WR-CALDESC:Events for Meals On Wheels of Tampa
REFRESH-INTERVAL;VALUE=DURATION:PT1H
X-Robots-Tag:noindex
X-PUBLISHED-TTL:PT1H
BEGIN:VTIMEZONE
TZID:America/New_York
BEGIN:DAYLIGHT
TZOFFSETFROM:-0500
TZOFFSETTO:-0400
TZNAME:EDT
DTSTART:20180311T070000
END:DAYLIGHT
BEGIN:STANDARD
TZOFFSETFROM:-0400
TZOFFSETTO:-0500
TZNAME:EST
DTSTART:20181104T060000
END:STANDARD
BEGIN:DAYLIGHT
TZOFFSETFROM:-0500
TZOFFSETTO:-0400
TZNAME:EDT
DTSTART:20190310T070000
END:DAYLIGHT
BEGIN:STANDARD
TZOFFSETFROM:-0400
TZOFFSETTO:-0500
TZNAME:EST
DTSTART:20191103T060000
END:STANDARD
BEGIN:DAYLIGHT
TZOFFSETFROM:-0500
TZOFFSETTO:-0400
TZNAME:EDT
DTSTART:20200308T070000
END:DAYLIGHT
BEGIN:STANDARD
TZOFFSETFROM:-0400
TZOFFSETTO:-0500
TZNAME:EST
DTSTART:20201101T060000
END:STANDARD
BEGIN:DAYLIGHT
TZOFFSETFROM:-0500
TZOFFSETTO:-0400
TZNAME:EDT
DTSTART:20210314T070000
END:DAYLIGHT
BEGIN:STANDARD
TZOFFSETFROM:-0400
TZOFFSETTO:-0500
TZNAME:EST
DTSTART:20211107T060000
END:STANDARD
END:VTIMEZONE
BEGIN:VEVENT
DTSTART;TZID=America/New_York:20200321T070000
DTEND;TZID=America/New_York:20200321T110000
DTSTAMP:20260421T192116
CREATED:20191220T152030Z
LAST-MODIFIED:20191220T152030Z
UID:10000078-1584774000-1584788400@mowtampa.org
SUMMARY:39th Annual Driscoll's Strawberry Classic
DESCRIPTION:39th Annual Driscoll’s Strawberry Classic\,  March 21st\, 2020. \nFor 39 years the Tampa Bay Runners have been putting on a race that benefits our charities\, our members and our community.  This years’ charity beneficiaries are Meals On Wheels of Tampa and Children’s Dream Fund. \nRaces include a 5k\, 10k or 15k Distance Challenge (5k+10k).
URL:https://mowtampa.org/event/39th-annual-driscolls-strawberry-classic/
END:VEVENT
BEGIN:VEVENT
DTSTART;TZID=America/New_York:20200320T110000
DTEND;TZID=America/New_York:20200320T114500
DTSTAMP:20260421T192116
CREATED:20200422T183321Z
LAST-MODIFIED:20200422T184318Z
UID:10000092-1584702000-1584704700@mowtampa.org
SUMMARY:Volunteer Orientation
DESCRIPTION:Volunteer Orientations take place every Friday. \nWhere: Meals On Wheels office\, 550 W. Hillsborough Ave \nWhen: 11am-11:45am \nPlease complete a volunteer application by clicking here and then choose Create Account.
URL:https://mowtampa.org/event/volunteer-orientation-2/2020-03-20/
LOCATION:Meals On Wheels of Tampa\, Inc.\, 550 W Hillsborough Avenue\, Tampa\, FL\, 33603\, United States
CATEGORIES:Volunteer Orientation
GEO:27.9957562;-82.4676813
X-APPLE-STRUCTURED-LOCATION;VALUE=URI;X-ADDRESS=Meals On Wheels of Tampa Inc. 550 W Hillsborough Avenue Tampa FL 33603 United States;X-APPLE-RADIUS=500;X-TITLE=550 W Hillsborough Avenue:geo:-82.4676813,27.9957562
END:VEVENT
BEGIN:VEVENT
DTSTART;TZID=America/New_York:20200313T110000
DTEND;TZID=America/New_York:20200313T114500
DTSTAMP:20260421T192116
CREATED:20200422T183321Z
LAST-MODIFIED:20200422T184318Z
UID:10000091-1584097200-1584099900@mowtampa.org
SUMMARY:Volunteer Orientation
DESCRIPTION:Volunteer Orientations take place every Friday. \nWhere: Meals On Wheels office\, 550 W. Hillsborough Ave \nWhen: 11am-11:45am \nPlease complete a volunteer application by clicking here and then choose Create Account.
URL:https://mowtampa.org/event/volunteer-orientation-2/2020-03-13/
LOCATION:Meals On Wheels of Tampa\, Inc.\, 550 W Hillsborough Avenue\, Tampa\, FL\, 33603\, United States
CATEGORIES:Volunteer Orientation
GEO:27.9957562;-82.4676813
X-APPLE-STRUCTURED-LOCATION;VALUE=URI;X-ADDRESS=Meals On Wheels of Tampa Inc. 550 W Hillsborough Avenue Tampa FL 33603 United States;X-APPLE-RADIUS=500;X-TITLE=550 W Hillsborough Avenue:geo:-82.4676813,27.9957562
END:VEVENT
BEGIN:VEVENT
DTSTART;TZID=America/New_York:20200306T110000
DTEND;TZID=America/New_York:20200306T114500
DTSTAMP:20260421T192116
CREATED:20200422T183321Z
LAST-MODIFIED:20200422T184318Z
UID:10000090-1583492400-1583495100@mowtampa.org
SUMMARY:Volunteer Orientation
DESCRIPTION:Volunteer Orientations take place every Friday. \nWhere: Meals On Wheels office\, 550 W. Hillsborough Ave \nWhen: 11am-11:45am \nPlease complete a volunteer application by clicking here and then choose Create Account.
URL:https://mowtampa.org/event/volunteer-orientation-2/2020-03-06/
LOCATION:Meals On Wheels of Tampa\, Inc.\, 550 W Hillsborough Avenue\, Tampa\, FL\, 33603\, United States
CATEGORIES:Volunteer Orientation
GEO:27.9957562;-82.4676813
X-APPLE-STRUCTURED-LOCATION;VALUE=URI;X-ADDRESS=Meals On Wheels of Tampa Inc. 550 W Hillsborough Avenue Tampa FL 33603 United States;X-APPLE-RADIUS=500;X-TITLE=550 W Hillsborough Avenue:geo:-82.4676813,27.9957562
END:VEVENT
BEGIN:VEVENT
DTSTART;TZID=America/New_York:20200228T110000
DTEND;TZID=America/New_York:20200228T114500
DTSTAMP:20260421T192116
CREATED:20200422T183321Z
LAST-MODIFIED:20200422T184318Z
UID:10000089-1582887600-1582890300@mowtampa.org
SUMMARY:Volunteer Orientation
DESCRIPTION:Volunteer Orientations take place every Friday. \nWhere: Meals On Wheels office\, 550 W. Hillsborough Ave \nWhen: 11am-11:45am \nPlease complete a volunteer application by clicking here and then choose Create Account.
URL:https://mowtampa.org/event/volunteer-orientation-2/2020-02-28/
LOCATION:Meals On Wheels of Tampa\, Inc.\, 550 W Hillsborough Avenue\, Tampa\, FL\, 33603\, United States
CATEGORIES:Volunteer Orientation
GEO:27.9957562;-82.4676813
X-APPLE-STRUCTURED-LOCATION;VALUE=URI;X-ADDRESS=Meals On Wheels of Tampa Inc. 550 W Hillsborough Avenue Tampa FL 33603 United States;X-APPLE-RADIUS=500;X-TITLE=550 W Hillsborough Avenue:geo:-82.4676813,27.9957562
END:VEVENT
BEGIN:VEVENT
DTSTART;TZID=America/New_York:20200221T110000
DTEND;TZID=America/New_York:20200221T114500
DTSTAMP:20260421T192116
CREATED:20200422T183321Z
LAST-MODIFIED:20200422T184318Z
UID:10000088-1582282800-1582285500@mowtampa.org
SUMMARY:Volunteer Orientation
DESCRIPTION:Volunteer Orientations take place every Friday. \nWhere: Meals On Wheels office\, 550 W. Hillsborough Ave \nWhen: 11am-11:45am \nPlease complete a volunteer application by clicking here and then choose Create Account.
URL:https://mowtampa.org/event/volunteer-orientation-2/2020-02-21/
LOCATION:Meals On Wheels of Tampa\, Inc.\, 550 W Hillsborough Avenue\, Tampa\, FL\, 33603\, United States
CATEGORIES:Volunteer Orientation
GEO:27.9957562;-82.4676813
X-APPLE-STRUCTURED-LOCATION;VALUE=URI;X-ADDRESS=Meals On Wheels of Tampa Inc. 550 W Hillsborough Avenue Tampa FL 33603 United States;X-APPLE-RADIUS=500;X-TITLE=550 W Hillsborough Avenue:geo:-82.4676813,27.9957562
END:VEVENT
BEGIN:VEVENT
DTSTART;TZID=America/New_York:20200214T110000
DTEND;TZID=America/New_York:20200214T114500
DTSTAMP:20260421T192116
CREATED:20200422T183321Z
LAST-MODIFIED:20200422T184318Z
UID:10000087-1581678000-1581680700@mowtampa.org
SUMMARY:Volunteer Orientation
DESCRIPTION:Volunteer Orientations take place every Friday. \nWhere: Meals On Wheels office\, 550 W. Hillsborough Ave \nWhen: 11am-11:45am \nPlease complete a volunteer application by clicking here and then choose Create Account.
URL:https://mowtampa.org/event/volunteer-orientation-2/2020-02-14/
LOCATION:Meals On Wheels of Tampa\, Inc.\, 550 W Hillsborough Avenue\, Tampa\, FL\, 33603\, United States
CATEGORIES:Volunteer Orientation
GEO:27.9957562;-82.4676813
X-APPLE-STRUCTURED-LOCATION;VALUE=URI;X-ADDRESS=Meals On Wheels of Tampa Inc. 550 W Hillsborough Avenue Tampa FL 33603 United States;X-APPLE-RADIUS=500;X-TITLE=550 W Hillsborough Avenue:geo:-82.4676813,27.9957562
END:VEVENT
BEGIN:VEVENT
DTSTART;TZID=America/New_York:20200207T110000
DTEND;TZID=America/New_York:20200207T114500
DTSTAMP:20260421T192116
CREATED:20200422T183321Z
LAST-MODIFIED:20200422T184318Z
UID:10000086-1581073200-1581075900@mowtampa.org
SUMMARY:Volunteer Orientation
DESCRIPTION:Volunteer Orientations take place every Friday. \nWhere: Meals On Wheels office\, 550 W. Hillsborough Ave \nWhen: 11am-11:45am \nPlease complete a volunteer application by clicking here and then choose Create Account.
URL:https://mowtampa.org/event/volunteer-orientation-2/2020-02-07/
LOCATION:Meals On Wheels of Tampa\, Inc.\, 550 W Hillsborough Avenue\, Tampa\, FL\, 33603\, United States
CATEGORIES:Volunteer Orientation
GEO:27.9957562;-82.4676813
X-APPLE-STRUCTURED-LOCATION;VALUE=URI;X-ADDRESS=Meals On Wheels of Tampa Inc. 550 W Hillsborough Avenue Tampa FL 33603 United States;X-APPLE-RADIUS=500;X-TITLE=550 W Hillsborough Avenue:geo:-82.4676813,27.9957562
END:VEVENT
BEGIN:VEVENT
DTSTART;TZID=America/New_York:20200206T120000
DTEND;TZID=America/New_York:20200206T130000
DTSTAMP:20260421T192116
CREATED:20230525T202717Z
LAST-MODIFIED:20230525T202717Z
UID:10000310-1580990400-1580994000@mowtampa.org
SUMMARY:Nourish At Noon Community Lunch
DESCRIPTION:Come enjoy lunch while we share our mission. \nThis is a great opportunity for you to tour the kitchen\, enjoy one of our meals and hear our story. \nWhere: Meals On Wheels office\, 550 W. Hillsborough Ave \n\n\n\n\n\nWhen: Noon-1pm \nPlease RSVP by clicking here. 
URL:https://mowtampa.org/event/nourish-at-noon-community-lunch-2/2020-02-06/
LOCATION:Meals On Wheels of Tampa\, Inc.\, 550 W Hillsborough Avenue\, Tampa\, FL\, 33603\, United States
GEO:27.9957562;-82.4676813
X-APPLE-STRUCTURED-LOCATION;VALUE=URI;X-ADDRESS=Meals On Wheels of Tampa Inc. 550 W Hillsborough Avenue Tampa FL 33603 United States;X-APPLE-RADIUS=500;X-TITLE=550 W Hillsborough Avenue:geo:-82.4676813,27.9957562
END:VEVENT
BEGIN:VEVENT
DTSTART;TZID=America/New_York:20200201T073000
DTEND;TZID=America/New_York:20200201T113000
DTSTAMP:20260421T192116
CREATED:20191220T151340Z
LAST-MODIFIED:20191220T151340Z
UID:10000076-1580542200-1580556600@mowtampa.org
SUMMARY:3rd Annual Meals On Wheels 5K & 1-Mile Fun Run
DESCRIPTION:7:30AM:    Registration opens \n9:00AM:    5K start time \n9:30AM:    1-Mile Fun Run start time \nGadsden Park\, 6901 S. MacDill Avenue\, Tampa \nRegister at www.mowtampa.org/5k \n 
URL:https://mowtampa.org/event/3rd-annual-meals-on-wheels-5k-1-mile-fun-run/
LOCATION:Gadsden Park\, 6901 S. MacDill Ave\, Tampa\, FL\, 33611\, United States
GEO:27.86638;-82.496187
X-APPLE-STRUCTURED-LOCATION;VALUE=URI;X-ADDRESS=Gadsden Park 6901 S. MacDill Ave Tampa FL 33611 United States;X-APPLE-RADIUS=500;X-TITLE=6901 S. MacDill Ave:geo:-82.496187,27.86638
END:VEVENT
BEGIN:VEVENT
DTSTART;TZID=America/New_York:20200131T110000
DTEND;TZID=America/New_York:20200131T114500
DTSTAMP:20260421T192116
CREATED:20200422T183321Z
LAST-MODIFIED:20200422T184318Z
UID:10000085-1580468400-1580471100@mowtampa.org
SUMMARY:Volunteer Orientation
DESCRIPTION:Volunteer Orientations take place every Friday. \nWhere: Meals On Wheels office\, 550 W. Hillsborough Ave \nWhen: 11am-11:45am \nPlease complete a volunteer application by clicking here and then choose Create Account.
URL:https://mowtampa.org/event/volunteer-orientation-2/2020-01-31/
LOCATION:Meals On Wheels of Tampa\, Inc.\, 550 W Hillsborough Avenue\, Tampa\, FL\, 33603\, United States
CATEGORIES:Volunteer Orientation
GEO:27.9957562;-82.4676813
X-APPLE-STRUCTURED-LOCATION;VALUE=URI;X-ADDRESS=Meals On Wheels of Tampa Inc. 550 W Hillsborough Avenue Tampa FL 33603 United States;X-APPLE-RADIUS=500;X-TITLE=550 W Hillsborough Avenue:geo:-82.4676813,27.9957562
END:VEVENT
BEGIN:VEVENT
DTSTART;TZID=America/New_York:20200124T110000
DTEND;TZID=America/New_York:20200124T114500
DTSTAMP:20260421T192116
CREATED:20200422T183321Z
LAST-MODIFIED:20200422T184318Z
UID:10000084-1579863600-1579866300@mowtampa.org
SUMMARY:Volunteer Orientation
DESCRIPTION:Volunteer Orientations take place every Friday. \nWhere: Meals On Wheels office\, 550 W. Hillsborough Ave \nWhen: 11am-11:45am \nPlease complete a volunteer application by clicking here and then choose Create Account.
URL:https://mowtampa.org/event/volunteer-orientation-2/2020-01-24/
LOCATION:Meals On Wheels of Tampa\, Inc.\, 550 W Hillsborough Avenue\, Tampa\, FL\, 33603\, United States
CATEGORIES:Volunteer Orientation
GEO:27.9957562;-82.4676813
X-APPLE-STRUCTURED-LOCATION;VALUE=URI;X-ADDRESS=Meals On Wheels of Tampa Inc. 550 W Hillsborough Avenue Tampa FL 33603 United States;X-APPLE-RADIUS=500;X-TITLE=550 W Hillsborough Avenue:geo:-82.4676813,27.9957562
END:VEVENT
BEGIN:VEVENT
DTSTART;TZID=America/New_York:20200117T110000
DTEND;TZID=America/New_York:20200117T114500
DTSTAMP:20260421T192116
CREATED:20200422T183321Z
LAST-MODIFIED:20200422T184318Z
UID:10000083-1579258800-1579261500@mowtampa.org
SUMMARY:Volunteer Orientation
DESCRIPTION:Volunteer Orientations take place every Friday. \nWhere: Meals On Wheels office\, 550 W. Hillsborough Ave \nWhen: 11am-11:45am \nPlease complete a volunteer application by clicking here and then choose Create Account.
URL:https://mowtampa.org/event/volunteer-orientation-2/2020-01-17/
LOCATION:Meals On Wheels of Tampa\, Inc.\, 550 W Hillsborough Avenue\, Tampa\, FL\, 33603\, United States
CATEGORIES:Volunteer Orientation
GEO:27.9957562;-82.4676813
X-APPLE-STRUCTURED-LOCATION;VALUE=URI;X-ADDRESS=Meals On Wheels of Tampa Inc. 550 W Hillsborough Avenue Tampa FL 33603 United States;X-APPLE-RADIUS=500;X-TITLE=550 W Hillsborough Avenue:geo:-82.4676813,27.9957562
END:VEVENT
BEGIN:VEVENT
DTSTART;TZID=America/New_York:20200110T110000
DTEND;TZID=America/New_York:20200110T114500
DTSTAMP:20260421T192116
CREATED:20200422T183321Z
LAST-MODIFIED:20200422T184318Z
UID:10000082-1578654000-1578656700@mowtampa.org
SUMMARY:Volunteer Orientation
DESCRIPTION:Volunteer Orientations take place every Friday. \nWhere: Meals On Wheels office\, 550 W. Hillsborough Ave \nWhen: 11am-11:45am \nPlease complete a volunteer application by clicking here and then choose Create Account.
URL:https://mowtampa.org/event/volunteer-orientation-2/2020-01-10/
LOCATION:Meals On Wheels of Tampa\, Inc.\, 550 W Hillsborough Avenue\, Tampa\, FL\, 33603\, United States
CATEGORIES:Volunteer Orientation
GEO:27.9957562;-82.4676813
X-APPLE-STRUCTURED-LOCATION;VALUE=URI;X-ADDRESS=Meals On Wheels of Tampa Inc. 550 W Hillsborough Avenue Tampa FL 33603 United States;X-APPLE-RADIUS=500;X-TITLE=550 W Hillsborough Avenue:geo:-82.4676813,27.9957562
END:VEVENT
BEGIN:VEVENT
DTSTART;VALUE=DATE:20191225
DTEND;VALUE=DATE:20191226
DTSTAMP:20260421T192116
CREATED:20190521T173850Z
LAST-MODIFIED:20190521T173850Z
UID:10000069-1577232000-1577318399@mowtampa.org
SUMMARY:CLOSED for holiday
DESCRIPTION:The Meals On Wheels of Tampa office is closed for the holiday.
URL:https://mowtampa.org/event/closed-for-holiday-5/2019-12-25/
END:VEVENT
BEGIN:VEVENT
DTSTART;TZID=America/New_York:20191221T093000
DTEND;TZID=America/New_York:20191221T110000
DTSTAMP:20260421T192116
CREATED:20190521T172858Z
LAST-MODIFIED:20190521T172858Z
UID:10000050-1576920600-1576926000@mowtampa.org
SUMMARY:Holiday gift bag delivery
DESCRIPTION:Volunteers will deliver holiday gift bags to all program recipients. \nVolunteers must complete an application and attend an orientation before delivering.  All routes are reserved in advance. \nClick here for more information. 
URL:https://mowtampa.org/event/holiday-gift-bag-delivery/
LOCATION:Meals On Wheels of Tampa\, Inc.\, 550 W Hillsborough Avenue\, Tampa\, FL\, 33603\, United States
GEO:27.9957562;-82.4676813
X-APPLE-STRUCTURED-LOCATION;VALUE=URI;X-ADDRESS=Meals On Wheels of Tampa Inc. 550 W Hillsborough Avenue Tampa FL 33603 United States;X-APPLE-RADIUS=500;X-TITLE=550 W Hillsborough Avenue:geo:-82.4676813,27.9957562
END:VEVENT
BEGIN:VEVENT
DTSTART;TZID=America/New_York:20191216T120000
DTEND;TZID=America/New_York:20191219T160000
DTSTAMP:20260421T192116
CREATED:20190722T160434Z
LAST-MODIFIED:20190722T160434Z
UID:10000073-1576497600-1576771200@mowtampa.org
SUMMARY:Sorting and packing holiday gift bags
DESCRIPTION:Volunteers will be needed to help sort and count items\, then pack bags the week of December 16th. Shifts are Monday\, December 16th\, Tuesday\, December 17th\, Wednesday\, December 18 and Thursday\, December 19th from noon-2pm and 2-4pm. \nPlease call (813) 238-8410 to sign up.
URL:https://mowtampa.org/event/sorting-and-packing-holiday-gift-bags/
LOCATION:Meals On Wheels of Tampa\, Inc.\, 550 W Hillsborough Avenue\, Tampa\, FL\, 33603\, United States
GEO:27.9957562;-82.4676813
X-APPLE-STRUCTURED-LOCATION;VALUE=URI;X-ADDRESS=Meals On Wheels of Tampa Inc. 550 W Hillsborough Avenue Tampa FL 33603 United States;X-APPLE-RADIUS=500;X-TITLE=550 W Hillsborough Avenue:geo:-82.4676813,27.9957562
END:VEVENT
BEGIN:VEVENT
DTSTART;TZID=America/New_York:20191205T120000
DTEND;TZID=America/New_York:20191205T130000
DTSTAMP:20260421T192116
CREATED:20230525T202717Z
LAST-MODIFIED:20230525T202717Z
UID:10000309-1575547200-1575550800@mowtampa.org
SUMMARY:Nourish At Noon Community Lunch
DESCRIPTION:Come enjoy lunch while we share our mission. \nThis is a great opportunity for you to tour the kitchen\, enjoy one of our meals and hear our story. \nWhere: Meals On Wheels office\, 550 W. Hillsborough Ave \n\n\n\n\n\nWhen: Noon-1pm \nPlease RSVP by clicking here. 
URL:https://mowtampa.org/event/nourish-at-noon-community-lunch-2/2019-12-05/
LOCATION:Meals On Wheels of Tampa\, Inc.\, 550 W Hillsborough Avenue\, Tampa\, FL\, 33603\, United States
GEO:27.9957562;-82.4676813
X-APPLE-STRUCTURED-LOCATION;VALUE=URI;X-ADDRESS=Meals On Wheels of Tampa Inc. 550 W Hillsborough Avenue Tampa FL 33603 United States;X-APPLE-RADIUS=500;X-TITLE=550 W Hillsborough Avenue:geo:-82.4676813,27.9957562
END:VEVENT
BEGIN:VEVENT
DTSTART;TZID=America/New_York:20191205T120000
DTEND;TZID=America/New_York:20191205T130000
DTSTAMP:20260421T192116
CREATED:20190521T171224Z
LAST-MODIFIED:20190521T171431Z
UID:10000022-1575547200-1575550800@mowtampa.org
SUMMARY:Nourish At Noon Community Lunch
DESCRIPTION:Come enjoy lunch while we share our mission. \nThis is a great opportunity for you to tour the kitchen\, enjoy one of our meals and hear our story. \nWhere: Meals On Wheels office\, 550 W. Hillsborough Ave \n\n\n\n\n\nWhen: Noon-1pm \nPlease RSVP by clicking here. 
URL:https://mowtampa.org/event/nourish-at-noon-community-lunch/2019-12-05/
END:VEVENT
BEGIN:VEVENT
DTSTART;VALUE=DATE:20191129
DTEND;VALUE=DATE:20191130
DTSTAMP:20260421T192116
CREATED:20190521T173807Z
LAST-MODIFIED:20190521T173807Z
UID:10000068-1574985600-1575071999@mowtampa.org
SUMMARY:CLOSED for holiday
DESCRIPTION:The Meals On Wheels of Tampa office is closed for the holiday.
URL:https://mowtampa.org/event/closed-for-holiday-4/
END:VEVENT
BEGIN:VEVENT
DTSTART;TZID=America/New_York:20191128T093000
DTEND;TZID=America/New_York:20191128T110000
DTSTAMP:20260421T192116
CREATED:20190521T172625Z
LAST-MODIFIED:20190521T172938Z
UID:10000049-1574933400-1574938800@mowtampa.org
SUMMARY:Thanksgiving morning delivery
DESCRIPTION:Volunteers will deliver cards and baked goods to all program recipients on Thanksgiving morning. \nVolunteers must complete an application and attend an orientation before delivering.  All routes are reserved in advance. \nClick here for more information. 
URL:https://mowtampa.org/event/thanksgiving-morning-delivery/
LOCATION:Meals On Wheels of Tampa\, Inc.\, 550 W Hillsborough Avenue\, Tampa\, FL\, 33603\, United States
GEO:27.9957562;-82.4676813
X-APPLE-STRUCTURED-LOCATION;VALUE=URI;X-ADDRESS=Meals On Wheels of Tampa Inc. 550 W Hillsborough Avenue Tampa FL 33603 United States;X-APPLE-RADIUS=500;X-TITLE=550 W Hillsborough Avenue:geo:-82.4676813,27.9957562
END:VEVENT
BEGIN:VEVENT
DTSTART;TZID=America/New_York:20191120T120000
DTEND;TZID=America/New_York:20191120T130000
DTSTAMP:20260421T192116
CREATED:20230525T202717Z
LAST-MODIFIED:20230525T202717Z
UID:10000304-1574251200-1574254800@mowtampa.org
SUMMARY:Nourish At Noon Community Lunch
DESCRIPTION:Come enjoy lunch while we share our mission. \nThis is a great opportunity for you to tour the kitchen\, enjoy one of our meals and hear our story. \nWhere: Meals On Wheels office\, 550 W. Hillsborough Ave \n\n\n\n\n\nWhen: Noon-1pm \nPlease RSVP by clicking here. 
URL:https://mowtampa.org/event/nourish-at-noon-community-lunch-2/2019-11-20/
LOCATION:Meals On Wheels of Tampa\, Inc.\, 550 W Hillsborough Avenue\, Tampa\, FL\, 33603\, United States
GEO:27.9957562;-82.4676813
X-APPLE-STRUCTURED-LOCATION;VALUE=URI;X-ADDRESS=Meals On Wheels of Tampa Inc. 550 W Hillsborough Avenue Tampa FL 33603 United States;X-APPLE-RADIUS=500;X-TITLE=550 W Hillsborough Avenue:geo:-82.4676813,27.9957562
END:VEVENT
BEGIN:VEVENT
DTSTART;TZID=America/New_York:20191120T120000
DTEND;TZID=America/New_York:20191120T130000
DTSTAMP:20260421T192116
CREATED:20190521T171604Z
LAST-MODIFIED:20200603T170906Z
UID:10000027-1574251200-1574254800@mowtampa.org
SUMMARY:Nourish At Noon Community Lunch
DESCRIPTION:Come enjoy lunch while we share our mission. \nThis is a great opportunity for you to tour the kitchen\, enjoy one of our meals and hear our story. \nWhere: Meals On Wheels office\, 550 W. Hillsborough Ave \n\n\n\n\n\nWhen: Noon-1pm \nPlease RSVP by clicking here. 
URL:https://mowtampa.org/event/nourish-at-noon-community-lunch-2/2019-11-20/
LOCATION:Meals On Wheels of Tampa\, Inc.\, 550 W Hillsborough Avenue\, Tampa\, FL\, 33603\, United States
GEO:27.9957562;-82.4676813
X-APPLE-STRUCTURED-LOCATION;VALUE=URI;X-ADDRESS=Meals On Wheels of Tampa Inc. 550 W Hillsborough Avenue Tampa FL 33603 United States;X-APPLE-RADIUS=500;X-TITLE=550 W Hillsborough Avenue:geo:-82.4676813,27.9957562
END:VEVENT
BEGIN:VEVENT
DTSTART;TZID=America/New_York:20191107T120000
DTEND;TZID=America/New_York:20191107T130000
DTSTAMP:20260421T192116
CREATED:20230525T202717Z
LAST-MODIFIED:20230525T202717Z
UID:10000308-1573128000-1573131600@mowtampa.org
SUMMARY:Nourish At Noon Community Lunch
DESCRIPTION:Come enjoy lunch while we share our mission. \nThis is a great opportunity for you to tour the kitchen\, enjoy one of our meals and hear our story. \nWhere: Meals On Wheels office\, 550 W. Hillsborough Ave \n\n\n\n\n\nWhen: Noon-1pm \nPlease RSVP by clicking here. 
URL:https://mowtampa.org/event/nourish-at-noon-community-lunch-2/2019-11-07/
LOCATION:Meals On Wheels of Tampa\, Inc.\, 550 W Hillsborough Avenue\, Tampa\, FL\, 33603\, United States
GEO:27.9957562;-82.4676813
X-APPLE-STRUCTURED-LOCATION;VALUE=URI;X-ADDRESS=Meals On Wheels of Tampa Inc. 550 W Hillsborough Avenue Tampa FL 33603 United States;X-APPLE-RADIUS=500;X-TITLE=550 W Hillsborough Avenue:geo:-82.4676813,27.9957562
END:VEVENT
BEGIN:VEVENT
DTSTART;TZID=America/New_York:20191107T120000
DTEND;TZID=America/New_York:20191107T130000
DTSTAMP:20260421T192116
CREATED:20190521T171224Z
LAST-MODIFIED:20190521T171431Z
UID:10000021-1573128000-1573131600@mowtampa.org
SUMMARY:Nourish At Noon Community Lunch
DESCRIPTION:Come enjoy lunch while we share our mission. \nThis is a great opportunity for you to tour the kitchen\, enjoy one of our meals and hear our story. \nWhere: Meals On Wheels office\, 550 W. Hillsborough Ave \n\n\n\n\n\nWhen: Noon-1pm \nPlease RSVP by clicking here. 
URL:https://mowtampa.org/event/nourish-at-noon-community-lunch/2019-11-07/
END:VEVENT
BEGIN:VEVENT
DTSTART;TZID=America/New_York:20191016T120000
DTEND;TZID=America/New_York:20191016T130000
DTSTAMP:20260421T192116
CREATED:20230525T202717Z
LAST-MODIFIED:20230525T202717Z
UID:10000303-1571227200-1571230800@mowtampa.org
SUMMARY:Nourish At Noon Community Lunch
DESCRIPTION:Come enjoy lunch while we share our mission. \nThis is a great opportunity for you to tour the kitchen\, enjoy one of our meals and hear our story. \nWhere: Meals On Wheels office\, 550 W. Hillsborough Ave \n\n\n\n\n\nWhen: Noon-1pm \nPlease RSVP by clicking here. 
URL:https://mowtampa.org/event/nourish-at-noon-community-lunch-2/2019-10-16/
LOCATION:Meals On Wheels of Tampa\, Inc.\, 550 W Hillsborough Avenue\, Tampa\, FL\, 33603\, United States
GEO:27.9957562;-82.4676813
X-APPLE-STRUCTURED-LOCATION;VALUE=URI;X-ADDRESS=Meals On Wheels of Tampa Inc. 550 W Hillsborough Avenue Tampa FL 33603 United States;X-APPLE-RADIUS=500;X-TITLE=550 W Hillsborough Avenue:geo:-82.4676813,27.9957562
END:VEVENT
BEGIN:VEVENT
DTSTART;TZID=America/New_York:20191016T120000
DTEND;TZID=America/New_York:20191016T130000
DTSTAMP:20260421T192116
CREATED:20190521T171604Z
LAST-MODIFIED:20200603T170906Z
UID:10000026-1571227200-1571230800@mowtampa.org
SUMMARY:Nourish At Noon Community Lunch
DESCRIPTION:Come enjoy lunch while we share our mission. \nThis is a great opportunity for you to tour the kitchen\, enjoy one of our meals and hear our story. \nWhere: Meals On Wheels office\, 550 W. Hillsborough Ave \n\n\n\n\n\nWhen: Noon-1pm \nPlease RSVP by clicking here. 
URL:https://mowtampa.org/event/nourish-at-noon-community-lunch-2/2019-10-16/
LOCATION:Meals On Wheels of Tampa\, Inc.\, 550 W Hillsborough Avenue\, Tampa\, FL\, 33603\, United States
GEO:27.9957562;-82.4676813
X-APPLE-STRUCTURED-LOCATION;VALUE=URI;X-ADDRESS=Meals On Wheels of Tampa Inc. 550 W Hillsborough Avenue Tampa FL 33603 United States;X-APPLE-RADIUS=500;X-TITLE=550 W Hillsborough Avenue:geo:-82.4676813,27.9957562
END:VEVENT
BEGIN:VEVENT
DTSTART;TZID=America/New_York:20191008T114500
DTEND;TZID=America/New_York:20191008T131500
DTSTAMP:20260421T192116
CREATED:20190730T183921Z
LAST-MODIFIED:20200103T200351Z
UID:10000074-1570535100-1570540500@mowtampa.org
SUMMARY:Volunteer Appreciation Luncheon
DESCRIPTION:Details coming soon!
URL:https://mowtampa.org/event/volunteer-appreciation-luncheon/2019-10-08/
LOCATION:Centro Asturiano de Tampa\, 1913 N. Nebraska Ave\, Tampa\, 33605\, United States
GEO:27.9620254;-82.4509662
X-APPLE-STRUCTURED-LOCATION;VALUE=URI;X-ADDRESS=Centro Asturiano de Tampa 1913 N. Nebraska Ave Tampa 33605 United States;X-APPLE-RADIUS=500;X-TITLE=1913 N. Nebraska Ave:geo:-82.4509662,27.9620254
END:VEVENT
BEGIN:VEVENT
DTSTART;TZID=America/New_York:20191003T120000
DTEND;TZID=America/New_York:20191003T130000
DTSTAMP:20260421T192116
CREATED:20230525T202717Z
LAST-MODIFIED:20230525T202717Z
UID:10000307-1570104000-1570107600@mowtampa.org
SUMMARY:Nourish At Noon Community Lunch
DESCRIPTION:Come enjoy lunch while we share our mission. \nThis is a great opportunity for you to tour the kitchen\, enjoy one of our meals and hear our story. \nWhere: Meals On Wheels office\, 550 W. Hillsborough Ave \n\n\n\n\n\nWhen: Noon-1pm \nPlease RSVP by clicking here. 
URL:https://mowtampa.org/event/nourish-at-noon-community-lunch-2/2019-10-03/
LOCATION:Meals On Wheels of Tampa\, Inc.\, 550 W Hillsborough Avenue\, Tampa\, FL\, 33603\, United States
GEO:27.9957562;-82.4676813
X-APPLE-STRUCTURED-LOCATION;VALUE=URI;X-ADDRESS=Meals On Wheels of Tampa Inc. 550 W Hillsborough Avenue Tampa FL 33603 United States;X-APPLE-RADIUS=500;X-TITLE=550 W Hillsborough Avenue:geo:-82.4676813,27.9957562
END:VEVENT
BEGIN:VEVENT
DTSTART;TZID=America/New_York:20191003T120000
DTEND;TZID=America/New_York:20191003T130000
DTSTAMP:20260421T192116
CREATED:20190521T171224Z
LAST-MODIFIED:20190521T171431Z
UID:10000020-1570104000-1570107600@mowtampa.org
SUMMARY:Nourish At Noon Community Lunch
DESCRIPTION:Come enjoy lunch while we share our mission. \nThis is a great opportunity for you to tour the kitchen\, enjoy one of our meals and hear our story. \nWhere: Meals On Wheels office\, 550 W. Hillsborough Ave \n\n\n\n\n\nWhen: Noon-1pm \nPlease RSVP by clicking here. 
URL:https://mowtampa.org/event/nourish-at-noon-community-lunch/2019-10-03/
END:VEVENT
END:VCALENDAR