BEGIN:VCALENDAR
VERSION:2.0
PRODID:-//Meals On Wheels of Tampa - ECPv6.15.20//NONSGML v1.0//EN
CALSCALE:GREGORIAN
METHOD:PUBLISH
X-WR-CALNAME:Meals On Wheels of Tampa
X-ORIGINAL-URL:https://mowtampa.org
X-WR-CALDESC:Events for Meals On Wheels of Tampa
REFRESH-INTERVAL;VALUE=DURATION:PT1H
X-Robots-Tag:noindex
X-PUBLISHED-TTL:PT1H
BEGIN:VTIMEZONE
TZID:America/New_York
BEGIN:DAYLIGHT
TZOFFSETFROM:-0500
TZOFFSETTO:-0400
TZNAME:EDT
DTSTART:20280312T070000
END:DAYLIGHT
BEGIN:STANDARD
TZOFFSETFROM:-0400
TZOFFSETTO:-0500
TZNAME:EST
DTSTART:20281105T060000
END:STANDARD
BEGIN:DAYLIGHT
TZOFFSETFROM:-0500
TZOFFSETTO:-0400
TZNAME:EDT
DTSTART:20290311T070000
END:DAYLIGHT
BEGIN:STANDARD
TZOFFSETFROM:-0400
TZOFFSETTO:-0500
TZNAME:EST
DTSTART:20291104T060000
END:STANDARD
BEGIN:DAYLIGHT
TZOFFSETFROM:-0500
TZOFFSETTO:-0400
TZNAME:EDT
DTSTART:20300310T070000
END:DAYLIGHT
BEGIN:STANDARD
TZOFFSETFROM:-0400
TZOFFSETTO:-0500
TZNAME:EST
DTSTART:20301103T060000
END:STANDARD
END:VTIMEZONE
BEGIN:VEVENT
DTSTART;TZID=America/New_York:20290519T093000
DTEND;TZID=America/New_York:20290519T230000
DTSTAMP:20260420T145413
CREATED:20230224T200047Z
LAST-MODIFIED:20250107T232048Z
UID:10000969-1873877400-1873926000@mowtampa.org
SUMMARY:Produce on Wheels (POW!) Delivery
DESCRIPTION:Produce On Wheels (POW!) Delivery\nVolunteers deliver bags of fresh produce to all program recipients. \nVolunteers must complete an application and attend an orientation prior to delivering. \nRoutes must be signed up for in advance. Routes take 60-90 minutes to complete. \nFor more information\, click here or call (813) 238-8410.
URL:https://mowtampa.org/event/produce-on-wheels-pow-delivery-6/2029-05-19/
END:VEVENT
BEGIN:VEVENT
DTSTART;TZID=America/New_York:20290616T093000
DTEND;TZID=America/New_York:20290616T110000
DTSTAMP:20260420T145413
CREATED:20230224T201129Z
LAST-MODIFIED:20250107T232301Z
UID:10000985-1876296600-1876302000@mowtampa.org
SUMMARY:Hurricane Bag Delivery
DESCRIPTION:Hurricane Bag Delivery\nVolunteers deliver Hurricane Preparedness Bags to all program recipients. \nVolunteers must complete an application and attend an orientation prior to delivering. \nRoutes must be signed up for in advance. Routes take 60-90 minutes to complete. \nFor more information\, call (813) 238-8410.
URL:https://mowtampa.org/event/hurricane-preparedness-pack-delivery/2029-06-16/
END:VEVENT
BEGIN:VEVENT
DTSTART;TZID=America/New_York:20290721T093000
DTEND;TZID=America/New_York:20290721T230000
DTSTAMP:20260420T145413
CREATED:20230224T200140Z
LAST-MODIFIED:20250107T232403Z
UID:10000991-1879320600-1879369200@mowtampa.org
SUMMARY:Produce On Wheels (POW!) Delivery
DESCRIPTION:Produce On Wheels (POW!) Delivery\nVolunteers deliver bags of fresh produce to all program recipients. \nVolunteers must complete an application and attend an orientation prior to delivering. \nRoutes must be signed up for in advance. Routes take 60-90 minutes to complete. \nFor more information\, click here or call (813) 238-8410.
URL:https://mowtampa.org/event/produce-on-wheels-pow-delivery-7/2029-07-21/
END:VEVENT
BEGIN:VEVENT
DTSTART;TZID=America/New_York:20290818T093000
DTEND;TZID=America/New_York:20290818T110000
DTSTAMP:20260420T145413
CREATED:20230224T200559Z
LAST-MODIFIED:20250107T232510Z
UID:10001007-1881739800-1881745200@mowtampa.org
SUMMARY:Produce On Wheels (POW) Delivery
DESCRIPTION:Produce On Wheels (POW!) Delivery\nVolunteers deliver bags of fresh produce to all program recipients. \nVolunteers must complete an application and attend an orientation prior to delivering. \nRoutes must be signed up for in advance. Routes take 60-90 minutes to complete. \nFor more information\, click here or call (813) 238-8410.
URL:https://mowtampa.org/event/produce-on-wheels-pow-delivery-8/2029-08-18/
END:VEVENT
BEGIN:VEVENT
DTSTART;TZID=America/New_York:20290915T093000
DTEND;TZID=America/New_York:20290915T110000
DTSTAMP:20260420T145413
CREATED:20230224T200650Z
LAST-MODIFIED:20250107T232619Z
UID:10001023-1884159000-1884164400@mowtampa.org
SUMMARY:Produce On Wheels (POW!) Delivery
DESCRIPTION:Produce On Wheels (POW!) Delivery\nVolunteers deliver bags of fresh produce to all program recipients. \nVolunteers must complete an application and attend an orientation prior to delivering. \nRoutes must be signed up for in advance. Routes take 60-90 minutes to complete. \nFor more information\, click here or call (813) 238-8410.
URL:https://mowtampa.org/event/produce-on-wheels-pow-delivery-9/2029-09-15/
END:VEVENT
BEGIN:VEVENT
DTSTART;TZID=America/New_York:20291020T093000
DTEND;TZID=America/New_York:20291020T110000
DTSTAMP:20260420T145413
CREATED:20230224T200734Z
LAST-MODIFIED:20250107T232705Z
UID:10001030-1887183000-1887188400@mowtampa.org
SUMMARY:Produce On Wheels (POW!) Delivery
DESCRIPTION:Produce On Wheels (POW!) Delivery\nVolunteers deliver bags of fresh produce to all program recipients. \nVolunteers must complete an application and attend an orientation prior to delivering. \nRoutes must be signed up for in advance. Routes take 60-90 minutes to complete. \nFor more information\, click here or call (813) 238-8410.
URL:https://mowtampa.org/event/produce-on-wheels-pow-delivery-10/2029-10-20/
END:VEVENT
BEGIN:VEVENT
DTSTART;TZID=America/New_York:20291122T093000
DTEND;TZID=America/New_York:20291122T110000
DTSTAMP:20260420T145413
CREATED:20230224T201450Z
LAST-MODIFIED:20250107T232747Z
UID:10001037-1890034200-1890039600@mowtampa.org
SUMMARY:Thanksgiving Day Delivery
DESCRIPTION:Thanksgiving Day Delivery\nVolunteers deliver Thanksgiving Goodie Bags to all program recipients. \nVolunteers must complete an application and attend an orientation prior to delivering. \nRoutes must be signed up for in advance. Routes take 60-90 minutes to complete. \nFor more information\, call (813) 238-8410.
URL:https://mowtampa.org/event/thanksgiving-day-delivery/2029-11-22/
END:VEVENT
BEGIN:VEVENT
DTSTART;TZID=America/New_York:20291215T093000
DTEND;TZID=America/New_York:20291215T110000
DTSTAMP:20260420T145413
CREATED:20230224T201219Z
LAST-MODIFIED:20250107T232851Z
UID:10001044-1892021400-1892026800@mowtampa.org
SUMMARY:Holiday Gift Bag Delivery
DESCRIPTION:Holiday Gift Bag Delivery\nVolunteers deliver Holiday Gift Bags to all program recipients. \nVolunteers must complete an application and attend an orientation prior to delivering. \nRoutes must be signed up for in advance. Routes take 60-90 minutes to complete. \nFor more information\, call (813) 238-8410.
URL:https://mowtampa.org/event/holiday-gift-bag-delivery-3/2029-12-15/
END:VEVENT
END:VCALENDAR