BEGIN:VCALENDAR
VERSION:2.0
PRODID:-//Meals On Wheels of Tampa - ECPv6.15.20//NONSGML v1.0//EN
CALSCALE:GREGORIAN
METHOD:PUBLISH
X-WR-CALNAME:Meals On Wheels of Tampa
X-ORIGINAL-URL:https://mowtampa.org
X-WR-CALDESC:Events for Meals On Wheels of Tampa
REFRESH-INTERVAL;VALUE=DURATION:PT1H
X-Robots-Tag:noindex
X-PUBLISHED-TTL:PT1H
BEGIN:VTIMEZONE
TZID:America/New_York
BEGIN:DAYLIGHT
TZOFFSETFROM:-0500
TZOFFSETTO:-0400
TZNAME:EDT
DTSTART:20190310T070000
END:DAYLIGHT
BEGIN:STANDARD
TZOFFSETFROM:-0400
TZOFFSETTO:-0500
TZNAME:EST
DTSTART:20191103T060000
END:STANDARD
BEGIN:DAYLIGHT
TZOFFSETFROM:-0500
TZOFFSETTO:-0400
TZNAME:EDT
DTSTART:20200308T070000
END:DAYLIGHT
BEGIN:STANDARD
TZOFFSETFROM:-0400
TZOFFSETTO:-0500
TZNAME:EST
DTSTART:20201101T060000
END:STANDARD
BEGIN:DAYLIGHT
TZOFFSETFROM:-0500
TZOFFSETTO:-0400
TZNAME:EDT
DTSTART:20210314T070000
END:DAYLIGHT
BEGIN:STANDARD
TZOFFSETFROM:-0400
TZOFFSETTO:-0500
TZNAME:EST
DTSTART:20211107T060000
END:STANDARD
END:VTIMEZONE
BEGIN:VEVENT
DTSTART;TZID=America/New_York:20200724T100000
DTEND;TZID=America/New_York:20200724T110000
DTSTAMP:20260421T191820
CREATED:20190513T174643Z
LAST-MODIFIED:20200608T194106Z
UID:10000017-1595584800-1595588400@mowtampa.org
SUMMARY:Virtual Volunteer Orientation due to COVID-19
DESCRIPTION:Virtual Volunteer Orientations are being held due to COVID-19 restrictions. \nWhere: Via Conference Call \nWhen: 10am-11am \nPlease complete a volunteer application by clicking here and then choose Create Account.
URL:https://mowtampa.org/event/volunteer-orientation/2020-07-24/
LOCATION:FL\, United States
CATEGORIES:Volunteer Orientation
GEO:27.6648274;-81.5157535
END:VEVENT
BEGIN:VEVENT
DTSTART;TZID=America/New_York:20200718T093000
DTEND;TZID=America/New_York:20200718T113000
DTSTAMP:20260421T191820
CREATED:20200610T191708Z
LAST-MODIFIED:20200708T160051Z
UID:10000099-1595064600-1595071800@mowtampa.org
SUMMARY:Produce On Wheels (POW!) Delivery
DESCRIPTION:Produce On Wheels(POW!) Delivery\nVolunteers deliver bags of fresh produce to all program recipients. Routes take 60-90 minutes to complete. \nVolunteers must complete an application and attend an orientation prior to delivering. \nFor more information\, click here or call (813) 238-8410.
URL:https://mowtampa.org/event/produce-on-wheels-pow-delivery/2020-07-18/
LOCATION:Meals On Wheels of Tampa\, Inc.\, 550 W Hillsborough Avenue\, Tampa\, FL\, 33603\, United States
CATEGORIES:Produce On Wheels (POW!)
GEO:27.9957562;-82.4676813
X-APPLE-STRUCTURED-LOCATION;VALUE=URI;X-ADDRESS=Meals On Wheels of Tampa Inc. 550 W Hillsborough Avenue Tampa FL 33603 United States;X-APPLE-RADIUS=500;X-TITLE=550 W Hillsborough Avenue:geo:-82.4676813,27.9957562
END:VEVENT
BEGIN:VEVENT
DTSTART;TZID=America/New_York:20200717T100000
DTEND;TZID=America/New_York:20200717T110000
DTSTAMP:20260421T191820
CREATED:20190513T174643Z
LAST-MODIFIED:20200608T194106Z
UID:10000016-1594980000-1594983600@mowtampa.org
SUMMARY:Virtual Volunteer Orientation due to COVID-19
DESCRIPTION:Virtual Volunteer Orientations are being held due to COVID-19 restrictions. \nWhere: Via Conference Call \nWhen: 10am-11am \nPlease complete a volunteer application by clicking here and then choose Create Account.
URL:https://mowtampa.org/event/volunteer-orientation/2020-07-17/
LOCATION:FL\, United States
CATEGORIES:Volunteer Orientation
GEO:27.6648274;-81.5157535
END:VEVENT
BEGIN:VEVENT
DTSTART;TZID=America/New_York:20200710T100000
DTEND;TZID=America/New_York:20200710T110000
DTSTAMP:20260421T191820
CREATED:20190513T174643Z
LAST-MODIFIED:20200608T194106Z
UID:10000015-1594375200-1594378800@mowtampa.org
SUMMARY:Virtual Volunteer Orientation due to COVID-19
DESCRIPTION:Virtual Volunteer Orientations are being held due to COVID-19 restrictions. \nWhere: Via Conference Call \nWhen: 10am-11am \nPlease complete a volunteer application by clicking here and then choose Create Account.
URL:https://mowtampa.org/event/volunteer-orientation/2020-07-10/
LOCATION:FL\, United States
CATEGORIES:Volunteer Orientation
GEO:27.6648274;-81.5157535
END:VEVENT
BEGIN:VEVENT
DTSTART;VALUE=DATE:20200704
DTEND;VALUE=DATE:20200705
DTSTAMP:20260421T191820
CREATED:20190521T173458Z
LAST-MODIFIED:20200603T171847Z
UID:10000053-1593820800-1593907199@mowtampa.org
SUMMARY:CLOSED for holiday
DESCRIPTION:The Meals On Wheels of Tampa office is closed for the holiday.
URL:https://mowtampa.org/event/closed-for-holiday/2020-07-04/
END:VEVENT
BEGIN:VEVENT
DTSTART;TZID=America/New_York:20200626T100000
DTEND;TZID=America/New_York:20200626T110000
DTSTAMP:20260421T191820
CREATED:20190513T174643Z
LAST-MODIFIED:20200608T194106Z
UID:10000014-1593165600-1593169200@mowtampa.org
SUMMARY:Virtual Volunteer Orientation due to COVID-19
DESCRIPTION:Virtual Volunteer Orientations are being held due to COVID-19 restrictions. \nWhere: Via Conference Call \nWhen: 10am-11am \nPlease complete a volunteer application by clicking here and then choose Create Account.
URL:https://mowtampa.org/event/volunteer-orientation/2020-06-26/
LOCATION:FL\, United States
CATEGORIES:Volunteer Orientation
GEO:27.6648274;-81.5157535
END:VEVENT
BEGIN:VEVENT
DTSTART;TZID=America/New_York:20200620T090000
DTEND;TZID=America/New_York:20200620T110000
DTSTAMP:20260421T191820
CREATED:20191220T152232Z
LAST-MODIFIED:20200422T181805Z
UID:10000079-1592643600-1592650800@mowtampa.org
SUMMARY:Hurricane Prep Pack Delivery
DESCRIPTION:Since 2007\, Meals On Wheels of Tampa has been helping prepare our seniors and homebound neighbors for hurricane season.  This year\, we will provide over 4\,000 shelf stable meals\, 2\,600 bottles of water and shelter information to all 865 program recipients.
URL:https://mowtampa.org/event/hurricane-prep-pack-delivery/
LOCATION:Meals On Wheels of Tampa\, Inc.\, 550 W Hillsborough Avenue\, Tampa\, FL\, 33603\, United States
GEO:27.9957562;-82.4676813
X-APPLE-STRUCTURED-LOCATION;VALUE=URI;X-ADDRESS=Meals On Wheels of Tampa Inc. 550 W Hillsborough Avenue Tampa FL 33603 United States;X-APPLE-RADIUS=500;X-TITLE=550 W Hillsborough Avenue:geo:-82.4676813,27.9957562
END:VEVENT
BEGIN:VEVENT
DTSTART;TZID=America/New_York:20200619T100000
DTEND;TZID=America/New_York:20200619T110000
DTSTAMP:20260421T191820
CREATED:20190513T174643Z
LAST-MODIFIED:20200608T194106Z
UID:10000013-1592560800-1592564400@mowtampa.org
SUMMARY:Virtual Volunteer Orientation due to COVID-19
DESCRIPTION:Virtual Volunteer Orientations are being held due to COVID-19 restrictions. \nWhere: Via Conference Call \nWhen: 10am-11am \nPlease complete a volunteer application by clicking here and then choose Create Account.
URL:https://mowtampa.org/event/volunteer-orientation/2020-06-19/
LOCATION:FL\, United States
CATEGORIES:Volunteer Orientation
GEO:27.6648274;-81.5157535
END:VEVENT
BEGIN:VEVENT
DTSTART;TZID=America/New_York:20200612T100000
DTEND;TZID=America/New_York:20200612T110000
DTSTAMP:20260421T191820
CREATED:20190513T174643Z
LAST-MODIFIED:20200608T194106Z
UID:10000012-1591956000-1591959600@mowtampa.org
SUMMARY:Virtual Volunteer Orientation due to COVID-19
DESCRIPTION:Virtual Volunteer Orientations are being held due to COVID-19 restrictions. \nWhere: Via Conference Call \nWhen: 10am-11am \nPlease complete a volunteer application by clicking here and then choose Create Account.
URL:https://mowtampa.org/event/volunteer-orientation/2020-06-12/
LOCATION:FL\, United States
CATEGORIES:Volunteer Orientation
GEO:27.6648274;-81.5157535
END:VEVENT
BEGIN:VEVENT
DTSTART;TZID=America/New_York:20200605T100000
DTEND;TZID=America/New_York:20200605T110000
DTSTAMP:20260421T191820
CREATED:20190513T174643Z
LAST-MODIFIED:20200608T194106Z
UID:10000011-1591351200-1591354800@mowtampa.org
SUMMARY:Virtual Volunteer Orientation due to COVID-19
DESCRIPTION:Virtual Volunteer Orientations are being held due to COVID-19 restrictions. \nWhere: Via Conference Call \nWhen: 10am-11am \nPlease complete a volunteer application by clicking here and then choose Create Account.
URL:https://mowtampa.org/event/volunteer-orientation/2020-06-05/
LOCATION:FL\, United States
CATEGORIES:Volunteer Orientation
GEO:27.6648274;-81.5157535
END:VEVENT
BEGIN:VEVENT
DTSTART;TZID=America/New_York:20200529T100000
DTEND;TZID=America/New_York:20200529T110000
DTSTAMP:20260421T191820
CREATED:20190513T174643Z
LAST-MODIFIED:20200608T194106Z
UID:10000010-1590746400-1590750000@mowtampa.org
SUMMARY:Virtual Volunteer Orientation due to COVID-19
DESCRIPTION:Virtual Volunteer Orientations are being held due to COVID-19 restrictions. \nWhere: Via Conference Call \nWhen: 10am-11am \nPlease complete a volunteer application by clicking here and then choose Create Account.
URL:https://mowtampa.org/event/volunteer-orientation/2020-05-29/
LOCATION:FL\, United States
CATEGORIES:Volunteer Orientation
GEO:27.6648274;-81.5157535
END:VEVENT
BEGIN:VEVENT
DTSTART;TZID=America/New_York:20200522T100000
DTEND;TZID=America/New_York:20200522T110000
DTSTAMP:20260421T191820
CREATED:20190513T174643Z
LAST-MODIFIED:20200608T194106Z
UID:10000009-1590141600-1590145200@mowtampa.org
SUMMARY:Virtual Volunteer Orientation due to COVID-19
DESCRIPTION:Virtual Volunteer Orientations are being held due to COVID-19 restrictions. \nWhere: Via Conference Call \nWhen: 10am-11am \nPlease complete a volunteer application by clicking here and then choose Create Account.
URL:https://mowtampa.org/event/volunteer-orientation/2020-05-22/
LOCATION:FL\, United States
CATEGORIES:Volunteer Orientation
GEO:27.6648274;-81.5157535
END:VEVENT
BEGIN:VEVENT
DTSTART;TZID=America/New_York:20200520T100000
DTEND;TZID=America/New_York:20200520T110000
DTSTAMP:20260421T191820
CREATED:20200422T183556Z
LAST-MODIFIED:20200422T183556Z
UID:10000098-1589968800-1589972400@mowtampa.org
SUMMARY:Virtual Volunteer Orientation due to COVID-19
DESCRIPTION:Virtual Volunteer Orientations are being held due to COVID-19 restrictions. \nWhere: Via Conference Call \nWhen: 10am-11am \nPlease complete a volunteer application by clicking here and then choose Create Account.
URL:https://mowtampa.org/event/virtual-volunteer-orientation-due-to-covid-19/2020-05-20/
END:VEVENT
BEGIN:VEVENT
DTSTART;TZID=America/New_York:20200515T100000
DTEND;TZID=America/New_York:20200515T110000
DTSTAMP:20260421T191820
CREATED:20190513T174643Z
LAST-MODIFIED:20200608T194106Z
UID:10000008-1589536800-1589540400@mowtampa.org
SUMMARY:Virtual Volunteer Orientation due to COVID-19
DESCRIPTION:Virtual Volunteer Orientations are being held due to COVID-19 restrictions. \nWhere: Via Conference Call \nWhen: 10am-11am \nPlease complete a volunteer application by clicking here and then choose Create Account.
URL:https://mowtampa.org/event/volunteer-orientation/2020-05-15/
LOCATION:FL\, United States
CATEGORIES:Volunteer Orientation
GEO:27.6648274;-81.5157535
END:VEVENT
BEGIN:VEVENT
DTSTART;TZID=America/New_York:20200513T100000
DTEND;TZID=America/New_York:20200513T110000
DTSTAMP:20260421T191820
CREATED:20200422T183556Z
LAST-MODIFIED:20200422T183556Z
UID:10000097-1589364000-1589367600@mowtampa.org
SUMMARY:Virtual Volunteer Orientation due to COVID-19
DESCRIPTION:Virtual Volunteer Orientations are being held due to COVID-19 restrictions. \nWhere: Via Conference Call \nWhen: 10am-11am \nPlease complete a volunteer application by clicking here and then choose Create Account.
URL:https://mowtampa.org/event/virtual-volunteer-orientation-due-to-covid-19/2020-05-13/
END:VEVENT
BEGIN:VEVENT
DTSTART;TZID=America/New_York:20200508T100000
DTEND;TZID=America/New_York:20200508T110000
DTSTAMP:20260421T191820
CREATED:20190513T174643Z
LAST-MODIFIED:20200608T194106Z
UID:10000007-1588932000-1588935600@mowtampa.org
SUMMARY:Virtual Volunteer Orientation due to COVID-19
DESCRIPTION:Virtual Volunteer Orientations are being held due to COVID-19 restrictions. \nWhere: Via Conference Call \nWhen: 10am-11am \nPlease complete a volunteer application by clicking here and then choose Create Account.
URL:https://mowtampa.org/event/volunteer-orientation/2020-05-08/
LOCATION:FL\, United States
CATEGORIES:Volunteer Orientation
GEO:27.6648274;-81.5157535
END:VEVENT
BEGIN:VEVENT
DTSTART;TZID=America/New_York:20200506T100000
DTEND;TZID=America/New_York:20200506T110000
DTSTAMP:20260421T191820
CREATED:20200422T183556Z
LAST-MODIFIED:20200422T183556Z
UID:10000096-1588759200-1588762800@mowtampa.org
SUMMARY:Virtual Volunteer Orientation due to COVID-19
DESCRIPTION:Virtual Volunteer Orientations are being held due to COVID-19 restrictions. \nWhere: Via Conference Call \nWhen: 10am-11am \nPlease complete a volunteer application by clicking here and then choose Create Account.
URL:https://mowtampa.org/event/virtual-volunteer-orientation-due-to-covid-19/2020-05-06/
END:VEVENT
BEGIN:VEVENT
DTSTART;TZID=America/New_York:20200501T100000
DTEND;TZID=America/New_York:20200501T110000
DTSTAMP:20260421T191820
CREATED:20190513T174643Z
LAST-MODIFIED:20200608T194106Z
UID:10000006-1588327200-1588330800@mowtampa.org
SUMMARY:Virtual Volunteer Orientation due to COVID-19
DESCRIPTION:Virtual Volunteer Orientations are being held due to COVID-19 restrictions. \nWhere: Via Conference Call \nWhen: 10am-11am \nPlease complete a volunteer application by clicking here and then choose Create Account.
URL:https://mowtampa.org/event/volunteer-orientation/2020-05-01/
LOCATION:FL\, United States
CATEGORIES:Volunteer Orientation
GEO:27.6648274;-81.5157535
END:VEVENT
BEGIN:VEVENT
DTSTART;TZID=America/New_York:20200429T100000
DTEND;TZID=America/New_York:20200429T110000
DTSTAMP:20260421T191820
CREATED:20200422T183556Z
LAST-MODIFIED:20200422T183556Z
UID:10000095-1588154400-1588158000@mowtampa.org
SUMMARY:Virtual Volunteer Orientation due to COVID-19
DESCRIPTION:Virtual Volunteer Orientations are being held due to COVID-19 restrictions. \nWhere: Via Conference Call \nWhen: 10am-11am \nPlease complete a volunteer application by clicking here and then choose Create Account.
URL:https://mowtampa.org/event/virtual-volunteer-orientation-due-to-covid-19/2020-04-29/
END:VEVENT
BEGIN:VEVENT
DTSTART;TZID=America/New_York:20200424T100000
DTEND;TZID=America/New_York:20200424T110000
DTSTAMP:20260421T191820
CREATED:20190513T174643Z
LAST-MODIFIED:20200608T194106Z
UID:10000005-1587722400-1587726000@mowtampa.org
SUMMARY:Virtual Volunteer Orientation due to COVID-19
DESCRIPTION:Virtual Volunteer Orientations are being held due to COVID-19 restrictions. \nWhere: Via Conference Call \nWhen: 10am-11am \nPlease complete a volunteer application by clicking here and then choose Create Account.
URL:https://mowtampa.org/event/volunteer-orientation/2020-04-24/
LOCATION:FL\, United States
CATEGORIES:Volunteer Orientation
GEO:27.6648274;-81.5157535
END:VEVENT
BEGIN:VEVENT
DTSTART;TZID=America/New_York:20200422T100000
DTEND;TZID=America/New_York:20200422T110000
DTSTAMP:20260421T191820
CREATED:20200422T183556Z
LAST-MODIFIED:20200422T183556Z
UID:10000094-1587549600-1587553200@mowtampa.org
SUMMARY:Virtual Volunteer Orientation due to COVID-19
DESCRIPTION:Virtual Volunteer Orientations are being held due to COVID-19 restrictions. \nWhere: Via Conference Call \nWhen: 10am-11am \nPlease complete a volunteer application by clicking here and then choose Create Account.
URL:https://mowtampa.org/event/virtual-volunteer-orientation-due-to-covid-19/2020-04-22/
END:VEVENT
BEGIN:VEVENT
DTSTART;VALUE=DATE:20200420
DTEND;VALUE=DATE:20200425
DTSTAMP:20260421T191820
CREATED:20191220T151551Z
LAST-MODIFIED:20191220T151551Z
UID:10000077-1587340800-1587772799@mowtampa.org
SUMMARY:Volunteer Appreciation Week
DESCRIPTION:
URL:https://mowtampa.org/event/volunteer-appreciation-week/
END:VEVENT
BEGIN:VEVENT
DTSTART;VALUE=DATE:20200410
DTEND;VALUE=DATE:20200411
DTSTAMP:20260421T191820
CREATED:20200103T200527Z
LAST-MODIFIED:20200103T200527Z
UID:10000080-1586476800-1586563199@mowtampa.org
SUMMARY:Closed for Good Friday
DESCRIPTION:
URL:https://mowtampa.org/event/closed-for-good-friday/
END:VEVENT
BEGIN:VEVENT
DTSTART;TZID=America/New_York:20200402T120000
DTEND;TZID=America/New_York:20200402T130000
DTSTAMP:20260421T191820
CREATED:20230525T202717Z
LAST-MODIFIED:20230525T202717Z
UID:10000311-1585828800-1585832400@mowtampa.org
SUMMARY:Nourish At Noon Community Lunch
DESCRIPTION:Come enjoy lunch while we share our mission. \nThis is a great opportunity for you to tour the kitchen\, enjoy one of our meals and hear our story. \nWhere: Meals On Wheels office\, 550 W. Hillsborough Ave \n\n\n\n\n\nWhen: Noon-1pm \nPlease RSVP by clicking here. 
URL:https://mowtampa.org/event/nourish-at-noon-community-lunch-2/2020-04-02/
LOCATION:Meals On Wheels of Tampa\, Inc.\, 550 W Hillsborough Avenue\, Tampa\, FL\, 33603\, United States
GEO:27.9957562;-82.4676813
X-APPLE-STRUCTURED-LOCATION;VALUE=URI;X-ADDRESS=Meals On Wheels of Tampa Inc. 550 W Hillsborough Avenue Tampa FL 33603 United States;X-APPLE-RADIUS=500;X-TITLE=550 W Hillsborough Avenue:geo:-82.4676813,27.9957562
END:VEVENT
BEGIN:VEVENT
DTSTART;TZID=America/New_York:20200327T110000
DTEND;TZID=America/New_York:20200327T114500
DTSTAMP:20260421T191820
CREATED:20200422T183321Z
LAST-MODIFIED:20200422T184318Z
UID:10000093-1585306800-1585309500@mowtampa.org
SUMMARY:Volunteer Orientation
DESCRIPTION:Volunteer Orientations take place every Friday. \nWhere: Meals On Wheels office\, 550 W. Hillsborough Ave \nWhen: 11am-11:45am \nPlease complete a volunteer application by clicking here and then choose Create Account.
URL:https://mowtampa.org/event/volunteer-orientation-2/2020-03-27/
LOCATION:Meals On Wheels of Tampa\, Inc.\, 550 W Hillsborough Avenue\, Tampa\, FL\, 33603\, United States
CATEGORIES:Volunteer Orientation
GEO:27.9957562;-82.4676813
X-APPLE-STRUCTURED-LOCATION;VALUE=URI;X-ADDRESS=Meals On Wheels of Tampa Inc. 550 W Hillsborough Avenue Tampa FL 33603 United States;X-APPLE-RADIUS=500;X-TITLE=550 W Hillsborough Avenue:geo:-82.4676813,27.9957562
END:VEVENT
BEGIN:VEVENT
DTSTART;TZID=America/New_York:20200322T130000
DTEND;TZID=America/New_York:20200322T160000
DTSTAMP:20260421T191820
CREATED:20200214T151158Z
LAST-MODIFIED:20200214T151301Z
UID:10000081-1584882000-1584892800@mowtampa.org
SUMMARY:15th Annual Taste of South Tampa
DESCRIPTION:The South Tampa Chamber of Commerce is hosting their 15th Annual Taste of South Tampa at the Tampa Garden Club on Bayshore Blvd.  Meals On Wheels of Tampa is the benefiting charity. \nMore than 30 local restaurants will feature unlimited food and beverage samples\, a beer garden\, live entertainment\, giveaways from sponsors\, opportunity to win prizes and more! \nwww.tasteofsouthtampa.com \n  \n  \n 
URL:https://mowtampa.org/event/15th-annual-taste-of-south-tampa/
LOCATION:Tampa Garden Club\, 2629 Bayshore Blvd\, Tampa\, FL\, 33629\, United States
GEO:27.9215767;-82.4887164
X-APPLE-STRUCTURED-LOCATION;VALUE=URI;X-ADDRESS=Tampa Garden Club 2629 Bayshore Blvd Tampa FL 33629 United States;X-APPLE-RADIUS=500;X-TITLE=2629 Bayshore Blvd:geo:-82.4887164,27.9215767
END:VEVENT
BEGIN:VEVENT
DTSTART;TZID=America/New_York:20200321T070000
DTEND;TZID=America/New_York:20200321T110000
DTSTAMP:20260421T191820
CREATED:20191220T152030Z
LAST-MODIFIED:20191220T152030Z
UID:10000078-1584774000-1584788400@mowtampa.org
SUMMARY:39th Annual Driscoll's Strawberry Classic
DESCRIPTION:39th Annual Driscoll’s Strawberry Classic\,  March 21st\, 2020. \nFor 39 years the Tampa Bay Runners have been putting on a race that benefits our charities\, our members and our community.  This years’ charity beneficiaries are Meals On Wheels of Tampa and Children’s Dream Fund. \nRaces include a 5k\, 10k or 15k Distance Challenge (5k+10k).
URL:https://mowtampa.org/event/39th-annual-driscolls-strawberry-classic/
END:VEVENT
BEGIN:VEVENT
DTSTART;TZID=America/New_York:20200320T110000
DTEND;TZID=America/New_York:20200320T114500
DTSTAMP:20260421T191820
CREATED:20200422T183321Z
LAST-MODIFIED:20200422T184318Z
UID:10000092-1584702000-1584704700@mowtampa.org
SUMMARY:Volunteer Orientation
DESCRIPTION:Volunteer Orientations take place every Friday. \nWhere: Meals On Wheels office\, 550 W. Hillsborough Ave \nWhen: 11am-11:45am \nPlease complete a volunteer application by clicking here and then choose Create Account.
URL:https://mowtampa.org/event/volunteer-orientation-2/2020-03-20/
LOCATION:Meals On Wheels of Tampa\, Inc.\, 550 W Hillsborough Avenue\, Tampa\, FL\, 33603\, United States
CATEGORIES:Volunteer Orientation
GEO:27.9957562;-82.4676813
X-APPLE-STRUCTURED-LOCATION;VALUE=URI;X-ADDRESS=Meals On Wheels of Tampa Inc. 550 W Hillsborough Avenue Tampa FL 33603 United States;X-APPLE-RADIUS=500;X-TITLE=550 W Hillsborough Avenue:geo:-82.4676813,27.9957562
END:VEVENT
BEGIN:VEVENT
DTSTART;TZID=America/New_York:20200313T110000
DTEND;TZID=America/New_York:20200313T114500
DTSTAMP:20260421T191820
CREATED:20200422T183321Z
LAST-MODIFIED:20200422T184318Z
UID:10000091-1584097200-1584099900@mowtampa.org
SUMMARY:Volunteer Orientation
DESCRIPTION:Volunteer Orientations take place every Friday. \nWhere: Meals On Wheels office\, 550 W. Hillsborough Ave \nWhen: 11am-11:45am \nPlease complete a volunteer application by clicking here and then choose Create Account.
URL:https://mowtampa.org/event/volunteer-orientation-2/2020-03-13/
LOCATION:Meals On Wheels of Tampa\, Inc.\, 550 W Hillsborough Avenue\, Tampa\, FL\, 33603\, United States
CATEGORIES:Volunteer Orientation
GEO:27.9957562;-82.4676813
X-APPLE-STRUCTURED-LOCATION;VALUE=URI;X-ADDRESS=Meals On Wheels of Tampa Inc. 550 W Hillsborough Avenue Tampa FL 33603 United States;X-APPLE-RADIUS=500;X-TITLE=550 W Hillsborough Avenue:geo:-82.4676813,27.9957562
END:VEVENT
BEGIN:VEVENT
DTSTART;TZID=America/New_York:20200306T110000
DTEND;TZID=America/New_York:20200306T114500
DTSTAMP:20260421T191820
CREATED:20200422T183321Z
LAST-MODIFIED:20200422T184318Z
UID:10000090-1583492400-1583495100@mowtampa.org
SUMMARY:Volunteer Orientation
DESCRIPTION:Volunteer Orientations take place every Friday. \nWhere: Meals On Wheels office\, 550 W. Hillsborough Ave \nWhen: 11am-11:45am \nPlease complete a volunteer application by clicking here and then choose Create Account.
URL:https://mowtampa.org/event/volunteer-orientation-2/2020-03-06/
LOCATION:Meals On Wheels of Tampa\, Inc.\, 550 W Hillsborough Avenue\, Tampa\, FL\, 33603\, United States
CATEGORIES:Volunteer Orientation
GEO:27.9957562;-82.4676813
X-APPLE-STRUCTURED-LOCATION;VALUE=URI;X-ADDRESS=Meals On Wheels of Tampa Inc. 550 W Hillsborough Avenue Tampa FL 33603 United States;X-APPLE-RADIUS=500;X-TITLE=550 W Hillsborough Avenue:geo:-82.4676813,27.9957562
END:VEVENT
END:VCALENDAR