BEGIN:VCALENDAR
VERSION:2.0
PRODID:-//Meals On Wheels of Tampa - ECPv6.15.20//NONSGML v1.0//EN
CALSCALE:GREGORIAN
METHOD:PUBLISH
X-WR-CALNAME:Meals On Wheels of Tampa
X-ORIGINAL-URL:https://mowtampa.org
X-WR-CALDESC:Events for Meals On Wheels of Tampa
REFRESH-INTERVAL;VALUE=DURATION:PT1H
X-Robots-Tag:noindex
X-PUBLISHED-TTL:PT1H
BEGIN:VTIMEZONE
TZID:America/New_York
BEGIN:DAYLIGHT
TZOFFSETFROM:-0500
TZOFFSETTO:-0400
TZNAME:EDT
DTSTART:20190310T070000
END:DAYLIGHT
BEGIN:STANDARD
TZOFFSETFROM:-0400
TZOFFSETTO:-0500
TZNAME:EST
DTSTART:20191103T060000
END:STANDARD
BEGIN:DAYLIGHT
TZOFFSETFROM:-0500
TZOFFSETTO:-0400
TZNAME:EDT
DTSTART:20200308T070000
END:DAYLIGHT
BEGIN:STANDARD
TZOFFSETFROM:-0400
TZOFFSETTO:-0500
TZNAME:EST
DTSTART:20201101T060000
END:STANDARD
BEGIN:DAYLIGHT
TZOFFSETFROM:-0500
TZOFFSETTO:-0400
TZNAME:EDT
DTSTART:20210314T070000
END:DAYLIGHT
BEGIN:STANDARD
TZOFFSETFROM:-0400
TZOFFSETTO:-0500
TZNAME:EST
DTSTART:20211107T060000
END:STANDARD
BEGIN:DAYLIGHT
TZOFFSETFROM:-0500
TZOFFSETTO:-0400
TZNAME:EDT
DTSTART:20220313T070000
END:DAYLIGHT
BEGIN:STANDARD
TZOFFSETFROM:-0400
TZOFFSETTO:-0500
TZNAME:EST
DTSTART:20221106T060000
END:STANDARD
BEGIN:DAYLIGHT
TZOFFSETFROM:-0500
TZOFFSETTO:-0400
TZNAME:EDT
DTSTART:20230312T070000
END:DAYLIGHT
BEGIN:STANDARD
TZOFFSETFROM:-0400
TZOFFSETTO:-0500
TZNAME:EST
DTSTART:20231105T060000
END:STANDARD
BEGIN:DAYLIGHT
TZOFFSETFROM:-0500
TZOFFSETTO:-0400
TZNAME:EDT
DTSTART:20240310T070000
END:DAYLIGHT
BEGIN:STANDARD
TZOFFSETFROM:-0400
TZOFFSETTO:-0500
TZNAME:EST
DTSTART:20241103T060000
END:STANDARD
END:VTIMEZONE
BEGIN:VEVENT
DTSTART;VALUE=DATE:20230102
DTEND;VALUE=DATE:20230103
DTSTAMP:20260421T155019
CREATED:20230224T192652Z
LAST-MODIFIED:20230224T193334Z
UID:10000135-1672617600-1672703999@mowtampa.org
SUMMARY:Office Closed
DESCRIPTION:The Meals On Wheels of Tampa administrative offices will be closed in observance of the New Years Holiday. \n 
URL:https://mowtampa.org/event/office-closed-for-holiday/
END:VEVENT
BEGIN:VEVENT
DTSTART;VALUE=DATE:20221225
DTEND;VALUE=DATE:20221226
DTSTAMP:20260421T155019
CREATED:20190521T173850Z
LAST-MODIFIED:20190521T173850Z
UID:10000072-1671926400-1672012799@mowtampa.org
SUMMARY:CLOSED for holiday
DESCRIPTION:The Meals On Wheels of Tampa office is closed for the holiday.
URL:https://mowtampa.org/event/closed-for-holiday-5/2022-12-25/
END:VEVENT
BEGIN:VEVENT
DTSTART;VALUE=DATE:20220704
DTEND;VALUE=DATE:20220705
DTSTAMP:20260421T155019
CREATED:20190521T173458Z
LAST-MODIFIED:20200603T171847Z
UID:10000060-1656892800-1656979199@mowtampa.org
SUMMARY:CLOSED for holiday
DESCRIPTION:The Meals On Wheels of Tampa office is closed for the holiday.
URL:https://mowtampa.org/event/closed-for-holiday/2022-07-04/
END:VEVENT
BEGIN:VEVENT
DTSTART;VALUE=DATE:20211225
DTEND;VALUE=DATE:20211226
DTSTAMP:20260421T155020
CREATED:20190521T173850Z
LAST-MODIFIED:20190521T173850Z
UID:10000071-1640390400-1640476799@mowtampa.org
SUMMARY:CLOSED for holiday
DESCRIPTION:The Meals On Wheels of Tampa office is closed for the holiday.
URL:https://mowtampa.org/event/closed-for-holiday-5/2021-12-25/
END:VEVENT
BEGIN:VEVENT
DTSTART;TZID=America/New_York:20211218T093000
DTEND;TZID=America/New_York:20211218T113000
DTSTAMP:20260421T155020
CREATED:20200610T192334Z
LAST-MODIFIED:20200610T192334Z
UID:10000112-1639819800-1639827000@mowtampa.org
SUMMARY:Holiday gift bag delivery
DESCRIPTION:Holiday gift bag delivery\nVolunteers deliver holiday gift bags to all program recipients. Routes take 60-90 minutes to complete. \nVolunteers must complete an application and attend an orientation prior to delivering. \nFor more information\, click here or call (813) 238-8410.
URL:https://mowtampa.org/event/holiday-gift-bag-delivery-2/2021-12-18/
LOCATION:Meals On Wheels of Tampa\, Inc.\, 550 W Hillsborough Avenue\, Tampa\, FL\, 33603\, United States
GEO:27.9957562;-82.4676813
X-APPLE-STRUCTURED-LOCATION;VALUE=URI;X-ADDRESS=Meals On Wheels of Tampa Inc. 550 W Hillsborough Avenue Tampa FL 33603 United States;X-APPLE-RADIUS=500;X-TITLE=550 W Hillsborough Avenue:geo:-82.4676813,27.9957562
END:VEVENT
BEGIN:VEVENT
DTSTART;TZID=America/New_York:20211125T093000
DTEND;TZID=America/New_York:20211125T113000
DTSTAMP:20260421T155020
CREATED:20200610T192434Z
LAST-MODIFIED:20200610T192434Z
UID:10000114-1637832600-1637839800@mowtampa.org
SUMMARY:Thanksgiving morning special delivery
DESCRIPTION:Thanksgiving morning special delivery\nVolunteers will deliver goodies and cards to all program recipients. Routes take 60-90 minutes to complete. \nVolunteers must complete an application and attend an orientation prior to delivering. \nFor more information\, click here or call (813) 238-8410.
URL:https://mowtampa.org/event/thanksgiving-morning-special-delivery/2021-11-25/
LOCATION:Meals On Wheels of Tampa\, Inc.\, 550 W Hillsborough Avenue\, Tampa\, FL\, 33603\, United States
GEO:27.9957562;-82.4676813
X-APPLE-STRUCTURED-LOCATION;VALUE=URI;X-ADDRESS=Meals On Wheels of Tampa Inc. 550 W Hillsborough Avenue Tampa FL 33603 United States;X-APPLE-RADIUS=500;X-TITLE=550 W Hillsborough Avenue:geo:-82.4676813,27.9957562
END:VEVENT
BEGIN:VEVENT
DTSTART;TZID=America/New_York:20211016T093000
DTEND;TZID=America/New_York:20211016T113000
DTSTAMP:20260421T155020
CREATED:20200610T191708Z
LAST-MODIFIED:20200708T160051Z
UID:10000110-1634376600-1634383800@mowtampa.org
SUMMARY:Produce On Wheels (POW!) Delivery
DESCRIPTION:Produce On Wheels(POW!) Delivery\nVolunteers deliver bags of fresh produce to all program recipients. Routes take 60-90 minutes to complete. \nVolunteers must complete an application and attend an orientation prior to delivering. \nFor more information\, click here or call (813) 238-8410.
URL:https://mowtampa.org/event/produce-on-wheels-pow-delivery/2021-10-16/
LOCATION:Meals On Wheels of Tampa\, Inc.\, 550 W Hillsborough Avenue\, Tampa\, FL\, 33603\, United States
CATEGORIES:Produce On Wheels (POW!)
GEO:27.9957562;-82.4676813
X-APPLE-STRUCTURED-LOCATION;VALUE=URI;X-ADDRESS=Meals On Wheels of Tampa Inc. 550 W Hillsborough Avenue Tampa FL 33603 United States;X-APPLE-RADIUS=500;X-TITLE=550 W Hillsborough Avenue:geo:-82.4676813,27.9957562
END:VEVENT
BEGIN:VEVENT
DTSTART;TZID=America/New_York:20210918T093000
DTEND;TZID=America/New_York:20210918T113000
DTSTAMP:20260421T155020
CREATED:20200610T191708Z
LAST-MODIFIED:20200708T160051Z
UID:10000109-1631957400-1631964600@mowtampa.org
SUMMARY:Produce On Wheels (POW!) Delivery
DESCRIPTION:Produce On Wheels(POW!) Delivery\nVolunteers deliver bags of fresh produce to all program recipients. Routes take 60-90 minutes to complete. \nVolunteers must complete an application and attend an orientation prior to delivering. \nFor more information\, click here or call (813) 238-8410.
URL:https://mowtampa.org/event/produce-on-wheels-pow-delivery/2021-09-18/
LOCATION:Meals On Wheels of Tampa\, Inc.\, 550 W Hillsborough Avenue\, Tampa\, FL\, 33603\, United States
CATEGORIES:Produce On Wheels (POW!)
GEO:27.9957562;-82.4676813
X-APPLE-STRUCTURED-LOCATION;VALUE=URI;X-ADDRESS=Meals On Wheels of Tampa Inc. 550 W Hillsborough Avenue Tampa FL 33603 United States;X-APPLE-RADIUS=500;X-TITLE=550 W Hillsborough Avenue:geo:-82.4676813,27.9957562
END:VEVENT
BEGIN:VEVENT
DTSTART;TZID=America/New_York:20210821T093000
DTEND;TZID=America/New_York:20210821T113000
DTSTAMP:20260421T155020
CREATED:20200610T191708Z
LAST-MODIFIED:20200708T160051Z
UID:10000108-1629538200-1629545400@mowtampa.org
SUMMARY:Produce On Wheels (POW!) Delivery
DESCRIPTION:Produce On Wheels(POW!) Delivery\nVolunteers deliver bags of fresh produce to all program recipients. Routes take 60-90 minutes to complete. \nVolunteers must complete an application and attend an orientation prior to delivering. \nFor more information\, click here or call (813) 238-8410.
URL:https://mowtampa.org/event/produce-on-wheels-pow-delivery/2021-08-21/
LOCATION:Meals On Wheels of Tampa\, Inc.\, 550 W Hillsborough Avenue\, Tampa\, FL\, 33603\, United States
CATEGORIES:Produce On Wheels (POW!)
GEO:27.9957562;-82.4676813
X-APPLE-STRUCTURED-LOCATION;VALUE=URI;X-ADDRESS=Meals On Wheels of Tampa Inc. 550 W Hillsborough Avenue Tampa FL 33603 United States;X-APPLE-RADIUS=500;X-TITLE=550 W Hillsborough Avenue:geo:-82.4676813,27.9957562
END:VEVENT
BEGIN:VEVENT
DTSTART;TZID=America/New_York:20210717T093000
DTEND;TZID=America/New_York:20210717T113000
DTSTAMP:20260421T155020
CREATED:20200610T191708Z
LAST-MODIFIED:20200708T160051Z
UID:10000107-1626514200-1626521400@mowtampa.org
SUMMARY:Produce On Wheels (POW!) Delivery
DESCRIPTION:Produce On Wheels(POW!) Delivery\nVolunteers deliver bags of fresh produce to all program recipients. Routes take 60-90 minutes to complete. \nVolunteers must complete an application and attend an orientation prior to delivering. \nFor more information\, click here or call (813) 238-8410.
URL:https://mowtampa.org/event/produce-on-wheels-pow-delivery/2021-07-17/
LOCATION:Meals On Wheels of Tampa\, Inc.\, 550 W Hillsborough Avenue\, Tampa\, FL\, 33603\, United States
CATEGORIES:Produce On Wheels (POW!)
GEO:27.9957562;-82.4676813
X-APPLE-STRUCTURED-LOCATION;VALUE=URI;X-ADDRESS=Meals On Wheels of Tampa Inc. 550 W Hillsborough Avenue Tampa FL 33603 United States;X-APPLE-RADIUS=500;X-TITLE=550 W Hillsborough Avenue:geo:-82.4676813,27.9957562
END:VEVENT
BEGIN:VEVENT
DTSTART;VALUE=DATE:20210704
DTEND;VALUE=DATE:20210705
DTSTAMP:20260421T155020
CREATED:20190521T173458Z
LAST-MODIFIED:20200603T171847Z
UID:10000059-1625356800-1625443199@mowtampa.org
SUMMARY:CLOSED for holiday
DESCRIPTION:The Meals On Wheels of Tampa office is closed for the holiday.
URL:https://mowtampa.org/event/closed-for-holiday/2021-07-04/
END:VEVENT
BEGIN:VEVENT
DTSTART;TZID=America/New_York:20210619T093000
DTEND;TZID=America/New_York:20210619T113000
DTSTAMP:20260421T155020
CREATED:20200610T191708Z
LAST-MODIFIED:20200708T160051Z
UID:10000106-1624095000-1624102200@mowtampa.org
SUMMARY:Produce On Wheels (POW!) Delivery
DESCRIPTION:Produce On Wheels(POW!) Delivery\nVolunteers deliver bags of fresh produce to all program recipients. Routes take 60-90 minutes to complete. \nVolunteers must complete an application and attend an orientation prior to delivering. \nFor more information\, click here or call (813) 238-8410.
URL:https://mowtampa.org/event/produce-on-wheels-pow-delivery/2021-06-19/
LOCATION:Meals On Wheels of Tampa\, Inc.\, 550 W Hillsborough Avenue\, Tampa\, FL\, 33603\, United States
CATEGORIES:Produce On Wheels (POW!)
GEO:27.9957562;-82.4676813
X-APPLE-STRUCTURED-LOCATION;VALUE=URI;X-ADDRESS=Meals On Wheels of Tampa Inc. 550 W Hillsborough Avenue Tampa FL 33603 United States;X-APPLE-RADIUS=500;X-TITLE=550 W Hillsborough Avenue:geo:-82.4676813,27.9957562
END:VEVENT
BEGIN:VEVENT
DTSTART;TZID=America/New_York:20210417T093000
DTEND;TZID=America/New_York:20210417T113000
DTSTAMP:20260421T155020
CREATED:20200610T191708Z
LAST-MODIFIED:20200708T160051Z
UID:10000105-1618651800-1618659000@mowtampa.org
SUMMARY:Produce On Wheels (POW!) Delivery
DESCRIPTION:Produce On Wheels(POW!) Delivery\nVolunteers deliver bags of fresh produce to all program recipients. Routes take 60-90 minutes to complete. \nVolunteers must complete an application and attend an orientation prior to delivering. \nFor more information\, click here or call (813) 238-8410.
URL:https://mowtampa.org/event/produce-on-wheels-pow-delivery/2021-04-17/
LOCATION:Meals On Wheels of Tampa\, Inc.\, 550 W Hillsborough Avenue\, Tampa\, FL\, 33603\, United States
CATEGORIES:Produce On Wheels (POW!)
GEO:27.9957562;-82.4676813
X-APPLE-STRUCTURED-LOCATION;VALUE=URI;X-ADDRESS=Meals On Wheels of Tampa Inc. 550 W Hillsborough Avenue Tampa FL 33603 United States;X-APPLE-RADIUS=500;X-TITLE=550 W Hillsborough Avenue:geo:-82.4676813,27.9957562
END:VEVENT
BEGIN:VEVENT
DTSTART;TZID=America/New_York:20210320T093000
DTEND;TZID=America/New_York:20210320T113000
DTSTAMP:20260421T155020
CREATED:20200610T191708Z
LAST-MODIFIED:20200708T160051Z
UID:10000104-1616232600-1616239800@mowtampa.org
SUMMARY:Produce On Wheels (POW!) Delivery
DESCRIPTION:Produce On Wheels(POW!) Delivery\nVolunteers deliver bags of fresh produce to all program recipients. Routes take 60-90 minutes to complete. \nVolunteers must complete an application and attend an orientation prior to delivering. \nFor more information\, click here or call (813) 238-8410.
URL:https://mowtampa.org/event/produce-on-wheels-pow-delivery/2021-03-20/
LOCATION:Meals On Wheels of Tampa\, Inc.\, 550 W Hillsborough Avenue\, Tampa\, FL\, 33603\, United States
CATEGORIES:Produce On Wheels (POW!)
GEO:27.9957562;-82.4676813
X-APPLE-STRUCTURED-LOCATION;VALUE=URI;X-ADDRESS=Meals On Wheels of Tampa Inc. 550 W Hillsborough Avenue Tampa FL 33603 United States;X-APPLE-RADIUS=500;X-TITLE=550 W Hillsborough Avenue:geo:-82.4676813,27.9957562
END:VEVENT
BEGIN:VEVENT
DTSTART;TZID=America/New_York:20210220T093000
DTEND;TZID=America/New_York:20210220T113000
DTSTAMP:20260421T155020
CREATED:20200610T191708Z
LAST-MODIFIED:20200708T160051Z
UID:10000103-1613813400-1613820600@mowtampa.org
SUMMARY:Produce On Wheels (POW!) Delivery
DESCRIPTION:Produce On Wheels(POW!) Delivery\nVolunteers deliver bags of fresh produce to all program recipients. Routes take 60-90 minutes to complete. \nVolunteers must complete an application and attend an orientation prior to delivering. \nFor more information\, click here or call (813) 238-8410.
URL:https://mowtampa.org/event/produce-on-wheels-pow-delivery/2021-02-20/
LOCATION:Meals On Wheels of Tampa\, Inc.\, 550 W Hillsborough Avenue\, Tampa\, FL\, 33603\, United States
CATEGORIES:Produce On Wheels (POW!)
GEO:27.9957562;-82.4676813
X-APPLE-STRUCTURED-LOCATION;VALUE=URI;X-ADDRESS=Meals On Wheels of Tampa Inc. 550 W Hillsborough Avenue Tampa FL 33603 United States;X-APPLE-RADIUS=500;X-TITLE=550 W Hillsborough Avenue:geo:-82.4676813,27.9957562
END:VEVENT
BEGIN:VEVENT
DTSTART;TZID=America/New_York:20210116T093000
DTEND;TZID=America/New_York:20210116T113000
DTSTAMP:20260421T155020
CREATED:20200610T191708Z
LAST-MODIFIED:20200708T160051Z
UID:10000102-1610789400-1610796600@mowtampa.org
SUMMARY:Produce On Wheels (POW!) Delivery
DESCRIPTION:Produce On Wheels(POW!) Delivery\nVolunteers deliver bags of fresh produce to all program recipients. Routes take 60-90 minutes to complete. \nVolunteers must complete an application and attend an orientation prior to delivering. \nFor more information\, click here or call (813) 238-8410.
URL:https://mowtampa.org/event/produce-on-wheels-pow-delivery/2021-01-16/
LOCATION:Meals On Wheels of Tampa\, Inc.\, 550 W Hillsborough Avenue\, Tampa\, FL\, 33603\, United States
CATEGORIES:Produce On Wheels (POW!)
GEO:27.9957562;-82.4676813
X-APPLE-STRUCTURED-LOCATION;VALUE=URI;X-ADDRESS=Meals On Wheels of Tampa Inc. 550 W Hillsborough Avenue Tampa FL 33603 United States;X-APPLE-RADIUS=500;X-TITLE=550 W Hillsborough Avenue:geo:-82.4676813,27.9957562
END:VEVENT
BEGIN:VEVENT
DTSTART;VALUE=DATE:20201225
DTEND;VALUE=DATE:20201226
DTSTAMP:20260421T155020
CREATED:20190521T173850Z
LAST-MODIFIED:20190521T173850Z
UID:10000070-1608854400-1608940799@mowtampa.org
SUMMARY:CLOSED for holiday
DESCRIPTION:The Meals On Wheels of Tampa office is closed for the holiday.
URL:https://mowtampa.org/event/closed-for-holiday-5/2020-12-25/
END:VEVENT
BEGIN:VEVENT
DTSTART;TZID=America/New_York:20201219T093000
DTEND;TZID=America/New_York:20201219T113000
DTSTAMP:20260421T155020
CREATED:20200610T192334Z
LAST-MODIFIED:20200610T192334Z
UID:10000111-1608370200-1608377400@mowtampa.org
SUMMARY:Holiday gift bag delivery
DESCRIPTION:Holiday gift bag delivery\nVolunteers deliver holiday gift bags to all program recipients. Routes take 60-90 minutes to complete. \nVolunteers must complete an application and attend an orientation prior to delivering. \nFor more information\, click here or call (813) 238-8410.
URL:https://mowtampa.org/event/holiday-gift-bag-delivery-2/2020-12-19/
LOCATION:Meals On Wheels of Tampa\, Inc.\, 550 W Hillsborough Avenue\, Tampa\, FL\, 33603\, United States
GEO:27.9957562;-82.4676813
X-APPLE-STRUCTURED-LOCATION;VALUE=URI;X-ADDRESS=Meals On Wheels of Tampa Inc. 550 W Hillsborough Avenue Tampa FL 33603 United States;X-APPLE-RADIUS=500;X-TITLE=550 W Hillsborough Avenue:geo:-82.4676813,27.9957562
END:VEVENT
BEGIN:VEVENT
DTSTART;TZID=America/New_York:20201218T110000
DTEND;TZID=America/New_York:20201218T120000
DTSTAMP:20260421T155020
CREATED:20200610T193323Z
LAST-MODIFIED:20200610T193346Z
UID:10000129-1608289200-1608292800@mowtampa.org
SUMMARY:Volunteer Orientation
DESCRIPTION:Volunteer Orientations are required for all delivery opportunities. \nWhere: Meals On Wheels of Tampa office \nWhen: 11am-Noon \nPlease complete a volunteer application by clicking here and then choose Create Account.
URL:https://mowtampa.org/event/volunteer-orientation-3/2020-12-18/
LOCATION:Meals On Wheels of Tampa\, Inc.\, 550 W Hillsborough Avenue\, Tampa\, FL\, 33603\, United States
CATEGORIES:Volunteer Orientation
GEO:27.9957562;-82.4676813
X-APPLE-STRUCTURED-LOCATION;VALUE=URI;X-ADDRESS=Meals On Wheels of Tampa Inc. 550 W Hillsborough Avenue Tampa FL 33603 United States;X-APPLE-RADIUS=500;X-TITLE=550 W Hillsborough Avenue:geo:-82.4676813,27.9957562
END:VEVENT
BEGIN:VEVENT
DTSTART;TZID=America/New_York:20201214T120000
DTEND;TZID=America/New_York:20201217T160000
DTSTAMP:20260421T155020
CREATED:20200610T192753Z
LAST-MODIFIED:20200610T192753Z
UID:10000115-1607947200-1608220800@mowtampa.org
SUMMARY:Sorting and packing holiday gift bags
DESCRIPTION:Volunteers will be needed to help sort and count items\, then pack bags the week of December 14th. \nShifts are Monday\, December 14th\, Tuesday\, December 15th\,  Wednesday\, December 16th and Thursday\, December 17th from noon-2pm and 2-4pm. \nPlease call (813) 238-8410 to sign up.
URL:https://mowtampa.org/event/sorting-and-packing-holiday-gift-bags-2/
LOCATION:Meals On Wheels of Tampa\, Inc.\, 550 W Hillsborough Avenue\, Tampa\, FL\, 33603\, United States
GEO:27.9957562;-82.4676813
X-APPLE-STRUCTURED-LOCATION;VALUE=URI;X-ADDRESS=Meals On Wheels of Tampa Inc. 550 W Hillsborough Avenue Tampa FL 33603 United States;X-APPLE-RADIUS=500;X-TITLE=550 W Hillsborough Avenue:geo:-82.4676813,27.9957562
END:VEVENT
BEGIN:VEVENT
DTSTART;TZID=America/New_York:20201211T110000
DTEND;TZID=America/New_York:20201211T120000
DTSTAMP:20260421T155020
CREATED:20200610T193323Z
LAST-MODIFIED:20200610T193346Z
UID:10000128-1607684400-1607688000@mowtampa.org
SUMMARY:Volunteer Orientation
DESCRIPTION:Volunteer Orientations are required for all delivery opportunities. \nWhere: Meals On Wheels of Tampa office \nWhen: 11am-Noon \nPlease complete a volunteer application by clicking here and then choose Create Account.
URL:https://mowtampa.org/event/volunteer-orientation-3/2020-12-11/
LOCATION:Meals On Wheels of Tampa\, Inc.\, 550 W Hillsborough Avenue\, Tampa\, FL\, 33603\, United States
CATEGORIES:Volunteer Orientation
GEO:27.9957562;-82.4676813
X-APPLE-STRUCTURED-LOCATION;VALUE=URI;X-ADDRESS=Meals On Wheels of Tampa Inc. 550 W Hillsborough Avenue Tampa FL 33603 United States;X-APPLE-RADIUS=500;X-TITLE=550 W Hillsborough Avenue:geo:-82.4676813,27.9957562
END:VEVENT
BEGIN:VEVENT
DTSTART;TZID=America/New_York:20201204T110000
DTEND;TZID=America/New_York:20201204T120000
DTSTAMP:20260421T155020
CREATED:20200610T193323Z
LAST-MODIFIED:20200610T193346Z
UID:10000127-1607079600-1607083200@mowtampa.org
SUMMARY:Volunteer Orientation
DESCRIPTION:Volunteer Orientations are required for all delivery opportunities. \nWhere: Meals On Wheels of Tampa office \nWhen: 11am-Noon \nPlease complete a volunteer application by clicking here and then choose Create Account.
URL:https://mowtampa.org/event/volunteer-orientation-3/2020-12-04/
LOCATION:Meals On Wheels of Tampa\, Inc.\, 550 W Hillsborough Avenue\, Tampa\, FL\, 33603\, United States
CATEGORIES:Volunteer Orientation
GEO:27.9957562;-82.4676813
X-APPLE-STRUCTURED-LOCATION;VALUE=URI;X-ADDRESS=Meals On Wheels of Tampa Inc. 550 W Hillsborough Avenue Tampa FL 33603 United States;X-APPLE-RADIUS=500;X-TITLE=550 W Hillsborough Avenue:geo:-82.4676813,27.9957562
END:VEVENT
BEGIN:VEVENT
DTSTART;TZID=America/New_York:20201203T120000
DTEND;TZID=America/New_York:20201203T130000
DTSTAMP:20260421T155020
CREATED:20230525T202717Z
LAST-MODIFIED:20230525T202717Z
UID:10000312-1606996800-1607000400@mowtampa.org
SUMMARY:Nourish At Noon Community Lunch
DESCRIPTION:Come enjoy lunch while we share our mission. \nThis is a great opportunity for you to tour the kitchen\, enjoy one of our meals and hear our story. \nWhere: Meals On Wheels office\, 550 W. Hillsborough Ave \n\n\n\n\n\nWhen: Noon-1pm \nPlease RSVP by clicking here. 
URL:https://mowtampa.org/event/nourish-at-noon-community-lunch-2/2020-12-03/
LOCATION:Meals On Wheels of Tampa\, Inc.\, 550 W Hillsborough Avenue\, Tampa\, FL\, 33603\, United States
GEO:27.9957562;-82.4676813
X-APPLE-STRUCTURED-LOCATION;VALUE=URI;X-ADDRESS=Meals On Wheels of Tampa Inc. 550 W Hillsborough Avenue Tampa FL 33603 United States;X-APPLE-RADIUS=500;X-TITLE=550 W Hillsborough Avenue:geo:-82.4676813,27.9957562
END:VEVENT
BEGIN:VEVENT
DTSTART;TZID=America/New_York:20201126T093000
DTEND;TZID=America/New_York:20201126T113000
DTSTAMP:20260421T155020
CREATED:20200610T192434Z
LAST-MODIFIED:20200610T192434Z
UID:10000113-1606383000-1606390200@mowtampa.org
SUMMARY:Thanksgiving morning special delivery
DESCRIPTION:Thanksgiving morning special delivery\nVolunteers will deliver goodies and cards to all program recipients. Routes take 60-90 minutes to complete. \nVolunteers must complete an application and attend an orientation prior to delivering. \nFor more information\, click here or call (813) 238-8410.
URL:https://mowtampa.org/event/thanksgiving-morning-special-delivery/2020-11-26/
LOCATION:Meals On Wheels of Tampa\, Inc.\, 550 W Hillsborough Avenue\, Tampa\, FL\, 33603\, United States
GEO:27.9957562;-82.4676813
X-APPLE-STRUCTURED-LOCATION;VALUE=URI;X-ADDRESS=Meals On Wheels of Tampa Inc. 550 W Hillsborough Avenue Tampa FL 33603 United States;X-APPLE-RADIUS=500;X-TITLE=550 W Hillsborough Avenue:geo:-82.4676813,27.9957562
END:VEVENT
BEGIN:VEVENT
DTSTART;TZID=America/New_York:20201120T110000
DTEND;TZID=America/New_York:20201120T120000
DTSTAMP:20260421T155020
CREATED:20200610T193323Z
LAST-MODIFIED:20200610T193346Z
UID:10000126-1605870000-1605873600@mowtampa.org
SUMMARY:Volunteer Orientation
DESCRIPTION:Volunteer Orientations are required for all delivery opportunities. \nWhere: Meals On Wheels of Tampa office \nWhen: 11am-Noon \nPlease complete a volunteer application by clicking here and then choose Create Account.
URL:https://mowtampa.org/event/volunteer-orientation-3/2020-11-20/
LOCATION:Meals On Wheels of Tampa\, Inc.\, 550 W Hillsborough Avenue\, Tampa\, FL\, 33603\, United States
CATEGORIES:Volunteer Orientation
GEO:27.9957562;-82.4676813
X-APPLE-STRUCTURED-LOCATION;VALUE=URI;X-ADDRESS=Meals On Wheels of Tampa Inc. 550 W Hillsborough Avenue Tampa FL 33603 United States;X-APPLE-RADIUS=500;X-TITLE=550 W Hillsborough Avenue:geo:-82.4676813,27.9957562
END:VEVENT
BEGIN:VEVENT
DTSTART;TZID=America/New_York:20201113T110000
DTEND;TZID=America/New_York:20201113T120000
DTSTAMP:20260421T155020
CREATED:20200610T193323Z
LAST-MODIFIED:20200610T193346Z
UID:10000125-1605265200-1605268800@mowtampa.org
SUMMARY:Volunteer Orientation
DESCRIPTION:Volunteer Orientations are required for all delivery opportunities. \nWhere: Meals On Wheels of Tampa office \nWhen: 11am-Noon \nPlease complete a volunteer application by clicking here and then choose Create Account.
URL:https://mowtampa.org/event/volunteer-orientation-3/2020-11-13/
LOCATION:Meals On Wheels of Tampa\, Inc.\, 550 W Hillsborough Avenue\, Tampa\, FL\, 33603\, United States
CATEGORIES:Volunteer Orientation
GEO:27.9957562;-82.4676813
X-APPLE-STRUCTURED-LOCATION;VALUE=URI;X-ADDRESS=Meals On Wheels of Tampa Inc. 550 W Hillsborough Avenue Tampa FL 33603 United States;X-APPLE-RADIUS=500;X-TITLE=550 W Hillsborough Avenue:geo:-82.4676813,27.9957562
END:VEVENT
BEGIN:VEVENT
DTSTART;TZID=America/New_York:20201106T110000
DTEND;TZID=America/New_York:20201106T120000
DTSTAMP:20260421T155020
CREATED:20200610T193323Z
LAST-MODIFIED:20200610T193346Z
UID:10000124-1604660400-1604664000@mowtampa.org
SUMMARY:Volunteer Orientation
DESCRIPTION:Volunteer Orientations are required for all delivery opportunities. \nWhere: Meals On Wheels of Tampa office \nWhen: 11am-Noon \nPlease complete a volunteer application by clicking here and then choose Create Account.
URL:https://mowtampa.org/event/volunteer-orientation-3/2020-11-06/
LOCATION:Meals On Wheels of Tampa\, Inc.\, 550 W Hillsborough Avenue\, Tampa\, FL\, 33603\, United States
CATEGORIES:Volunteer Orientation
GEO:27.9957562;-82.4676813
X-APPLE-STRUCTURED-LOCATION;VALUE=URI;X-ADDRESS=Meals On Wheels of Tampa Inc. 550 W Hillsborough Avenue Tampa FL 33603 United States;X-APPLE-RADIUS=500;X-TITLE=550 W Hillsborough Avenue:geo:-82.4676813,27.9957562
END:VEVENT
BEGIN:VEVENT
DTSTART;TZID=America/New_York:20201030T110000
DTEND;TZID=America/New_York:20201030T120000
DTSTAMP:20260421T155020
CREATED:20200610T193323Z
LAST-MODIFIED:20200610T193346Z
UID:10000123-1604055600-1604059200@mowtampa.org
SUMMARY:Volunteer Orientation
DESCRIPTION:Volunteer Orientations are required for all delivery opportunities. \nWhere: Meals On Wheels of Tampa office \nWhen: 11am-Noon \nPlease complete a volunteer application by clicking here and then choose Create Account.
URL:https://mowtampa.org/event/volunteer-orientation-3/2020-10-30/
LOCATION:Meals On Wheels of Tampa\, Inc.\, 550 W Hillsborough Avenue\, Tampa\, FL\, 33603\, United States
CATEGORIES:Volunteer Orientation
GEO:27.9957562;-82.4676813
X-APPLE-STRUCTURED-LOCATION;VALUE=URI;X-ADDRESS=Meals On Wheels of Tampa Inc. 550 W Hillsborough Avenue Tampa FL 33603 United States;X-APPLE-RADIUS=500;X-TITLE=550 W Hillsborough Avenue:geo:-82.4676813,27.9957562
END:VEVENT
BEGIN:VEVENT
DTSTART;TZID=America/New_York:20201023T110000
DTEND;TZID=America/New_York:20201023T120000
DTSTAMP:20260421T155020
CREATED:20200610T193323Z
LAST-MODIFIED:20200610T193346Z
UID:10000122-1603450800-1603454400@mowtampa.org
SUMMARY:Volunteer Orientation
DESCRIPTION:Volunteer Orientations are required for all delivery opportunities. \nWhere: Meals On Wheels of Tampa office \nWhen: 11am-Noon \nPlease complete a volunteer application by clicking here and then choose Create Account.
URL:https://mowtampa.org/event/volunteer-orientation-3/2020-10-23/
LOCATION:Meals On Wheels of Tampa\, Inc.\, 550 W Hillsborough Avenue\, Tampa\, FL\, 33603\, United States
CATEGORIES:Volunteer Orientation
GEO:27.9957562;-82.4676813
X-APPLE-STRUCTURED-LOCATION;VALUE=URI;X-ADDRESS=Meals On Wheels of Tampa Inc. 550 W Hillsborough Avenue Tampa FL 33603 United States;X-APPLE-RADIUS=500;X-TITLE=550 W Hillsborough Avenue:geo:-82.4676813,27.9957562
END:VEVENT
BEGIN:VEVENT
DTSTART;TZID=America/New_York:20201017T093000
DTEND;TZID=America/New_York:20201017T113000
DTSTAMP:20260421T155020
CREATED:20200610T191708Z
LAST-MODIFIED:20200708T160051Z
UID:10000101-1602927000-1602934200@mowtampa.org
SUMMARY:Produce On Wheels (POW!) Delivery
DESCRIPTION:Produce On Wheels(POW!) Delivery\nVolunteers deliver bags of fresh produce to all program recipients. Routes take 60-90 minutes to complete. \nVolunteers must complete an application and attend an orientation prior to delivering. \nFor more information\, click here or call (813) 238-8410.
URL:https://mowtampa.org/event/produce-on-wheels-pow-delivery/2020-10-17/
LOCATION:Meals On Wheels of Tampa\, Inc.\, 550 W Hillsborough Avenue\, Tampa\, FL\, 33603\, United States
CATEGORIES:Produce On Wheels (POW!)
GEO:27.9957562;-82.4676813
X-APPLE-STRUCTURED-LOCATION;VALUE=URI;X-ADDRESS=Meals On Wheels of Tampa Inc. 550 W Hillsborough Avenue Tampa FL 33603 United States;X-APPLE-RADIUS=500;X-TITLE=550 W Hillsborough Avenue:geo:-82.4676813,27.9957562
END:VEVENT
END:VCALENDAR