BEGIN:VCALENDAR
VERSION:2.0
PRODID:-//Meals On Wheels of Tampa - ECPv6.15.20//NONSGML v1.0//EN
CALSCALE:GREGORIAN
METHOD:PUBLISH
X-ORIGINAL-URL:https://mowtampa.org
X-WR-CALDESC:Events for Meals On Wheels of Tampa
REFRESH-INTERVAL;VALUE=DURATION:PT1H
X-Robots-Tag:noindex
X-PUBLISHED-TTL:PT1H
BEGIN:VTIMEZONE
TZID:America/New_York
BEGIN:DAYLIGHT
TZOFFSETFROM:-0500
TZOFFSETTO:-0400
TZNAME:EDT
DTSTART:20270314T070000
END:DAYLIGHT
BEGIN:STANDARD
TZOFFSETFROM:-0400
TZOFFSETTO:-0500
TZNAME:EST
DTSTART:20271107T060000
END:STANDARD
BEGIN:DAYLIGHT
TZOFFSETFROM:-0500
TZOFFSETTO:-0400
TZNAME:EDT
DTSTART:20280312T070000
END:DAYLIGHT
BEGIN:STANDARD
TZOFFSETFROM:-0400
TZOFFSETTO:-0500
TZNAME:EST
DTSTART:20281105T060000
END:STANDARD
BEGIN:DAYLIGHT
TZOFFSETFROM:-0500
TZOFFSETTO:-0400
TZNAME:EDT
DTSTART:20290311T070000
END:DAYLIGHT
BEGIN:STANDARD
TZOFFSETFROM:-0400
TZOFFSETTO:-0500
TZNAME:EST
DTSTART:20291104T060000
END:STANDARD
END:VTIMEZONE
BEGIN:VEVENT
DTSTART;TZID=America/New_York:20280726T110000
DTEND;TZID=America/New_York:20280726T120000
DTSTAMP:20260419T232715
CREATED:20240202T174044Z
LAST-MODIFIED:20240202T174044Z
UID:10000564-1848222000-1848225600@mowtampa.org
SUMMARY:Volunteer Orientation – In Person
DESCRIPTION:Volunteer Orientation – In Person\nAll new volunteers are required to participate in a Volunteer Orientation before they can sign up to deliver a route. \nIn person orientations are held at the Meals On Wheels of Tampa office located at 5320 North Boulevard Tampa FL 33603. \nRegistration is required. Please complete a volunteer application by clicking here and then choose Create Account.
URL:https://mowtampa.org/event/volunteer-orientation-in-person/2028-07-26/
END:VEVENT
BEGIN:VEVENT
DTSTART;TZID=America/New_York:20280728T110000
DTEND;TZID=America/New_York:20280728T120000
DTSTAMP:20260419T232715
CREATED:20240202T174931Z
LAST-MODIFIED:20240202T175417Z
UID:10000827-1848394800-1848398400@mowtampa.org
SUMMARY:Volunteer Orientation – Virtual
DESCRIPTION:Volunteer Orientation – Virtual\nAll new volunteers are required to participate in a Volunteer Orientation before they can sign up to deliver a route. \nVirtual orientations will be held over Zoom. It is a requirement that your camera be turned “on” during session. \nRegistration is required. Please complete a volunteer application by clicking here and then choose Create Account.
URL:https://mowtampa.org/event/volunteer-orientation-virtual/2028-07-28/
END:VEVENT
BEGIN:VEVENT
DTSTART;TZID=America/New_York:20280802T110000
DTEND;TZID=America/New_York:20280802T120000
DTSTAMP:20260419T232715
CREATED:20240202T174044Z
LAST-MODIFIED:20240202T174044Z
UID:10000565-1848826800-1848830400@mowtampa.org
SUMMARY:Volunteer Orientation – In Person
DESCRIPTION:Volunteer Orientation – In Person\nAll new volunteers are required to participate in a Volunteer Orientation before they can sign up to deliver a route. \nIn person orientations are held at the Meals On Wheels of Tampa office located at 5320 North Boulevard Tampa FL 33603. \nRegistration is required. Please complete a volunteer application by clicking here and then choose Create Account.
URL:https://mowtampa.org/event/volunteer-orientation-in-person/2028-08-02/
END:VEVENT
BEGIN:VEVENT
DTSTART;TZID=America/New_York:20280804T110000
DTEND;TZID=America/New_York:20280804T120000
DTSTAMP:20260419T232715
CREATED:20240202T174931Z
LAST-MODIFIED:20240202T175417Z
UID:10000828-1848999600-1849003200@mowtampa.org
SUMMARY:Volunteer Orientation – Virtual
DESCRIPTION:Volunteer Orientation – Virtual\nAll new volunteers are required to participate in a Volunteer Orientation before they can sign up to deliver a route. \nVirtual orientations will be held over Zoom. It is a requirement that your camera be turned “on” during session. \nRegistration is required. Please complete a volunteer application by clicking here and then choose Create Account.
URL:https://mowtampa.org/event/volunteer-orientation-virtual/2028-08-04/
END:VEVENT
BEGIN:VEVENT
DTSTART;TZID=America/New_York:20280809T110000
DTEND;TZID=America/New_York:20280809T120000
DTSTAMP:20260419T232715
CREATED:20240202T174044Z
LAST-MODIFIED:20240202T174044Z
UID:10000566-1849431600-1849435200@mowtampa.org
SUMMARY:Volunteer Orientation – In Person
DESCRIPTION:Volunteer Orientation – In Person\nAll new volunteers are required to participate in a Volunteer Orientation before they can sign up to deliver a route. \nIn person orientations are held at the Meals On Wheels of Tampa office located at 5320 North Boulevard Tampa FL 33603. \nRegistration is required. Please complete a volunteer application by clicking here and then choose Create Account.
URL:https://mowtampa.org/event/volunteer-orientation-in-person/2028-08-09/
END:VEVENT
BEGIN:VEVENT
DTSTART;TZID=America/New_York:20280811T110000
DTEND;TZID=America/New_York:20280811T120000
DTSTAMP:20260419T232715
CREATED:20240202T174931Z
LAST-MODIFIED:20240202T175417Z
UID:10000829-1849604400-1849608000@mowtampa.org
SUMMARY:Volunteer Orientation – Virtual
DESCRIPTION:Volunteer Orientation – Virtual\nAll new volunteers are required to participate in a Volunteer Orientation before they can sign up to deliver a route. \nVirtual orientations will be held over Zoom. It is a requirement that your camera be turned “on” during session. \nRegistration is required. Please complete a volunteer application by clicking here and then choose Create Account.
URL:https://mowtampa.org/event/volunteer-orientation-virtual/2028-08-11/
END:VEVENT
BEGIN:VEVENT
DTSTART;TZID=America/New_York:20280816T110000
DTEND;TZID=America/New_York:20280816T120000
DTSTAMP:20260419T232715
CREATED:20240202T174044Z
LAST-MODIFIED:20240202T174044Z
UID:10000567-1850036400-1850040000@mowtampa.org
SUMMARY:Volunteer Orientation – In Person
DESCRIPTION:Volunteer Orientation – In Person\nAll new volunteers are required to participate in a Volunteer Orientation before they can sign up to deliver a route. \nIn person orientations are held at the Meals On Wheels of Tampa office located at 5320 North Boulevard Tampa FL 33603. \nRegistration is required. Please complete a volunteer application by clicking here and then choose Create Account.
URL:https://mowtampa.org/event/volunteer-orientation-in-person/2028-08-16/
END:VEVENT
BEGIN:VEVENT
DTSTART;TZID=America/New_York:20280818T110000
DTEND;TZID=America/New_York:20280818T120000
DTSTAMP:20260419T232715
CREATED:20240202T174931Z
LAST-MODIFIED:20240202T175417Z
UID:10000830-1850209200-1850212800@mowtampa.org
SUMMARY:Volunteer Orientation – Virtual
DESCRIPTION:Volunteer Orientation – Virtual\nAll new volunteers are required to participate in a Volunteer Orientation before they can sign up to deliver a route. \nVirtual orientations will be held over Zoom. It is a requirement that your camera be turned “on” during session. \nRegistration is required. Please complete a volunteer application by clicking here and then choose Create Account.
URL:https://mowtampa.org/event/volunteer-orientation-virtual/2028-08-18/
END:VEVENT
BEGIN:VEVENT
DTSTART;TZID=America/New_York:20280819T093000
DTEND;TZID=America/New_York:20280819T110000
DTSTAMP:20260419T232715
CREATED:20230224T200559Z
LAST-MODIFIED:20250107T232510Z
UID:10000996-1850290200-1850295600@mowtampa.org
SUMMARY:Produce On Wheels (POW) Delivery
DESCRIPTION:Produce On Wheels (POW!) Delivery\nVolunteers deliver bags of fresh produce to all program recipients. \nVolunteers must complete an application and attend an orientation prior to delivering. \nRoutes must be signed up for in advance. Routes take 60-90 minutes to complete. \nFor more information\, click here or call (813) 238-8410.
URL:https://mowtampa.org/event/produce-on-wheels-pow-delivery-8/2028-08-19/
END:VEVENT
BEGIN:VEVENT
DTSTART;TZID=America/New_York:20280823T110000
DTEND;TZID=America/New_York:20280823T120000
DTSTAMP:20260419T232715
CREATED:20240202T174044Z
LAST-MODIFIED:20240202T174044Z
UID:10000568-1850641200-1850644800@mowtampa.org
SUMMARY:Volunteer Orientation – In Person
DESCRIPTION:Volunteer Orientation – In Person\nAll new volunteers are required to participate in a Volunteer Orientation before they can sign up to deliver a route. \nIn person orientations are held at the Meals On Wheels of Tampa office located at 5320 North Boulevard Tampa FL 33603. \nRegistration is required. Please complete a volunteer application by clicking here and then choose Create Account.
URL:https://mowtampa.org/event/volunteer-orientation-in-person/2028-08-23/
END:VEVENT
BEGIN:VEVENT
DTSTART;TZID=America/New_York:20280825T110000
DTEND;TZID=America/New_York:20280825T120000
DTSTAMP:20260419T232715
CREATED:20240202T174931Z
LAST-MODIFIED:20240202T175417Z
UID:10000831-1850814000-1850817600@mowtampa.org
SUMMARY:Volunteer Orientation – Virtual
DESCRIPTION:Volunteer Orientation – Virtual\nAll new volunteers are required to participate in a Volunteer Orientation before they can sign up to deliver a route. \nVirtual orientations will be held over Zoom. It is a requirement that your camera be turned “on” during session. \nRegistration is required. Please complete a volunteer application by clicking here and then choose Create Account.
URL:https://mowtampa.org/event/volunteer-orientation-virtual/2028-08-25/
END:VEVENT
BEGIN:VEVENT
DTSTART;TZID=America/New_York:20280830T110000
DTEND;TZID=America/New_York:20280830T120000
DTSTAMP:20260419T232715
CREATED:20240202T174044Z
LAST-MODIFIED:20240202T174044Z
UID:10000569-1851246000-1851249600@mowtampa.org
SUMMARY:Volunteer Orientation – In Person
DESCRIPTION:Volunteer Orientation – In Person\nAll new volunteers are required to participate in a Volunteer Orientation before they can sign up to deliver a route. \nIn person orientations are held at the Meals On Wheels of Tampa office located at 5320 North Boulevard Tampa FL 33603. \nRegistration is required. Please complete a volunteer application by clicking here and then choose Create Account.
URL:https://mowtampa.org/event/volunteer-orientation-in-person/2028-08-30/
END:VEVENT
BEGIN:VEVENT
DTSTART;TZID=America/New_York:20280901T110000
DTEND;TZID=America/New_York:20280901T120000
DTSTAMP:20260419T232715
CREATED:20240202T174931Z
LAST-MODIFIED:20240202T175417Z
UID:10000832-1851418800-1851422400@mowtampa.org
SUMMARY:Volunteer Orientation – Virtual
DESCRIPTION:Volunteer Orientation – Virtual\nAll new volunteers are required to participate in a Volunteer Orientation before they can sign up to deliver a route. \nVirtual orientations will be held over Zoom. It is a requirement that your camera be turned “on” during session. \nRegistration is required. Please complete a volunteer application by clicking here and then choose Create Account.
URL:https://mowtampa.org/event/volunteer-orientation-virtual/2028-09-01/
END:VEVENT
BEGIN:VEVENT
DTSTART;TZID=America/New_York:20280906T110000
DTEND;TZID=America/New_York:20280906T120000
DTSTAMP:20260419T232715
CREATED:20240202T174044Z
LAST-MODIFIED:20240202T174044Z
UID:10000570-1851850800-1851854400@mowtampa.org
SUMMARY:Volunteer Orientation – In Person
DESCRIPTION:Volunteer Orientation – In Person\nAll new volunteers are required to participate in a Volunteer Orientation before they can sign up to deliver a route. \nIn person orientations are held at the Meals On Wheels of Tampa office located at 5320 North Boulevard Tampa FL 33603. \nRegistration is required. Please complete a volunteer application by clicking here and then choose Create Account.
URL:https://mowtampa.org/event/volunteer-orientation-in-person/2028-09-06/
END:VEVENT
BEGIN:VEVENT
DTSTART;TZID=America/New_York:20280908T110000
DTEND;TZID=America/New_York:20280908T120000
DTSTAMP:20260419T232715
CREATED:20240202T174931Z
LAST-MODIFIED:20240202T175417Z
UID:10000833-1852023600-1852027200@mowtampa.org
SUMMARY:Volunteer Orientation – Virtual
DESCRIPTION:Volunteer Orientation – Virtual\nAll new volunteers are required to participate in a Volunteer Orientation before they can sign up to deliver a route. \nVirtual orientations will be held over Zoom. It is a requirement that your camera be turned “on” during session. \nRegistration is required. Please complete a volunteer application by clicking here and then choose Create Account.
URL:https://mowtampa.org/event/volunteer-orientation-virtual/2028-09-08/
END:VEVENT
BEGIN:VEVENT
DTSTART;TZID=America/New_York:20280913T110000
DTEND;TZID=America/New_York:20280913T120000
DTSTAMP:20260419T232715
CREATED:20240202T174044Z
LAST-MODIFIED:20240202T174044Z
UID:10000571-1852455600-1852459200@mowtampa.org
SUMMARY:Volunteer Orientation – In Person
DESCRIPTION:Volunteer Orientation – In Person\nAll new volunteers are required to participate in a Volunteer Orientation before they can sign up to deliver a route. \nIn person orientations are held at the Meals On Wheels of Tampa office located at 5320 North Boulevard Tampa FL 33603. \nRegistration is required. Please complete a volunteer application by clicking here and then choose Create Account.
URL:https://mowtampa.org/event/volunteer-orientation-in-person/2028-09-13/
END:VEVENT
BEGIN:VEVENT
DTSTART;TZID=America/New_York:20280915T110000
DTEND;TZID=America/New_York:20280915T120000
DTSTAMP:20260419T232715
CREATED:20240202T174931Z
LAST-MODIFIED:20240202T175417Z
UID:10000834-1852628400-1852632000@mowtampa.org
SUMMARY:Volunteer Orientation – Virtual
DESCRIPTION:Volunteer Orientation – Virtual\nAll new volunteers are required to participate in a Volunteer Orientation before they can sign up to deliver a route. \nVirtual orientations will be held over Zoom. It is a requirement that your camera be turned “on” during session. \nRegistration is required. Please complete a volunteer application by clicking here and then choose Create Account.
URL:https://mowtampa.org/event/volunteer-orientation-virtual/2028-09-15/
END:VEVENT
BEGIN:VEVENT
DTSTART;TZID=America/New_York:20280916T093000
DTEND;TZID=America/New_York:20280916T110000
DTSTAMP:20260419T232715
CREATED:20230224T200650Z
LAST-MODIFIED:20250107T232619Z
UID:10001012-1852709400-1852714800@mowtampa.org
SUMMARY:Produce On Wheels (POW!) Delivery
DESCRIPTION:Produce On Wheels (POW!) Delivery\nVolunteers deliver bags of fresh produce to all program recipients. \nVolunteers must complete an application and attend an orientation prior to delivering. \nRoutes must be signed up for in advance. Routes take 60-90 minutes to complete. \nFor more information\, click here or call (813) 238-8410.
URL:https://mowtampa.org/event/produce-on-wheels-pow-delivery-9/2028-09-16/
END:VEVENT
BEGIN:VEVENT
DTSTART;TZID=America/New_York:20280920T110000
DTEND;TZID=America/New_York:20280920T120000
DTSTAMP:20260419T232715
CREATED:20240202T174044Z
LAST-MODIFIED:20240202T174044Z
UID:10000572-1853060400-1853064000@mowtampa.org
SUMMARY:Volunteer Orientation – In Person
DESCRIPTION:Volunteer Orientation – In Person\nAll new volunteers are required to participate in a Volunteer Orientation before they can sign up to deliver a route. \nIn person orientations are held at the Meals On Wheels of Tampa office located at 5320 North Boulevard Tampa FL 33603. \nRegistration is required. Please complete a volunteer application by clicking here and then choose Create Account.
URL:https://mowtampa.org/event/volunteer-orientation-in-person/2028-09-20/
END:VEVENT
BEGIN:VEVENT
DTSTART;TZID=America/New_York:20280922T110000
DTEND;TZID=America/New_York:20280922T120000
DTSTAMP:20260419T232715
CREATED:20240202T174931Z
LAST-MODIFIED:20240202T175417Z
UID:10000835-1853233200-1853236800@mowtampa.org
SUMMARY:Volunteer Orientation – Virtual
DESCRIPTION:Volunteer Orientation – Virtual\nAll new volunteers are required to participate in a Volunteer Orientation before they can sign up to deliver a route. \nVirtual orientations will be held over Zoom. It is a requirement that your camera be turned “on” during session. \nRegistration is required. Please complete a volunteer application by clicking here and then choose Create Account.
URL:https://mowtampa.org/event/volunteer-orientation-virtual/2028-09-22/
END:VEVENT
BEGIN:VEVENT
DTSTART;TZID=America/New_York:20280927T110000
DTEND;TZID=America/New_York:20280927T120000
DTSTAMP:20260419T232715
CREATED:20240202T174044Z
LAST-MODIFIED:20240202T174044Z
UID:10000573-1853665200-1853668800@mowtampa.org
SUMMARY:Volunteer Orientation – In Person
DESCRIPTION:Volunteer Orientation – In Person\nAll new volunteers are required to participate in a Volunteer Orientation before they can sign up to deliver a route. \nIn person orientations are held at the Meals On Wheels of Tampa office located at 5320 North Boulevard Tampa FL 33603. \nRegistration is required. Please complete a volunteer application by clicking here and then choose Create Account.
URL:https://mowtampa.org/event/volunteer-orientation-in-person/2028-09-27/
END:VEVENT
BEGIN:VEVENT
DTSTART;TZID=America/New_York:20280929T110000
DTEND;TZID=America/New_York:20280929T120000
DTSTAMP:20260419T232715
CREATED:20240202T174931Z
LAST-MODIFIED:20240202T175417Z
UID:10000836-1853838000-1853841600@mowtampa.org
SUMMARY:Volunteer Orientation – Virtual
DESCRIPTION:Volunteer Orientation – Virtual\nAll new volunteers are required to participate in a Volunteer Orientation before they can sign up to deliver a route. \nVirtual orientations will be held over Zoom. It is a requirement that your camera be turned “on” during session. \nRegistration is required. Please complete a volunteer application by clicking here and then choose Create Account.
URL:https://mowtampa.org/event/volunteer-orientation-virtual/2028-09-29/
END:VEVENT
BEGIN:VEVENT
DTSTART;TZID=America/New_York:20281004T110000
DTEND;TZID=America/New_York:20281004T120000
DTSTAMP:20260419T232715
CREATED:20240202T174044Z
LAST-MODIFIED:20240202T174044Z
UID:10000574-1854270000-1854273600@mowtampa.org
SUMMARY:Volunteer Orientation – In Person
DESCRIPTION:Volunteer Orientation – In Person\nAll new volunteers are required to participate in a Volunteer Orientation before they can sign up to deliver a route. \nIn person orientations are held at the Meals On Wheels of Tampa office located at 5320 North Boulevard Tampa FL 33603. \nRegistration is required. Please complete a volunteer application by clicking here and then choose Create Account.
URL:https://mowtampa.org/event/volunteer-orientation-in-person/2028-10-04/
END:VEVENT
BEGIN:VEVENT
DTSTART;TZID=America/New_York:20281006T110000
DTEND;TZID=America/New_York:20281006T120000
DTSTAMP:20260419T232715
CREATED:20240202T174931Z
LAST-MODIFIED:20240202T175417Z
UID:10000837-1854442800-1854446400@mowtampa.org
SUMMARY:Volunteer Orientation – Virtual
DESCRIPTION:Volunteer Orientation – Virtual\nAll new volunteers are required to participate in a Volunteer Orientation before they can sign up to deliver a route. \nVirtual orientations will be held over Zoom. It is a requirement that your camera be turned “on” during session. \nRegistration is required. Please complete a volunteer application by clicking here and then choose Create Account.
URL:https://mowtampa.org/event/volunteer-orientation-virtual/2028-10-06/
END:VEVENT
BEGIN:VEVENT
DTSTART;TZID=America/New_York:20281011T110000
DTEND;TZID=America/New_York:20281011T120000
DTSTAMP:20260419T232715
CREATED:20240202T174044Z
LAST-MODIFIED:20240202T174044Z
UID:10000575-1854874800-1854878400@mowtampa.org
SUMMARY:Volunteer Orientation – In Person
DESCRIPTION:Volunteer Orientation – In Person\nAll new volunteers are required to participate in a Volunteer Orientation before they can sign up to deliver a route. \nIn person orientations are held at the Meals On Wheels of Tampa office located at 5320 North Boulevard Tampa FL 33603. \nRegistration is required. Please complete a volunteer application by clicking here and then choose Create Account.
URL:https://mowtampa.org/event/volunteer-orientation-in-person/2028-10-11/
END:VEVENT
BEGIN:VEVENT
DTSTART;TZID=America/New_York:20281013T110000
DTEND;TZID=America/New_York:20281013T120000
DTSTAMP:20260419T232715
CREATED:20240202T174931Z
LAST-MODIFIED:20240202T175417Z
UID:10000838-1855047600-1855051200@mowtampa.org
SUMMARY:Volunteer Orientation – Virtual
DESCRIPTION:Volunteer Orientation – Virtual\nAll new volunteers are required to participate in a Volunteer Orientation before they can sign up to deliver a route. \nVirtual orientations will be held over Zoom. It is a requirement that your camera be turned “on” during session. \nRegistration is required. Please complete a volunteer application by clicking here and then choose Create Account.
URL:https://mowtampa.org/event/volunteer-orientation-virtual/2028-10-13/
END:VEVENT
BEGIN:VEVENT
DTSTART;TZID=America/New_York:20281018T110000
DTEND;TZID=America/New_York:20281018T120000
DTSTAMP:20260419T232715
CREATED:20240202T174044Z
LAST-MODIFIED:20240202T174044Z
UID:10000576-1855479600-1855483200@mowtampa.org
SUMMARY:Volunteer Orientation – In Person
DESCRIPTION:Volunteer Orientation – In Person\nAll new volunteers are required to participate in a Volunteer Orientation before they can sign up to deliver a route. \nIn person orientations are held at the Meals On Wheels of Tampa office located at 5320 North Boulevard Tampa FL 33603. \nRegistration is required. Please complete a volunteer application by clicking here and then choose Create Account.
URL:https://mowtampa.org/event/volunteer-orientation-in-person/2028-10-18/
END:VEVENT
BEGIN:VEVENT
DTSTART;TZID=America/New_York:20281020T110000
DTEND;TZID=America/New_York:20281020T120000
DTSTAMP:20260419T232715
CREATED:20240202T174931Z
LAST-MODIFIED:20240202T175417Z
UID:10000839-1855652400-1855656000@mowtampa.org
SUMMARY:Volunteer Orientation – Virtual
DESCRIPTION:Volunteer Orientation – Virtual\nAll new volunteers are required to participate in a Volunteer Orientation before they can sign up to deliver a route. \nVirtual orientations will be held over Zoom. It is a requirement that your camera be turned “on” during session. \nRegistration is required. Please complete a volunteer application by clicking here and then choose Create Account.
URL:https://mowtampa.org/event/volunteer-orientation-virtual/2028-10-20/
END:VEVENT
BEGIN:VEVENT
DTSTART;TZID=America/New_York:20281021T093000
DTEND;TZID=America/New_York:20281021T110000
DTSTAMP:20260419T232715
CREATED:20230224T200734Z
LAST-MODIFIED:20250107T232705Z
UID:10001029-1855733400-1855738800@mowtampa.org
SUMMARY:Produce On Wheels (POW!) Delivery
DESCRIPTION:Produce On Wheels (POW!) Delivery\nVolunteers deliver bags of fresh produce to all program recipients. \nVolunteers must complete an application and attend an orientation prior to delivering. \nRoutes must be signed up for in advance. Routes take 60-90 minutes to complete. \nFor more information\, click here or call (813) 238-8410.
URL:https://mowtampa.org/event/produce-on-wheels-pow-delivery-10/2028-10-21/
END:VEVENT
BEGIN:VEVENT
DTSTART;TZID=America/New_York:20281025T110000
DTEND;TZID=America/New_York:20281025T120000
DTSTAMP:20260419T232715
CREATED:20240202T174044Z
LAST-MODIFIED:20240202T174044Z
UID:10000577-1856084400-1856088000@mowtampa.org
SUMMARY:Volunteer Orientation – In Person
DESCRIPTION:Volunteer Orientation – In Person\nAll new volunteers are required to participate in a Volunteer Orientation before they can sign up to deliver a route. \nIn person orientations are held at the Meals On Wheels of Tampa office located at 5320 North Boulevard Tampa FL 33603. \nRegistration is required. Please complete a volunteer application by clicking here and then choose Create Account.
URL:https://mowtampa.org/event/volunteer-orientation-in-person/2028-10-25/
END:VEVENT
END:VCALENDAR