BEGIN:VCALENDAR
VERSION:2.0
PRODID:-//Meals On Wheels of Tampa - ECPv6.15.20//NONSGML v1.0//EN
CALSCALE:GREGORIAN
METHOD:PUBLISH
X-WR-CALNAME:Meals On Wheels of Tampa
X-ORIGINAL-URL:https://mowtampa.org
X-WR-CALDESC:Events for Meals On Wheels of Tampa
REFRESH-INTERVAL;VALUE=DURATION:PT1H
X-Robots-Tag:noindex
X-PUBLISHED-TTL:PT1H
BEGIN:VTIMEZONE
TZID:America/New_York
BEGIN:DAYLIGHT
TZOFFSETFROM:-0500
TZOFFSETTO:-0400
TZNAME:EDT
DTSTART:20220313T070000
END:DAYLIGHT
BEGIN:STANDARD
TZOFFSETFROM:-0400
TZOFFSETTO:-0500
TZNAME:EST
DTSTART:20221106T060000
END:STANDARD
BEGIN:DAYLIGHT
TZOFFSETFROM:-0500
TZOFFSETTO:-0400
TZNAME:EDT
DTSTART:20230312T070000
END:DAYLIGHT
BEGIN:STANDARD
TZOFFSETFROM:-0400
TZOFFSETTO:-0500
TZNAME:EST
DTSTART:20231105T060000
END:STANDARD
BEGIN:DAYLIGHT
TZOFFSETFROM:-0500
TZOFFSETTO:-0400
TZNAME:EDT
DTSTART:20240310T070000
END:DAYLIGHT
BEGIN:STANDARD
TZOFFSETFROM:-0400
TZOFFSETTO:-0500
TZNAME:EST
DTSTART:20241103T060000
END:STANDARD
END:VTIMEZONE
BEGIN:VEVENT
DTSTART;TZID=America/New_York:20230509T120000
DTEND;TZID=America/New_York:20230509T130000
DTSTAMP:20260421T014555
CREATED:20230224T204922Z
LAST-MODIFIED:20230224T204922Z
UID:10000143-1683633600-1683637200@mowtampa.org
SUMMARY:Nourish At Noon
DESCRIPTION:Nourish At Noon (NAN) Luncheon\nThis is a great opportunity for you to come tour the kitchen\, enjoy one of our meals and hear our story. \nRegistration is required. For more information\, click here or call (813) 238-8410.
URL:https://mowtampa.org/event/nourish-at-noon-8/
END:VEVENT
BEGIN:VEVENT
DTSTART;TZID=America/New_York:20230505T110000
DTEND;TZID=America/New_York:20230505T120000
DTSTAMP:20260421T014555
CREATED:20230224T211056Z
LAST-MODIFIED:20230224T211211Z
UID:10000257-1683284400-1683288000@mowtampa.org
SUMMARY:Volunteer Orientation - Virtual
DESCRIPTION:Volunteer Orientation – Virtual\nAll new volunteers are required to participate in a Volunteer Orientation before they can sign up to deliver a route. \nVirtual orientations will be held over Zoom. It is a requirement that your camera be turned “on” during session. \nRegistration is required. Please complete a volunteer application by clicking here and then choose Create Account.
URL:https://mowtampa.org/event/virtual-volunteer-orientation/2023-05-05/
END:VEVENT
BEGIN:VEVENT
DTSTART;TZID=America/New_York:20230503T110000
DTEND;TZID=America/New_York:20230503T120000
DTSTAMP:20260421T014555
CREATED:20230224T210440Z
LAST-MODIFIED:20230224T211457Z
UID:10000197-1683111600-1683115200@mowtampa.org
SUMMARY:Volunteer Orientation - In Person
DESCRIPTION:Volunteer Orientation – In Person\nAll new volunteers are required to participate in a Volunteer Orientation before they can sign up to deliver a route. \nIn person orientations are held at the Meals On Wheels of Tampa office located at 5320 North Boulevard Tampa FL 33603. \nRegistration is required. Please complete a volunteer application by clicking here and then choose Create Account.
URL:https://mowtampa.org/event/in-person-volunteer-orientation/2023-05-03/
END:VEVENT
BEGIN:VEVENT
DTSTART;TZID=America/New_York:20230428T110000
DTEND;TZID=America/New_York:20230428T120000
DTSTAMP:20260421T014555
CREATED:20230224T211056Z
LAST-MODIFIED:20230224T211211Z
UID:10000256-1682679600-1682683200@mowtampa.org
SUMMARY:Volunteer Orientation - Virtual
DESCRIPTION:Volunteer Orientation – Virtual\nAll new volunteers are required to participate in a Volunteer Orientation before they can sign up to deliver a route. \nVirtual orientations will be held over Zoom. It is a requirement that your camera be turned “on” during session. \nRegistration is required. Please complete a volunteer application by clicking here and then choose Create Account.
URL:https://mowtampa.org/event/virtual-volunteer-orientation/2023-04-28/
END:VEVENT
BEGIN:VEVENT
DTSTART;TZID=America/New_York:20230426T110000
DTEND;TZID=America/New_York:20230426T120000
DTSTAMP:20260421T014555
CREATED:20230224T210440Z
LAST-MODIFIED:20230224T211457Z
UID:10000196-1682506800-1682510400@mowtampa.org
SUMMARY:Volunteer Orientation - In Person
DESCRIPTION:Volunteer Orientation – In Person\nAll new volunteers are required to participate in a Volunteer Orientation before they can sign up to deliver a route. \nIn person orientations are held at the Meals On Wheels of Tampa office located at 5320 North Boulevard Tampa FL 33603. \nRegistration is required. Please complete a volunteer application by clicking here and then choose Create Account.
URL:https://mowtampa.org/event/in-person-volunteer-orientation/2023-04-26/
END:VEVENT
BEGIN:VEVENT
DTSTART;TZID=America/New_York:20230421T110000
DTEND;TZID=America/New_York:20230421T120000
DTSTAMP:20260421T014555
CREATED:20230224T211056Z
LAST-MODIFIED:20230224T211211Z
UID:10000255-1682074800-1682078400@mowtampa.org
SUMMARY:Volunteer Orientation - Virtual
DESCRIPTION:Volunteer Orientation – Virtual\nAll new volunteers are required to participate in a Volunteer Orientation before they can sign up to deliver a route. \nVirtual orientations will be held over Zoom. It is a requirement that your camera be turned “on” during session. \nRegistration is required. Please complete a volunteer application by clicking here and then choose Create Account.
URL:https://mowtampa.org/event/virtual-volunteer-orientation/2023-04-21/
END:VEVENT
BEGIN:VEVENT
DTSTART;TZID=America/New_York:20230420T120000
DTEND;TZID=America/New_York:20230420T130000
DTSTAMP:20260421T014555
CREATED:20230224T204841Z
LAST-MODIFIED:20230224T204841Z
UID:10000142-1681992000-1681995600@mowtampa.org
SUMMARY:Nourish At Noon
DESCRIPTION:Nourish At Noon (NAN) Luncheon\nThis is a great opportunity for you to come tour the kitchen\, enjoy one of our meals and hear our story. \nRegistration is required. For more information\, click here or call (813) 238-8410.
URL:https://mowtampa.org/event/nourish-at-noon-7/
END:VEVENT
BEGIN:VEVENT
DTSTART;TZID=America/New_York:20230419T110000
DTEND;TZID=America/New_York:20230419T120000
DTSTAMP:20260421T014555
CREATED:20230224T210440Z
LAST-MODIFIED:20230224T211457Z
UID:10000195-1681902000-1681905600@mowtampa.org
SUMMARY:Volunteer Orientation - In Person
DESCRIPTION:Volunteer Orientation – In Person\nAll new volunteers are required to participate in a Volunteer Orientation before they can sign up to deliver a route. \nIn person orientations are held at the Meals On Wheels of Tampa office located at 5320 North Boulevard Tampa FL 33603. \nRegistration is required. Please complete a volunteer application by clicking here and then choose Create Account.
URL:https://mowtampa.org/event/in-person-volunteer-orientation/2023-04-19/
END:VEVENT
BEGIN:VEVENT
DTSTART;TZID=America/New_York:20230415T093000
DTEND;TZID=America/New_York:20230415T110000
DTSTAMP:20260421T014555
CREATED:20230224T195952Z
LAST-MODIFIED:20250107T231849Z
UID:10000168-1681551000-1681556400@mowtampa.org
SUMMARY:Produce On Wheels (POW!) Delivery
DESCRIPTION:Produce On Wheels (POW!) Delivery\nVolunteers deliver bags of fresh produce to all program recipients. \nVolunteers must complete an application and attend an orientation prior to delivering. \nRoutes must be signed up for in advance. Routes take 60-90 minutes to complete. \nFor more information\, click here or call (813) 238-8410.
URL:https://mowtampa.org/event/produce-on-wheels-pow-delivery-5/2023-04-15/
END:VEVENT
BEGIN:VEVENT
DTSTART;TZID=America/New_York:20230414T110000
DTEND;TZID=America/New_York:20230414T120000
DTSTAMP:20260421T014555
CREATED:20230224T211056Z
LAST-MODIFIED:20230224T211211Z
UID:10000254-1681470000-1681473600@mowtampa.org
SUMMARY:Volunteer Orientation - Virtual
DESCRIPTION:Volunteer Orientation – Virtual\nAll new volunteers are required to participate in a Volunteer Orientation before they can sign up to deliver a route. \nVirtual orientations will be held over Zoom. It is a requirement that your camera be turned “on” during session. \nRegistration is required. Please complete a volunteer application by clicking here and then choose Create Account.
URL:https://mowtampa.org/event/virtual-volunteer-orientation/2023-04-14/
END:VEVENT
BEGIN:VEVENT
DTSTART;TZID=America/New_York:20230412T110000
DTEND;TZID=America/New_York:20230412T120000
DTSTAMP:20260421T014555
CREATED:20230224T210440Z
LAST-MODIFIED:20230224T211457Z
UID:10000194-1681297200-1681300800@mowtampa.org
SUMMARY:Volunteer Orientation - In Person
DESCRIPTION:Volunteer Orientation – In Person\nAll new volunteers are required to participate in a Volunteer Orientation before they can sign up to deliver a route. \nIn person orientations are held at the Meals On Wheels of Tampa office located at 5320 North Boulevard Tampa FL 33603. \nRegistration is required. Please complete a volunteer application by clicking here and then choose Create Account.
URL:https://mowtampa.org/event/in-person-volunteer-orientation/2023-04-12/
END:VEVENT
BEGIN:VEVENT
DTSTART;TZID=America/New_York:20230407T110000
DTEND;TZID=America/New_York:20230407T120000
DTSTAMP:20260421T014555
CREATED:20230224T211056Z
LAST-MODIFIED:20230224T211211Z
UID:10000253-1680865200-1680868800@mowtampa.org
SUMMARY:Volunteer Orientation - Virtual
DESCRIPTION:Volunteer Orientation – Virtual\nAll new volunteers are required to participate in a Volunteer Orientation before they can sign up to deliver a route. \nVirtual orientations will be held over Zoom. It is a requirement that your camera be turned “on” during session. \nRegistration is required. Please complete a volunteer application by clicking here and then choose Create Account.
URL:https://mowtampa.org/event/virtual-volunteer-orientation/2023-04-07/
END:VEVENT
BEGIN:VEVENT
DTSTART;VALUE=DATE:20230407
DTEND;VALUE=DATE:20230408
DTSTAMP:20260421T014555
CREATED:20230224T193300Z
LAST-MODIFIED:20230224T194830Z
UID:10000152-1680825600-1680911999@mowtampa.org
SUMMARY:Office Closed
DESCRIPTION:The Meals On Wheels of Tampa administrative offices will be closed in observance of Good Friday.
URL:https://mowtampa.org/event/office-closed/
END:VEVENT
BEGIN:VEVENT
DTSTART;TZID=America/New_York:20230405T110000
DTEND;TZID=America/New_York:20230405T120000
DTSTAMP:20260421T014555
CREATED:20230224T210440Z
LAST-MODIFIED:20230224T211457Z
UID:10000193-1680692400-1680696000@mowtampa.org
SUMMARY:Volunteer Orientation - In Person
DESCRIPTION:Volunteer Orientation – In Person\nAll new volunteers are required to participate in a Volunteer Orientation before they can sign up to deliver a route. \nIn person orientations are held at the Meals On Wheels of Tampa office located at 5320 North Boulevard Tampa FL 33603. \nRegistration is required. Please complete a volunteer application by clicking here and then choose Create Account.
URL:https://mowtampa.org/event/in-person-volunteer-orientation/2023-04-05/
END:VEVENT
BEGIN:VEVENT
DTSTART;TZID=America/New_York:20230404T120000
DTEND;TZID=America/New_York:20230404T130000
DTSTAMP:20260421T014555
CREATED:20230224T204757Z
LAST-MODIFIED:20230224T204757Z
UID:10000141-1680609600-1680613200@mowtampa.org
SUMMARY:Nourish At Noon
DESCRIPTION:Nourish At Noon (NAN) Luncheon\nThis is a great opportunity for you to come tour the kitchen\, enjoy one of our meals and hear our story. \nRegistration is required. For more information\, click here or call (813) 238-8410.
URL:https://mowtampa.org/event/nourish-at-noon-6/
END:VEVENT
BEGIN:VEVENT
DTSTART;TZID=America/New_York:20230331T110000
DTEND;TZID=America/New_York:20230331T120000
DTSTAMP:20260421T014555
CREATED:20230224T211056Z
LAST-MODIFIED:20230224T211211Z
UID:10000252-1680260400-1680264000@mowtampa.org
SUMMARY:Volunteer Orientation - Virtual
DESCRIPTION:Volunteer Orientation – Virtual\nAll new volunteers are required to participate in a Volunteer Orientation before they can sign up to deliver a route. \nVirtual orientations will be held over Zoom. It is a requirement that your camera be turned “on” during session. \nRegistration is required. Please complete a volunteer application by clicking here and then choose Create Account.
URL:https://mowtampa.org/event/virtual-volunteer-orientation/2023-03-31/
END:VEVENT
BEGIN:VEVENT
DTSTART;TZID=America/New_York:20230329T110000
DTEND;TZID=America/New_York:20230329T120000
DTSTAMP:20260421T014555
CREATED:20230224T210440Z
LAST-MODIFIED:20230224T211457Z
UID:10000192-1680087600-1680091200@mowtampa.org
SUMMARY:Volunteer Orientation - In Person
DESCRIPTION:Volunteer Orientation – In Person\nAll new volunteers are required to participate in a Volunteer Orientation before they can sign up to deliver a route. \nIn person orientations are held at the Meals On Wheels of Tampa office located at 5320 North Boulevard Tampa FL 33603. \nRegistration is required. Please complete a volunteer application by clicking here and then choose Create Account.
URL:https://mowtampa.org/event/in-person-volunteer-orientation/2023-03-29/
END:VEVENT
BEGIN:VEVENT
DTSTART;TZID=America/New_York:20230324T110000
DTEND;TZID=America/New_York:20230324T120000
DTSTAMP:20260421T014555
CREATED:20230224T211056Z
LAST-MODIFIED:20230224T211211Z
UID:10000251-1679655600-1679659200@mowtampa.org
SUMMARY:Volunteer Orientation - Virtual
DESCRIPTION:Volunteer Orientation – Virtual\nAll new volunteers are required to participate in a Volunteer Orientation before they can sign up to deliver a route. \nVirtual orientations will be held over Zoom. It is a requirement that your camera be turned “on” during session. \nRegistration is required. Please complete a volunteer application by clicking here and then choose Create Account.
URL:https://mowtampa.org/event/virtual-volunteer-orientation/2023-03-24/
END:VEVENT
BEGIN:VEVENT
DTSTART;TZID=America/New_York:20230323T120000
DTEND;TZID=America/New_York:20230323T130000
DTSTAMP:20260421T014555
CREATED:20230224T204655Z
LAST-MODIFIED:20230224T204655Z
UID:10000140-1679572800-1679576400@mowtampa.org
SUMMARY:Nourish at Noon
DESCRIPTION:Nourish At Noon (NAN) Luncheon\nThis is a great opportunity for you to come tour the kitchen\, enjoy one of our meals and hear our story. \nRegistration is required. For more information\, click here or call (813) 238-8410.
URL:https://mowtampa.org/event/nourish-at-noon-5/
END:VEVENT
BEGIN:VEVENT
DTSTART;TZID=America/New_York:20230322T110000
DTEND;TZID=America/New_York:20230322T120000
DTSTAMP:20260421T014555
CREATED:20230224T210440Z
LAST-MODIFIED:20230224T211457Z
UID:10000191-1679482800-1679486400@mowtampa.org
SUMMARY:Volunteer Orientation - In Person
DESCRIPTION:Volunteer Orientation – In Person\nAll new volunteers are required to participate in a Volunteer Orientation before they can sign up to deliver a route. \nIn person orientations are held at the Meals On Wheels of Tampa office located at 5320 North Boulevard Tampa FL 33603. \nRegistration is required. Please complete a volunteer application by clicking here and then choose Create Account.
URL:https://mowtampa.org/event/in-person-volunteer-orientation/2023-03-22/
END:VEVENT
BEGIN:VEVENT
DTSTART;TZID=America/New_York:20230318T093000
DTEND;TZID=America/New_York:20230318T110000
DTSTAMP:20260421T014555
CREATED:20230224T195854Z
LAST-MODIFIED:20250107T231709Z
UID:10000167-1679131800-1679137200@mowtampa.org
SUMMARY:Produce On Wheels (POW!) Delivery
DESCRIPTION:Produce On Wheels (POW!) Delivery\nVolunteers deliver bags of fresh produce to all program recipients. \nVolunteers must complete an application and attend an orientation prior to delivering. \nRoutes must be signed up for in advance. Routes take 60-90 minutes to complete. \nFor more information\, click here or call (813) 238-8410.
URL:https://mowtampa.org/event/produce-on-wheels-pow-delivery-4/2023-03-18/
END:VEVENT
BEGIN:VEVENT
DTSTART;TZID=America/New_York:20230317T110000
DTEND;TZID=America/New_York:20230317T120000
DTSTAMP:20260421T014555
CREATED:20230224T211056Z
LAST-MODIFIED:20230224T211211Z
UID:10000250-1679050800-1679054400@mowtampa.org
SUMMARY:Volunteer Orientation - Virtual
DESCRIPTION:Volunteer Orientation – Virtual\nAll new volunteers are required to participate in a Volunteer Orientation before they can sign up to deliver a route. \nVirtual orientations will be held over Zoom. It is a requirement that your camera be turned “on” during session. \nRegistration is required. Please complete a volunteer application by clicking here and then choose Create Account.
URL:https://mowtampa.org/event/virtual-volunteer-orientation/2023-03-17/
END:VEVENT
BEGIN:VEVENT
DTSTART;TZID=America/New_York:20230315T110000
DTEND;TZID=America/New_York:20230315T120000
DTSTAMP:20260421T014555
CREATED:20230224T210440Z
LAST-MODIFIED:20230224T211457Z
UID:10000190-1678878000-1678881600@mowtampa.org
SUMMARY:Volunteer Orientation - In Person
DESCRIPTION:Volunteer Orientation – In Person\nAll new volunteers are required to participate in a Volunteer Orientation before they can sign up to deliver a route. \nIn person orientations are held at the Meals On Wheels of Tampa office located at 5320 North Boulevard Tampa FL 33603. \nRegistration is required. Please complete a volunteer application by clicking here and then choose Create Account.
URL:https://mowtampa.org/event/in-person-volunteer-orientation/2023-03-15/
END:VEVENT
BEGIN:VEVENT
DTSTART;TZID=America/New_York:20230310T110000
DTEND;TZID=America/New_York:20230310T120000
DTSTAMP:20260421T014555
CREATED:20230224T211056Z
LAST-MODIFIED:20230224T211211Z
UID:10000249-1678446000-1678449600@mowtampa.org
SUMMARY:Volunteer Orientation - Virtual
DESCRIPTION:Volunteer Orientation – Virtual\nAll new volunteers are required to participate in a Volunteer Orientation before they can sign up to deliver a route. \nVirtual orientations will be held over Zoom. It is a requirement that your camera be turned “on” during session. \nRegistration is required. Please complete a volunteer application by clicking here and then choose Create Account.
URL:https://mowtampa.org/event/virtual-volunteer-orientation/2023-03-10/
END:VEVENT
BEGIN:VEVENT
DTSTART;TZID=America/New_York:20230308T110000
DTEND;TZID=America/New_York:20230308T120000
DTSTAMP:20260421T014555
CREATED:20230224T210440Z
LAST-MODIFIED:20230224T211457Z
UID:10000189-1678273200-1678276800@mowtampa.org
SUMMARY:Volunteer Orientation - In Person
DESCRIPTION:Volunteer Orientation – In Person\nAll new volunteers are required to participate in a Volunteer Orientation before they can sign up to deliver a route. \nIn person orientations are held at the Meals On Wheels of Tampa office located at 5320 North Boulevard Tampa FL 33603. \nRegistration is required. Please complete a volunteer application by clicking here and then choose Create Account.
URL:https://mowtampa.org/event/in-person-volunteer-orientation/2023-03-08/
END:VEVENT
BEGIN:VEVENT
DTSTART;TZID=America/New_York:20230303T110000
DTEND;TZID=America/New_York:20230303T120000
DTSTAMP:20260421T014555
CREATED:20230224T211056Z
LAST-MODIFIED:20230224T211211Z
UID:10000248-1677841200-1677844800@mowtampa.org
SUMMARY:Volunteer Orientation - Virtual
DESCRIPTION:Volunteer Orientation – Virtual\nAll new volunteers are required to participate in a Volunteer Orientation before they can sign up to deliver a route. \nVirtual orientations will be held over Zoom. It is a requirement that your camera be turned “on” during session. \nRegistration is required. Please complete a volunteer application by clicking here and then choose Create Account.
URL:https://mowtampa.org/event/virtual-volunteer-orientation/2023-03-03/
END:VEVENT
BEGIN:VEVENT
DTSTART;TZID=America/New_York:20230301T110000
DTEND;TZID=America/New_York:20230301T120000
DTSTAMP:20260421T014555
CREATED:20230224T210440Z
LAST-MODIFIED:20230224T211457Z
UID:10000188-1677668400-1677672000@mowtampa.org
SUMMARY:Volunteer Orientation - In Person
DESCRIPTION:Volunteer Orientation – In Person\nAll new volunteers are required to participate in a Volunteer Orientation before they can sign up to deliver a route. \nIn person orientations are held at the Meals On Wheels of Tampa office located at 5320 North Boulevard Tampa FL 33603. \nRegistration is required. Please complete a volunteer application by clicking here and then choose Create Account.
URL:https://mowtampa.org/event/in-person-volunteer-orientation/2023-03-01/
END:VEVENT
BEGIN:VEVENT
DTSTART;TZID=America/New_York:20230224T110000
DTEND;TZID=America/New_York:20230224T120000
DTSTAMP:20260421T014555
CREATED:20230224T211056Z
LAST-MODIFIED:20230224T211211Z
UID:10000247-1677236400-1677240000@mowtampa.org
SUMMARY:Volunteer Orientation - Virtual
DESCRIPTION:Volunteer Orientation – Virtual\nAll new volunteers are required to participate in a Volunteer Orientation before they can sign up to deliver a route. \nVirtual orientations will be held over Zoom. It is a requirement that your camera be turned “on” during session. \nRegistration is required. Please complete a volunteer application by clicking here and then choose Create Account.
URL:https://mowtampa.org/event/virtual-volunteer-orientation/2023-02-24/
END:VEVENT
BEGIN:VEVENT
DTSTART;TZID=America/New_York:20230223T120000
DTEND;TZID=America/New_York:20230223T130000
DTSTAMP:20260421T014555
CREATED:20230224T204606Z
LAST-MODIFIED:20230224T204606Z
UID:10000139-1677153600-1677157200@mowtampa.org
SUMMARY:Nourish At Noon
DESCRIPTION:Nourish At Noon (NAN) Luncheon\nThis is a great opportunity for you to come tour the kitchen\, enjoy one of our meals and hear our story. \nRegistration is required. For more information\, click here or call (813) 238-8410.
URL:https://mowtampa.org/event/nourish-at-noon-4/
END:VEVENT
BEGIN:VEVENT
DTSTART;TZID=America/New_York:20230222T110000
DTEND;TZID=America/New_York:20230222T120000
DTSTAMP:20260421T014555
CREATED:20230224T210440Z
LAST-MODIFIED:20230224T211457Z
UID:10000187-1677063600-1677067200@mowtampa.org
SUMMARY:Volunteer Orientation - In Person
DESCRIPTION:Volunteer Orientation – In Person\nAll new volunteers are required to participate in a Volunteer Orientation before they can sign up to deliver a route. \nIn person orientations are held at the Meals On Wheels of Tampa office located at 5320 North Boulevard Tampa FL 33603. \nRegistration is required. Please complete a volunteer application by clicking here and then choose Create Account.
URL:https://mowtampa.org/event/in-person-volunteer-orientation/2023-02-22/
END:VEVENT
END:VCALENDAR