BEGIN:VCALENDAR
VERSION:2.0
PRODID:-//Meals On Wheels of Tampa - ECPv6.15.20//NONSGML v1.0//EN
CALSCALE:GREGORIAN
METHOD:PUBLISH
X-WR-CALNAME:Meals On Wheels of Tampa
X-ORIGINAL-URL:https://mowtampa.org
X-WR-CALDESC:Events for Meals On Wheels of Tampa
REFRESH-INTERVAL;VALUE=DURATION:PT1H
X-Robots-Tag:noindex
X-PUBLISHED-TTL:PT1H
BEGIN:VTIMEZONE
TZID:America/New_York
BEGIN:DAYLIGHT
TZOFFSETFROM:-0500
TZOFFSETTO:-0400
TZNAME:EDT
DTSTART:20230312T070000
END:DAYLIGHT
BEGIN:STANDARD
TZOFFSETFROM:-0400
TZOFFSETTO:-0500
TZNAME:EST
DTSTART:20231105T060000
END:STANDARD
BEGIN:DAYLIGHT
TZOFFSETFROM:-0500
TZOFFSETTO:-0400
TZNAME:EDT
DTSTART:20240310T070000
END:DAYLIGHT
BEGIN:STANDARD
TZOFFSETFROM:-0400
TZOFFSETTO:-0500
TZNAME:EST
DTSTART:20241103T060000
END:STANDARD
BEGIN:DAYLIGHT
TZOFFSETFROM:-0500
TZOFFSETTO:-0400
TZNAME:EDT
DTSTART:20250309T070000
END:DAYLIGHT
BEGIN:STANDARD
TZOFFSETFROM:-0400
TZOFFSETTO:-0500
TZNAME:EST
DTSTART:20251102T060000
END:STANDARD
END:VTIMEZONE
BEGIN:VEVENT
DTSTART;TZID=America/New_York:20240912T120000
DTEND;TZID=America/New_York:20240912T130000
DTSTAMP:20260419T163750
CREATED:20240809T214344Z
LAST-MODIFIED:20240809T214344Z
UID:10000887-1726142400-1726146000@mowtampa.org
SUMMARY:Nourish At Noon
DESCRIPTION:Nourish At Noon (NAN) Luncheon\nThis is a great opportunity for you to come tour the kitchen\, enjoy one of our meals and hear our story. \nRegistration is required. For more information\, click here or call (813) 238-8410.
URL:https://mowtampa.org/event/nourish-at-noon-34/
END:VEVENT
BEGIN:VEVENT
DTSTART;TZID=America/New_York:20240911T110000
DTEND;TZID=America/New_York:20240911T120000
DTSTAMP:20260419T163750
CREATED:20240202T174044Z
LAST-MODIFIED:20240202T174044Z
UID:10000362-1726052400-1726056000@mowtampa.org
SUMMARY:Volunteer Orientation – In Person
DESCRIPTION:Volunteer Orientation – In Person\nAll new volunteers are required to participate in a Volunteer Orientation before they can sign up to deliver a route. \nIn person orientations are held at the Meals On Wheels of Tampa office located at 5320 North Boulevard Tampa FL 33603. \nRegistration is required. Please complete a volunteer application by clicking here and then choose Create Account.
URL:https://mowtampa.org/event/volunteer-orientation-in-person/2024-09-11/
END:VEVENT
BEGIN:VEVENT
DTSTART;TZID=America/New_York:20240906T110000
DTEND;TZID=America/New_York:20240906T120000
DTSTAMP:20260419T163750
CREATED:20240202T174931Z
LAST-MODIFIED:20240202T175417Z
UID:10000624-1725620400-1725624000@mowtampa.org
SUMMARY:Volunteer Orientation – Virtual
DESCRIPTION:Volunteer Orientation – Virtual\nAll new volunteers are required to participate in a Volunteer Orientation before they can sign up to deliver a route. \nVirtual orientations will be held over Zoom. It is a requirement that your camera be turned “on” during session. \nRegistration is required. Please complete a volunteer application by clicking here and then choose Create Account.
URL:https://mowtampa.org/event/volunteer-orientation-virtual/2024-09-06/
END:VEVENT
BEGIN:VEVENT
DTSTART;TZID=America/New_York:20240904T110000
DTEND;TZID=America/New_York:20240904T120000
DTSTAMP:20260419T163750
CREATED:20240202T174044Z
LAST-MODIFIED:20240202T174044Z
UID:10000361-1725447600-1725451200@mowtampa.org
SUMMARY:Volunteer Orientation – In Person
DESCRIPTION:Volunteer Orientation – In Person\nAll new volunteers are required to participate in a Volunteer Orientation before they can sign up to deliver a route. \nIn person orientations are held at the Meals On Wheels of Tampa office located at 5320 North Boulevard Tampa FL 33603. \nRegistration is required. Please complete a volunteer application by clicking here and then choose Create Account.
URL:https://mowtampa.org/event/volunteer-orientation-in-person/2024-09-04/
END:VEVENT
BEGIN:VEVENT
DTSTART;VALUE=DATE:20240902
DTEND;VALUE=DATE:20240903
DTSTAMP:20260419T163750
CREATED:20240202T180624Z
LAST-MODIFIED:20240202T180624Z
UID:10000863-1725235200-1725321599@mowtampa.org
SUMMARY:Office Closed
DESCRIPTION:The Meals On Wheels of Tampa administrative offices will be closed in observance of the Labor Day Holiday.
URL:https://mowtampa.org/event/office-closed-12/
END:VEVENT
BEGIN:VEVENT
DTSTART;TZID=America/New_York:20240830T110000
DTEND;TZID=America/New_York:20240830T120000
DTSTAMP:20260419T163750
CREATED:20240202T174931Z
LAST-MODIFIED:20240202T175417Z
UID:10000623-1725015600-1725019200@mowtampa.org
SUMMARY:Volunteer Orientation – Virtual
DESCRIPTION:Volunteer Orientation – Virtual\nAll new volunteers are required to participate in a Volunteer Orientation before they can sign up to deliver a route. \nVirtual orientations will be held over Zoom. It is a requirement that your camera be turned “on” during session. \nRegistration is required. Please complete a volunteer application by clicking here and then choose Create Account.
URL:https://mowtampa.org/event/volunteer-orientation-virtual/2024-08-30/
END:VEVENT
BEGIN:VEVENT
DTSTART;TZID=America/New_York:20240828T110000
DTEND;TZID=America/New_York:20240828T120000
DTSTAMP:20260419T163750
CREATED:20240202T174044Z
LAST-MODIFIED:20240202T174044Z
UID:10000360-1724842800-1724846400@mowtampa.org
SUMMARY:Volunteer Orientation – In Person
DESCRIPTION:Volunteer Orientation – In Person\nAll new volunteers are required to participate in a Volunteer Orientation before they can sign up to deliver a route. \nIn person orientations are held at the Meals On Wheels of Tampa office located at 5320 North Boulevard Tampa FL 33603. \nRegistration is required. Please complete a volunteer application by clicking here and then choose Create Account.
URL:https://mowtampa.org/event/volunteer-orientation-in-person/2024-08-28/
END:VEVENT
BEGIN:VEVENT
DTSTART;TZID=America/New_York:20240827T183000
DTEND;TZID=America/New_York:20240827T200000
DTSTAMP:20260419T163750
CREATED:20240809T221757Z
LAST-MODIFIED:20240809T222036Z
UID:10000893-1724783400-1724788800@mowtampa.org
SUMMARY:Ambassador Welcome Happy Hour
DESCRIPTION:Ambassadors Welcome Happy Hour\nHappy Hour to welcome all new Ambassadors joining this year!  \nTo RSVP\, click here.
URL:https://mowtampa.org/event/ambassador-meeting/
END:VEVENT
BEGIN:VEVENT
DTSTART;TZID=America/New_York:20240827T173000
DTEND;TZID=America/New_York:20240827T183000
DTSTAMP:20260419T163750
CREATED:20240809T222114Z
LAST-MODIFIED:20240809T222138Z
UID:10000894-1724779800-1724783400@mowtampa.org
SUMMARY:Ambassador Meeting
DESCRIPTION:Ambassadors Meeting\nMeeting of young professionals (ages of 21-39) who work together to promote and support the mission of Meals On Wheels of Tampa. \nFor more information\, click here.
URL:https://mowtampa.org/event/ambassador-meeting-2/
END:VEVENT
BEGIN:VEVENT
DTSTART;TZID=America/New_York:20240823T110000
DTEND;TZID=America/New_York:20240823T120000
DTSTAMP:20260419T163750
CREATED:20240202T174931Z
LAST-MODIFIED:20240202T175417Z
UID:10000622-1724410800-1724414400@mowtampa.org
SUMMARY:Volunteer Orientation – Virtual
DESCRIPTION:Volunteer Orientation – Virtual\nAll new volunteers are required to participate in a Volunteer Orientation before they can sign up to deliver a route. \nVirtual orientations will be held over Zoom. It is a requirement that your camera be turned “on” during session. \nRegistration is required. Please complete a volunteer application by clicking here and then choose Create Account.
URL:https://mowtampa.org/event/volunteer-orientation-virtual/2024-08-23/
END:VEVENT
BEGIN:VEVENT
DTSTART;TZID=America/New_York:20240821T110000
DTEND;TZID=America/New_York:20240821T120000
DTSTAMP:20260419T163750
CREATED:20240202T174044Z
LAST-MODIFIED:20240202T174044Z
UID:10000359-1724238000-1724241600@mowtampa.org
SUMMARY:Volunteer Orientation – In Person
DESCRIPTION:Volunteer Orientation – In Person\nAll new volunteers are required to participate in a Volunteer Orientation before they can sign up to deliver a route. \nIn person orientations are held at the Meals On Wheels of Tampa office located at 5320 North Boulevard Tampa FL 33603. \nRegistration is required. Please complete a volunteer application by clicking here and then choose Create Account.
URL:https://mowtampa.org/event/volunteer-orientation-in-person/2024-08-21/
END:VEVENT
BEGIN:VEVENT
DTSTART;TZID=America/New_York:20240817T093000
DTEND;TZID=America/New_York:20240817T110000
DTSTAMP:20260419T163750
CREATED:20230224T200559Z
LAST-MODIFIED:20250107T232510Z
UID:10001003-1723887000-1723892400@mowtampa.org
SUMMARY:Produce On Wheels (POW) Delivery
DESCRIPTION:Produce On Wheels (POW!) Delivery\nVolunteers deliver bags of fresh produce to all program recipients. \nVolunteers must complete an application and attend an orientation prior to delivering. \nRoutes must be signed up for in advance. Routes take 60-90 minutes to complete. \nFor more information\, click here or call (813) 238-8410.
URL:https://mowtampa.org/event/produce-on-wheels-pow-delivery-8/2024-08-17/
END:VEVENT
BEGIN:VEVENT
DTSTART;TZID=America/New_York:20240816T110000
DTEND;TZID=America/New_York:20240816T120000
DTSTAMP:20260419T163750
CREATED:20240202T174931Z
LAST-MODIFIED:20240202T175417Z
UID:10000621-1723806000-1723809600@mowtampa.org
SUMMARY:Volunteer Orientation – Virtual
DESCRIPTION:Volunteer Orientation – Virtual\nAll new volunteers are required to participate in a Volunteer Orientation before they can sign up to deliver a route. \nVirtual orientations will be held over Zoom. It is a requirement that your camera be turned “on” during session. \nRegistration is required. Please complete a volunteer application by clicking here and then choose Create Account.
URL:https://mowtampa.org/event/volunteer-orientation-virtual/2024-08-16/
END:VEVENT
BEGIN:VEVENT
DTSTART;TZID=America/New_York:20240814T110000
DTEND;TZID=America/New_York:20240814T120000
DTSTAMP:20260419T163750
CREATED:20240202T174044Z
LAST-MODIFIED:20240202T174044Z
UID:10000358-1723633200-1723636800@mowtampa.org
SUMMARY:Volunteer Orientation – In Person
DESCRIPTION:Volunteer Orientation – In Person\nAll new volunteers are required to participate in a Volunteer Orientation before they can sign up to deliver a route. \nIn person orientations are held at the Meals On Wheels of Tampa office located at 5320 North Boulevard Tampa FL 33603. \nRegistration is required. Please complete a volunteer application by clicking here and then choose Create Account.
URL:https://mowtampa.org/event/volunteer-orientation-in-person/2024-08-14/
END:VEVENT
BEGIN:VEVENT
DTSTART;TZID=America/New_York:20240809T110000
DTEND;TZID=America/New_York:20240809T120000
DTSTAMP:20260419T163750
CREATED:20240202T174931Z
LAST-MODIFIED:20240202T175417Z
UID:10000620-1723201200-1723204800@mowtampa.org
SUMMARY:Volunteer Orientation – Virtual
DESCRIPTION:Volunteer Orientation – Virtual\nAll new volunteers are required to participate in a Volunteer Orientation before they can sign up to deliver a route. \nVirtual orientations will be held over Zoom. It is a requirement that your camera be turned “on” during session. \nRegistration is required. Please complete a volunteer application by clicking here and then choose Create Account.
URL:https://mowtampa.org/event/volunteer-orientation-virtual/2024-08-09/
END:VEVENT
BEGIN:VEVENT
DTSTART;TZID=America/New_York:20240808T120000
DTEND;TZID=America/New_York:20240808T130000
DTSTAMP:20260419T163750
CREATED:20240809T214254Z
LAST-MODIFIED:20240809T214254Z
UID:10000886-1723118400-1723122000@mowtampa.org
SUMMARY:Nourish At Noon
DESCRIPTION:Nourish At Noon (NAN) Luncheon\nThis is a great opportunity for you to come tour the kitchen\, enjoy one of our meals and hear our story. \nRegistration is required. For more information\, click here or call (813) 238-8410.
URL:https://mowtampa.org/event/nourish-at-noon-33/
END:VEVENT
BEGIN:VEVENT
DTSTART;TZID=America/New_York:20240807T110000
DTEND;TZID=America/New_York:20240807T120000
DTSTAMP:20260419T163750
CREATED:20240202T174044Z
LAST-MODIFIED:20240202T174044Z
UID:10000357-1723028400-1723032000@mowtampa.org
SUMMARY:Volunteer Orientation – In Person
DESCRIPTION:Volunteer Orientation – In Person\nAll new volunteers are required to participate in a Volunteer Orientation before they can sign up to deliver a route. \nIn person orientations are held at the Meals On Wheels of Tampa office located at 5320 North Boulevard Tampa FL 33603. \nRegistration is required. Please complete a volunteer application by clicking here and then choose Create Account.
URL:https://mowtampa.org/event/volunteer-orientation-in-person/2024-08-07/
END:VEVENT
BEGIN:VEVENT
DTSTART;TZID=America/New_York:20240802T110000
DTEND;TZID=America/New_York:20240802T120000
DTSTAMP:20260419T163750
CREATED:20240202T174931Z
LAST-MODIFIED:20240202T175417Z
UID:10000619-1722596400-1722600000@mowtampa.org
SUMMARY:Volunteer Orientation – Virtual
DESCRIPTION:Volunteer Orientation – Virtual\nAll new volunteers are required to participate in a Volunteer Orientation before they can sign up to deliver a route. \nVirtual orientations will be held over Zoom. It is a requirement that your camera be turned “on” during session. \nRegistration is required. Please complete a volunteer application by clicking here and then choose Create Account.
URL:https://mowtampa.org/event/volunteer-orientation-virtual/2024-08-02/
END:VEVENT
BEGIN:VEVENT
DTSTART;TZID=America/New_York:20240731T110000
DTEND;TZID=America/New_York:20240731T120000
DTSTAMP:20260419T163750
CREATED:20240202T174044Z
LAST-MODIFIED:20240202T174044Z
UID:10000356-1722423600-1722427200@mowtampa.org
SUMMARY:Volunteer Orientation – In Person
DESCRIPTION:Volunteer Orientation – In Person\nAll new volunteers are required to participate in a Volunteer Orientation before they can sign up to deliver a route. \nIn person orientations are held at the Meals On Wheels of Tampa office located at 5320 North Boulevard Tampa FL 33603. \nRegistration is required. Please complete a volunteer application by clicking here and then choose Create Account.
URL:https://mowtampa.org/event/volunteer-orientation-in-person/2024-07-31/
END:VEVENT
BEGIN:VEVENT
DTSTART;TZID=America/New_York:20240726T110000
DTEND;TZID=America/New_York:20240726T120000
DTSTAMP:20260419T163750
CREATED:20240202T174931Z
LAST-MODIFIED:20240202T175417Z
UID:10000618-1721991600-1721995200@mowtampa.org
SUMMARY:Volunteer Orientation – Virtual
DESCRIPTION:Volunteer Orientation – Virtual\nAll new volunteers are required to participate in a Volunteer Orientation before they can sign up to deliver a route. \nVirtual orientations will be held over Zoom. It is a requirement that your camera be turned “on” during session. \nRegistration is required. Please complete a volunteer application by clicking here and then choose Create Account.
URL:https://mowtampa.org/event/volunteer-orientation-virtual/2024-07-26/
END:VEVENT
BEGIN:VEVENT
DTSTART;TZID=America/New_York:20240724T110000
DTEND;TZID=America/New_York:20240724T120000
DTSTAMP:20260419T163750
CREATED:20240202T174044Z
LAST-MODIFIED:20240202T174044Z
UID:10000355-1721818800-1721822400@mowtampa.org
SUMMARY:Volunteer Orientation – In Person
DESCRIPTION:Volunteer Orientation – In Person\nAll new volunteers are required to participate in a Volunteer Orientation before they can sign up to deliver a route. \nIn person orientations are held at the Meals On Wheels of Tampa office located at 5320 North Boulevard Tampa FL 33603. \nRegistration is required. Please complete a volunteer application by clicking here and then choose Create Account.
URL:https://mowtampa.org/event/volunteer-orientation-in-person/2024-07-24/
END:VEVENT
BEGIN:VEVENT
DTSTART;TZID=America/New_York:20240720T093000
DTEND;TZID=America/New_York:20240720T230000
DTSTAMP:20260419T163750
CREATED:20230224T200140Z
LAST-MODIFIED:20250107T232403Z
UID:10000986-1721467800-1721516400@mowtampa.org
SUMMARY:Produce On Wheels (POW!) Delivery
DESCRIPTION:Produce On Wheels (POW!) Delivery\nVolunteers deliver bags of fresh produce to all program recipients. \nVolunteers must complete an application and attend an orientation prior to delivering. \nRoutes must be signed up for in advance. Routes take 60-90 minutes to complete. \nFor more information\, click here or call (813) 238-8410.
URL:https://mowtampa.org/event/produce-on-wheels-pow-delivery-7/2024-07-20/
END:VEVENT
BEGIN:VEVENT
DTSTART;TZID=America/New_York:20240719T110000
DTEND;TZID=America/New_York:20240719T120000
DTSTAMP:20260419T163750
CREATED:20240202T174931Z
LAST-MODIFIED:20240202T175417Z
UID:10000617-1721386800-1721390400@mowtampa.org
SUMMARY:Volunteer Orientation – Virtual
DESCRIPTION:Volunteer Orientation – Virtual\nAll new volunteers are required to participate in a Volunteer Orientation before they can sign up to deliver a route. \nVirtual orientations will be held over Zoom. It is a requirement that your camera be turned “on” during session. \nRegistration is required. Please complete a volunteer application by clicking here and then choose Create Account.
URL:https://mowtampa.org/event/volunteer-orientation-virtual/2024-07-19/
END:VEVENT
BEGIN:VEVENT
DTSTART;TZID=America/New_York:20240717T110000
DTEND;TZID=America/New_York:20240717T120000
DTSTAMP:20260419T163750
CREATED:20240202T174044Z
LAST-MODIFIED:20240202T174044Z
UID:10000354-1721214000-1721217600@mowtampa.org
SUMMARY:Volunteer Orientation – In Person
DESCRIPTION:Volunteer Orientation – In Person\nAll new volunteers are required to participate in a Volunteer Orientation before they can sign up to deliver a route. \nIn person orientations are held at the Meals On Wheels of Tampa office located at 5320 North Boulevard Tampa FL 33603. \nRegistration is required. Please complete a volunteer application by clicking here and then choose Create Account.
URL:https://mowtampa.org/event/volunteer-orientation-in-person/2024-07-17/
END:VEVENT
BEGIN:VEVENT
DTSTART;TZID=America/New_York:20240712T110000
DTEND;TZID=America/New_York:20240712T120000
DTSTAMP:20260419T163750
CREATED:20240202T174931Z
LAST-MODIFIED:20240202T175417Z
UID:10000616-1720782000-1720785600@mowtampa.org
SUMMARY:Volunteer Orientation – Virtual
DESCRIPTION:Volunteer Orientation – Virtual\nAll new volunteers are required to participate in a Volunteer Orientation before they can sign up to deliver a route. \nVirtual orientations will be held over Zoom. It is a requirement that your camera be turned “on” during session. \nRegistration is required. Please complete a volunteer application by clicking here and then choose Create Account.
URL:https://mowtampa.org/event/volunteer-orientation-virtual/2024-07-12/
END:VEVENT
BEGIN:VEVENT
DTSTART;TZID=America/New_York:20240710T110000
DTEND;TZID=America/New_York:20240710T120000
DTSTAMP:20260419T163750
CREATED:20240202T174044Z
LAST-MODIFIED:20240202T174044Z
UID:10000353-1720609200-1720612800@mowtampa.org
SUMMARY:Volunteer Orientation – In Person
DESCRIPTION:Volunteer Orientation – In Person\nAll new volunteers are required to participate in a Volunteer Orientation before they can sign up to deliver a route. \nIn person orientations are held at the Meals On Wheels of Tampa office located at 5320 North Boulevard Tampa FL 33603. \nRegistration is required. Please complete a volunteer application by clicking here and then choose Create Account.
URL:https://mowtampa.org/event/volunteer-orientation-in-person/2024-07-10/
END:VEVENT
BEGIN:VEVENT
DTSTART;TZID=America/New_York:20240705T110000
DTEND;TZID=America/New_York:20240705T120000
DTSTAMP:20260419T163750
CREATED:20240202T174931Z
LAST-MODIFIED:20240202T175417Z
UID:10000615-1720177200-1720180800@mowtampa.org
SUMMARY:Volunteer Orientation – Virtual
DESCRIPTION:Volunteer Orientation – Virtual\nAll new volunteers are required to participate in a Volunteer Orientation before they can sign up to deliver a route. \nVirtual orientations will be held over Zoom. It is a requirement that your camera be turned “on” during session. \nRegistration is required. Please complete a volunteer application by clicking here and then choose Create Account.
URL:https://mowtampa.org/event/volunteer-orientation-virtual/2024-07-05/
END:VEVENT
BEGIN:VEVENT
DTSTART;VALUE=DATE:20240704
DTEND;VALUE=DATE:20240705
DTSTAMP:20260419T163750
CREATED:20240202T180550Z
LAST-MODIFIED:20240202T180550Z
UID:10000862-1720051200-1720137599@mowtampa.org
SUMMARY:Office Closed
DESCRIPTION:The Meals On Wheels of Tampa administrative offices will be closed in observance of the Independence Day Holiday.
URL:https://mowtampa.org/event/office-closed-11/
END:VEVENT
BEGIN:VEVENT
DTSTART;TZID=America/New_York:20240703T110000
DTEND;TZID=America/New_York:20240703T120000
DTSTAMP:20260419T163750
CREATED:20240202T174044Z
LAST-MODIFIED:20240202T174044Z
UID:10000352-1720004400-1720008000@mowtampa.org
SUMMARY:Volunteer Orientation – In Person
DESCRIPTION:Volunteer Orientation – In Person\nAll new volunteers are required to participate in a Volunteer Orientation before they can sign up to deliver a route. \nIn person orientations are held at the Meals On Wheels of Tampa office located at 5320 North Boulevard Tampa FL 33603. \nRegistration is required. Please complete a volunteer application by clicking here and then choose Create Account.
URL:https://mowtampa.org/event/volunteer-orientation-in-person/2024-07-03/
END:VEVENT
BEGIN:VEVENT
DTSTART;TZID=America/New_York:20240628T110000
DTEND;TZID=America/New_York:20240628T120000
DTSTAMP:20260419T163750
CREATED:20240202T174931Z
LAST-MODIFIED:20240202T175417Z
UID:10000614-1719572400-1719576000@mowtampa.org
SUMMARY:Volunteer Orientation – Virtual
DESCRIPTION:Volunteer Orientation – Virtual\nAll new volunteers are required to participate in a Volunteer Orientation before they can sign up to deliver a route. \nVirtual orientations will be held over Zoom. It is a requirement that your camera be turned “on” during session. \nRegistration is required. Please complete a volunteer application by clicking here and then choose Create Account.
URL:https://mowtampa.org/event/volunteer-orientation-virtual/2024-06-28/
END:VEVENT
END:VCALENDAR