BEGIN:VCALENDAR
VERSION:2.0
PRODID:-//Meals On Wheels of Tampa - ECPv6.15.20//NONSGML v1.0//EN
CALSCALE:GREGORIAN
METHOD:PUBLISH
X-WR-CALNAME:Meals On Wheels of Tampa
X-ORIGINAL-URL:https://mowtampa.org
X-WR-CALDESC:Events for Meals On Wheels of Tampa
REFRESH-INTERVAL;VALUE=DURATION:PT1H
X-Robots-Tag:noindex
X-PUBLISHED-TTL:PT1H
BEGIN:VTIMEZONE
TZID:America/New_York
BEGIN:DAYLIGHT
TZOFFSETFROM:-0500
TZOFFSETTO:-0400
TZNAME:EDT
DTSTART:20220313T070000
END:DAYLIGHT
BEGIN:STANDARD
TZOFFSETFROM:-0400
TZOFFSETTO:-0500
TZNAME:EST
DTSTART:20221106T060000
END:STANDARD
BEGIN:DAYLIGHT
TZOFFSETFROM:-0500
TZOFFSETTO:-0400
TZNAME:EDT
DTSTART:20230312T070000
END:DAYLIGHT
BEGIN:STANDARD
TZOFFSETFROM:-0400
TZOFFSETTO:-0500
TZNAME:EST
DTSTART:20231105T060000
END:STANDARD
BEGIN:DAYLIGHT
TZOFFSETFROM:-0500
TZOFFSETTO:-0400
TZNAME:EDT
DTSTART:20240310T070000
END:DAYLIGHT
BEGIN:STANDARD
TZOFFSETFROM:-0400
TZOFFSETTO:-0500
TZNAME:EST
DTSTART:20241103T060000
END:STANDARD
END:VTIMEZONE
BEGIN:VEVENT
DTSTART;TZID=America/New_York:20230616T110000
DTEND;TZID=America/New_York:20230616T120000
DTSTAMP:20260421T013657
CREATED:20230224T211056Z
LAST-MODIFIED:20230224T211211Z
UID:10000263-1686913200-1686916800@mowtampa.org
SUMMARY:Volunteer Orientation - Virtual
DESCRIPTION:Volunteer Orientation – Virtual\nAll new volunteers are required to participate in a Volunteer Orientation before they can sign up to deliver a route. \nVirtual orientations will be held over Zoom. It is a requirement that your camera be turned “on” during session. \nRegistration is required. Please complete a volunteer application by clicking here and then choose Create Account.
URL:https://mowtampa.org/event/virtual-volunteer-orientation/2023-06-16/
END:VEVENT
BEGIN:VEVENT
DTSTART;TZID=America/New_York:20230614T110000
DTEND;TZID=America/New_York:20230614T120000
DTSTAMP:20260421T013657
CREATED:20230224T210440Z
LAST-MODIFIED:20230224T211457Z
UID:10000203-1686740400-1686744000@mowtampa.org
SUMMARY:Volunteer Orientation - In Person
DESCRIPTION:Volunteer Orientation – In Person\nAll new volunteers are required to participate in a Volunteer Orientation before they can sign up to deliver a route. \nIn person orientations are held at the Meals On Wheels of Tampa office located at 5320 North Boulevard Tampa FL 33603. \nRegistration is required. Please complete a volunteer application by clicking here and then choose Create Account.
URL:https://mowtampa.org/event/in-person-volunteer-orientation/2023-06-14/
END:VEVENT
BEGIN:VEVENT
DTSTART;TZID=America/New_York:20230609T110000
DTEND;TZID=America/New_York:20230609T120000
DTSTAMP:20260421T013657
CREATED:20230224T211056Z
LAST-MODIFIED:20230224T211211Z
UID:10000262-1686308400-1686312000@mowtampa.org
SUMMARY:Volunteer Orientation - Virtual
DESCRIPTION:Volunteer Orientation – Virtual\nAll new volunteers are required to participate in a Volunteer Orientation before they can sign up to deliver a route. \nVirtual orientations will be held over Zoom. It is a requirement that your camera be turned “on” during session. \nRegistration is required. Please complete a volunteer application by clicking here and then choose Create Account.
URL:https://mowtampa.org/event/virtual-volunteer-orientation/2023-06-09/
END:VEVENT
BEGIN:VEVENT
DTSTART;TZID=America/New_York:20230607T110000
DTEND;TZID=America/New_York:20230607T120000
DTSTAMP:20260421T013657
CREATED:20230224T210440Z
LAST-MODIFIED:20230224T211457Z
UID:10000202-1686135600-1686139200@mowtampa.org
SUMMARY:Volunteer Orientation - In Person
DESCRIPTION:Volunteer Orientation – In Person\nAll new volunteers are required to participate in a Volunteer Orientation before they can sign up to deliver a route. \nIn person orientations are held at the Meals On Wheels of Tampa office located at 5320 North Boulevard Tampa FL 33603. \nRegistration is required. Please complete a volunteer application by clicking here and then choose Create Account.
URL:https://mowtampa.org/event/in-person-volunteer-orientation/2023-06-07/
END:VEVENT
BEGIN:VEVENT
DTSTART;TZID=America/New_York:20230606T120000
DTEND;TZID=America/New_York:20230606T130000
DTSTAMP:20260421T013657
CREATED:20230224T205055Z
LAST-MODIFIED:20230525T203150Z
UID:10000145-1686052800-1686056400@mowtampa.org
SUMMARY:Nourish At Noon
DESCRIPTION:Nourish At Noon (NAN) Luncheon\nThis is a great opportunity for you to come tour the kitchen\, enjoy one of our meals and hear our story. \nRegistration is required. For more information\, click here or call (813) 238-8410.
URL:https://mowtampa.org/event/nourish-at-noon-10/
END:VEVENT
BEGIN:VEVENT
DTSTART;TZID=America/New_York:20230602T110000
DTEND;TZID=America/New_York:20230602T120000
DTSTAMP:20260421T013657
CREATED:20230224T211056Z
LAST-MODIFIED:20230224T211211Z
UID:10000261-1685703600-1685707200@mowtampa.org
SUMMARY:Volunteer Orientation - Virtual
DESCRIPTION:Volunteer Orientation – Virtual\nAll new volunteers are required to participate in a Volunteer Orientation before they can sign up to deliver a route. \nVirtual orientations will be held over Zoom. It is a requirement that your camera be turned “on” during session. \nRegistration is required. Please complete a volunteer application by clicking here and then choose Create Account.
URL:https://mowtampa.org/event/virtual-volunteer-orientation/2023-06-02/
END:VEVENT
BEGIN:VEVENT
DTSTART;TZID=America/New_York:20230531T110000
DTEND;TZID=America/New_York:20230531T120000
DTSTAMP:20260421T013657
CREATED:20230224T210440Z
LAST-MODIFIED:20230224T211457Z
UID:10000201-1685530800-1685534400@mowtampa.org
SUMMARY:Volunteer Orientation - In Person
DESCRIPTION:Volunteer Orientation – In Person\nAll new volunteers are required to participate in a Volunteer Orientation before they can sign up to deliver a route. \nIn person orientations are held at the Meals On Wheels of Tampa office located at 5320 North Boulevard Tampa FL 33603. \nRegistration is required. Please complete a volunteer application by clicking here and then choose Create Account.
URL:https://mowtampa.org/event/in-person-volunteer-orientation/2023-05-31/
END:VEVENT
BEGIN:VEVENT
DTSTART;VALUE=DATE:20230529
DTEND;VALUE=DATE:20230530
DTSTAMP:20260421T013657
CREATED:20230224T193555Z
LAST-MODIFIED:20230224T193555Z
UID:10000153-1685318400-1685404799@mowtampa.org
SUMMARY:Office Closed
DESCRIPTION:The Meals On Wheels of Tampa administrative offices will be closed in observance of the Memorial Day Holiday.
URL:https://mowtampa.org/event/office-closed-2/
END:VEVENT
BEGIN:VEVENT
DTSTART;TZID=America/New_York:20230526T110000
DTEND;TZID=America/New_York:20230526T120000
DTSTAMP:20260421T013657
CREATED:20230224T211056Z
LAST-MODIFIED:20230224T211211Z
UID:10000260-1685098800-1685102400@mowtampa.org
SUMMARY:Volunteer Orientation - Virtual
DESCRIPTION:Volunteer Orientation – Virtual\nAll new volunteers are required to participate in a Volunteer Orientation before they can sign up to deliver a route. \nVirtual orientations will be held over Zoom. It is a requirement that your camera be turned “on” during session. \nRegistration is required. Please complete a volunteer application by clicking here and then choose Create Account.
URL:https://mowtampa.org/event/virtual-volunteer-orientation/2023-05-26/
END:VEVENT
BEGIN:VEVENT
DTSTART;TZID=America/New_York:20230525T120000
DTEND;TZID=America/New_York:20230525T130000
DTSTAMP:20260421T013657
CREATED:20230224T205014Z
LAST-MODIFIED:20230224T205014Z
UID:10000144-1685016000-1685019600@mowtampa.org
SUMMARY:Nourish At Noon
DESCRIPTION:Nourish At Noon (NAN) Luncheon\nThis is a great opportunity for you to come tour the kitchen\, enjoy one of our meals and hear our story. \nRegistration is required. For more information\, click here or call (813) 238-8410.
URL:https://mowtampa.org/event/nourish-at-noon-9/
END:VEVENT
BEGIN:VEVENT
DTSTART;TZID=America/New_York:20230524T110000
DTEND;TZID=America/New_York:20230524T120000
DTSTAMP:20260421T013657
CREATED:20230224T210440Z
LAST-MODIFIED:20230224T211457Z
UID:10000200-1684926000-1684929600@mowtampa.org
SUMMARY:Volunteer Orientation - In Person
DESCRIPTION:Volunteer Orientation – In Person\nAll new volunteers are required to participate in a Volunteer Orientation before they can sign up to deliver a route. \nIn person orientations are held at the Meals On Wheels of Tampa office located at 5320 North Boulevard Tampa FL 33603. \nRegistration is required. Please complete a volunteer application by clicking here and then choose Create Account.
URL:https://mowtampa.org/event/in-person-volunteer-orientation/2023-05-24/
END:VEVENT
BEGIN:VEVENT
DTSTART;TZID=America/New_York:20230520T093000
DTEND;TZID=America/New_York:20230520T230000
DTSTAMP:20260421T013657
CREATED:20230224T200047Z
LAST-MODIFIED:20250107T232048Z
UID:10000169-1684575000-1684623600@mowtampa.org
SUMMARY:Produce on Wheels (POW!) Delivery
DESCRIPTION:Produce On Wheels (POW!) Delivery\nVolunteers deliver bags of fresh produce to all program recipients. \nVolunteers must complete an application and attend an orientation prior to delivering. \nRoutes must be signed up for in advance. Routes take 60-90 minutes to complete. \nFor more information\, click here or call (813) 238-8410.
URL:https://mowtampa.org/event/produce-on-wheels-pow-delivery-6/2023-05-20/
END:VEVENT
BEGIN:VEVENT
DTSTART;TZID=America/New_York:20230519T110000
DTEND;TZID=America/New_York:20230519T120000
DTSTAMP:20260421T013657
CREATED:20230224T211056Z
LAST-MODIFIED:20230224T211211Z
UID:10000259-1684494000-1684497600@mowtampa.org
SUMMARY:Volunteer Orientation - Virtual
DESCRIPTION:Volunteer Orientation – Virtual\nAll new volunteers are required to participate in a Volunteer Orientation before they can sign up to deliver a route. \nVirtual orientations will be held over Zoom. It is a requirement that your camera be turned “on” during session. \nRegistration is required. Please complete a volunteer application by clicking here and then choose Create Account.
URL:https://mowtampa.org/event/virtual-volunteer-orientation/2023-05-19/
END:VEVENT
BEGIN:VEVENT
DTSTART;TZID=America/New_York:20230517T110000
DTEND;TZID=America/New_York:20230517T120000
DTSTAMP:20260421T013657
CREATED:20230224T210440Z
LAST-MODIFIED:20230224T211457Z
UID:10000199-1684321200-1684324800@mowtampa.org
SUMMARY:Volunteer Orientation - In Person
DESCRIPTION:Volunteer Orientation – In Person\nAll new volunteers are required to participate in a Volunteer Orientation before they can sign up to deliver a route. \nIn person orientations are held at the Meals On Wheels of Tampa office located at 5320 North Boulevard Tampa FL 33603. \nRegistration is required. Please complete a volunteer application by clicking here and then choose Create Account.
URL:https://mowtampa.org/event/in-person-volunteer-orientation/2023-05-17/
END:VEVENT
BEGIN:VEVENT
DTSTART;TZID=America/New_York:20230512T110000
DTEND;TZID=America/New_York:20230512T120000
DTSTAMP:20260421T013657
CREATED:20230224T211056Z
LAST-MODIFIED:20230224T211211Z
UID:10000258-1683889200-1683892800@mowtampa.org
SUMMARY:Volunteer Orientation - Virtual
DESCRIPTION:Volunteer Orientation – Virtual\nAll new volunteers are required to participate in a Volunteer Orientation before they can sign up to deliver a route. \nVirtual orientations will be held over Zoom. It is a requirement that your camera be turned “on” during session. \nRegistration is required. Please complete a volunteer application by clicking here and then choose Create Account.
URL:https://mowtampa.org/event/virtual-volunteer-orientation/2023-05-12/
END:VEVENT
BEGIN:VEVENT
DTSTART;TZID=America/New_York:20230510T110000
DTEND;TZID=America/New_York:20230510T120000
DTSTAMP:20260421T013657
CREATED:20230224T210440Z
LAST-MODIFIED:20230224T211457Z
UID:10000198-1683716400-1683720000@mowtampa.org
SUMMARY:Volunteer Orientation - In Person
DESCRIPTION:Volunteer Orientation – In Person\nAll new volunteers are required to participate in a Volunteer Orientation before they can sign up to deliver a route. \nIn person orientations are held at the Meals On Wheels of Tampa office located at 5320 North Boulevard Tampa FL 33603. \nRegistration is required. Please complete a volunteer application by clicking here and then choose Create Account.
URL:https://mowtampa.org/event/in-person-volunteer-orientation/2023-05-10/
END:VEVENT
BEGIN:VEVENT
DTSTART;TZID=America/New_York:20230509T120000
DTEND;TZID=America/New_York:20230509T130000
DTSTAMP:20260421T013657
CREATED:20230224T204922Z
LAST-MODIFIED:20230224T204922Z
UID:10000143-1683633600-1683637200@mowtampa.org
SUMMARY:Nourish At Noon
DESCRIPTION:Nourish At Noon (NAN) Luncheon\nThis is a great opportunity for you to come tour the kitchen\, enjoy one of our meals and hear our story. \nRegistration is required. For more information\, click here or call (813) 238-8410.
URL:https://mowtampa.org/event/nourish-at-noon-8/
END:VEVENT
BEGIN:VEVENT
DTSTART;TZID=America/New_York:20230505T110000
DTEND;TZID=America/New_York:20230505T120000
DTSTAMP:20260421T013657
CREATED:20230224T211056Z
LAST-MODIFIED:20230224T211211Z
UID:10000257-1683284400-1683288000@mowtampa.org
SUMMARY:Volunteer Orientation - Virtual
DESCRIPTION:Volunteer Orientation – Virtual\nAll new volunteers are required to participate in a Volunteer Orientation before they can sign up to deliver a route. \nVirtual orientations will be held over Zoom. It is a requirement that your camera be turned “on” during session. \nRegistration is required. Please complete a volunteer application by clicking here and then choose Create Account.
URL:https://mowtampa.org/event/virtual-volunteer-orientation/2023-05-05/
END:VEVENT
BEGIN:VEVENT
DTSTART;TZID=America/New_York:20230503T110000
DTEND;TZID=America/New_York:20230503T120000
DTSTAMP:20260421T013657
CREATED:20230224T210440Z
LAST-MODIFIED:20230224T211457Z
UID:10000197-1683111600-1683115200@mowtampa.org
SUMMARY:Volunteer Orientation - In Person
DESCRIPTION:Volunteer Orientation – In Person\nAll new volunteers are required to participate in a Volunteer Orientation before they can sign up to deliver a route. \nIn person orientations are held at the Meals On Wheels of Tampa office located at 5320 North Boulevard Tampa FL 33603. \nRegistration is required. Please complete a volunteer application by clicking here and then choose Create Account.
URL:https://mowtampa.org/event/in-person-volunteer-orientation/2023-05-03/
END:VEVENT
BEGIN:VEVENT
DTSTART;TZID=America/New_York:20230428T110000
DTEND;TZID=America/New_York:20230428T120000
DTSTAMP:20260421T013657
CREATED:20230224T211056Z
LAST-MODIFIED:20230224T211211Z
UID:10000256-1682679600-1682683200@mowtampa.org
SUMMARY:Volunteer Orientation - Virtual
DESCRIPTION:Volunteer Orientation – Virtual\nAll new volunteers are required to participate in a Volunteer Orientation before they can sign up to deliver a route. \nVirtual orientations will be held over Zoom. It is a requirement that your camera be turned “on” during session. \nRegistration is required. Please complete a volunteer application by clicking here and then choose Create Account.
URL:https://mowtampa.org/event/virtual-volunteer-orientation/2023-04-28/
END:VEVENT
BEGIN:VEVENT
DTSTART;TZID=America/New_York:20230426T110000
DTEND;TZID=America/New_York:20230426T120000
DTSTAMP:20260421T013657
CREATED:20230224T210440Z
LAST-MODIFIED:20230224T211457Z
UID:10000196-1682506800-1682510400@mowtampa.org
SUMMARY:Volunteer Orientation - In Person
DESCRIPTION:Volunteer Orientation – In Person\nAll new volunteers are required to participate in a Volunteer Orientation before they can sign up to deliver a route. \nIn person orientations are held at the Meals On Wheels of Tampa office located at 5320 North Boulevard Tampa FL 33603. \nRegistration is required. Please complete a volunteer application by clicking here and then choose Create Account.
URL:https://mowtampa.org/event/in-person-volunteer-orientation/2023-04-26/
END:VEVENT
BEGIN:VEVENT
DTSTART;TZID=America/New_York:20230421T110000
DTEND;TZID=America/New_York:20230421T120000
DTSTAMP:20260421T013657
CREATED:20230224T211056Z
LAST-MODIFIED:20230224T211211Z
UID:10000255-1682074800-1682078400@mowtampa.org
SUMMARY:Volunteer Orientation - Virtual
DESCRIPTION:Volunteer Orientation – Virtual\nAll new volunteers are required to participate in a Volunteer Orientation before they can sign up to deliver a route. \nVirtual orientations will be held over Zoom. It is a requirement that your camera be turned “on” during session. \nRegistration is required. Please complete a volunteer application by clicking here and then choose Create Account.
URL:https://mowtampa.org/event/virtual-volunteer-orientation/2023-04-21/
END:VEVENT
BEGIN:VEVENT
DTSTART;TZID=America/New_York:20230420T120000
DTEND;TZID=America/New_York:20230420T130000
DTSTAMP:20260421T013657
CREATED:20230224T204841Z
LAST-MODIFIED:20230224T204841Z
UID:10000142-1681992000-1681995600@mowtampa.org
SUMMARY:Nourish At Noon
DESCRIPTION:Nourish At Noon (NAN) Luncheon\nThis is a great opportunity for you to come tour the kitchen\, enjoy one of our meals and hear our story. \nRegistration is required. For more information\, click here or call (813) 238-8410.
URL:https://mowtampa.org/event/nourish-at-noon-7/
END:VEVENT
BEGIN:VEVENT
DTSTART;TZID=America/New_York:20230419T110000
DTEND;TZID=America/New_York:20230419T120000
DTSTAMP:20260421T013657
CREATED:20230224T210440Z
LAST-MODIFIED:20230224T211457Z
UID:10000195-1681902000-1681905600@mowtampa.org
SUMMARY:Volunteer Orientation - In Person
DESCRIPTION:Volunteer Orientation – In Person\nAll new volunteers are required to participate in a Volunteer Orientation before they can sign up to deliver a route. \nIn person orientations are held at the Meals On Wheels of Tampa office located at 5320 North Boulevard Tampa FL 33603. \nRegistration is required. Please complete a volunteer application by clicking here and then choose Create Account.
URL:https://mowtampa.org/event/in-person-volunteer-orientation/2023-04-19/
END:VEVENT
BEGIN:VEVENT
DTSTART;TZID=America/New_York:20230415T093000
DTEND;TZID=America/New_York:20230415T110000
DTSTAMP:20260421T013657
CREATED:20230224T195952Z
LAST-MODIFIED:20250107T231849Z
UID:10000168-1681551000-1681556400@mowtampa.org
SUMMARY:Produce On Wheels (POW!) Delivery
DESCRIPTION:Produce On Wheels (POW!) Delivery\nVolunteers deliver bags of fresh produce to all program recipients. \nVolunteers must complete an application and attend an orientation prior to delivering. \nRoutes must be signed up for in advance. Routes take 60-90 minutes to complete. \nFor more information\, click here or call (813) 238-8410.
URL:https://mowtampa.org/event/produce-on-wheels-pow-delivery-5/2023-04-15/
END:VEVENT
BEGIN:VEVENT
DTSTART;TZID=America/New_York:20230414T110000
DTEND;TZID=America/New_York:20230414T120000
DTSTAMP:20260421T013657
CREATED:20230224T211056Z
LAST-MODIFIED:20230224T211211Z
UID:10000254-1681470000-1681473600@mowtampa.org
SUMMARY:Volunteer Orientation - Virtual
DESCRIPTION:Volunteer Orientation – Virtual\nAll new volunteers are required to participate in a Volunteer Orientation before they can sign up to deliver a route. \nVirtual orientations will be held over Zoom. It is a requirement that your camera be turned “on” during session. \nRegistration is required. Please complete a volunteer application by clicking here and then choose Create Account.
URL:https://mowtampa.org/event/virtual-volunteer-orientation/2023-04-14/
END:VEVENT
BEGIN:VEVENT
DTSTART;TZID=America/New_York:20230412T110000
DTEND;TZID=America/New_York:20230412T120000
DTSTAMP:20260421T013657
CREATED:20230224T210440Z
LAST-MODIFIED:20230224T211457Z
UID:10000194-1681297200-1681300800@mowtampa.org
SUMMARY:Volunteer Orientation - In Person
DESCRIPTION:Volunteer Orientation – In Person\nAll new volunteers are required to participate in a Volunteer Orientation before they can sign up to deliver a route. \nIn person orientations are held at the Meals On Wheels of Tampa office located at 5320 North Boulevard Tampa FL 33603. \nRegistration is required. Please complete a volunteer application by clicking here and then choose Create Account.
URL:https://mowtampa.org/event/in-person-volunteer-orientation/2023-04-12/
END:VEVENT
BEGIN:VEVENT
DTSTART;TZID=America/New_York:20230407T110000
DTEND;TZID=America/New_York:20230407T120000
DTSTAMP:20260421T013657
CREATED:20230224T211056Z
LAST-MODIFIED:20230224T211211Z
UID:10000253-1680865200-1680868800@mowtampa.org
SUMMARY:Volunteer Orientation - Virtual
DESCRIPTION:Volunteer Orientation – Virtual\nAll new volunteers are required to participate in a Volunteer Orientation before they can sign up to deliver a route. \nVirtual orientations will be held over Zoom. It is a requirement that your camera be turned “on” during session. \nRegistration is required. Please complete a volunteer application by clicking here and then choose Create Account.
URL:https://mowtampa.org/event/virtual-volunteer-orientation/2023-04-07/
END:VEVENT
BEGIN:VEVENT
DTSTART;VALUE=DATE:20230407
DTEND;VALUE=DATE:20230408
DTSTAMP:20260421T013657
CREATED:20230224T193300Z
LAST-MODIFIED:20230224T194830Z
UID:10000152-1680825600-1680911999@mowtampa.org
SUMMARY:Office Closed
DESCRIPTION:The Meals On Wheels of Tampa administrative offices will be closed in observance of Good Friday.
URL:https://mowtampa.org/event/office-closed/
END:VEVENT
BEGIN:VEVENT
DTSTART;TZID=America/New_York:20230405T110000
DTEND;TZID=America/New_York:20230405T120000
DTSTAMP:20260421T013657
CREATED:20230224T210440Z
LAST-MODIFIED:20230224T211457Z
UID:10000193-1680692400-1680696000@mowtampa.org
SUMMARY:Volunteer Orientation - In Person
DESCRIPTION:Volunteer Orientation – In Person\nAll new volunteers are required to participate in a Volunteer Orientation before they can sign up to deliver a route. \nIn person orientations are held at the Meals On Wheels of Tampa office located at 5320 North Boulevard Tampa FL 33603. \nRegistration is required. Please complete a volunteer application by clicking here and then choose Create Account.
URL:https://mowtampa.org/event/in-person-volunteer-orientation/2023-04-05/
END:VEVENT
END:VCALENDAR