BEGIN:VCALENDAR
VERSION:2.0
PRODID:-//Meals On Wheels of Tampa - ECPv6.15.20//NONSGML v1.0//EN
CALSCALE:GREGORIAN
METHOD:PUBLISH
X-ORIGINAL-URL:https://mowtampa.org
X-WR-CALDESC:Events for Meals On Wheels of Tampa
REFRESH-INTERVAL;VALUE=DURATION:PT1H
X-Robots-Tag:noindex
X-PUBLISHED-TTL:PT1H
BEGIN:VTIMEZONE
TZID:America/New_York
BEGIN:DAYLIGHT
TZOFFSETFROM:-0500
TZOFFSETTO:-0400
TZNAME:EDT
DTSTART:20230312T070000
END:DAYLIGHT
BEGIN:STANDARD
TZOFFSETFROM:-0400
TZOFFSETTO:-0500
TZNAME:EST
DTSTART:20231105T060000
END:STANDARD
BEGIN:DAYLIGHT
TZOFFSETFROM:-0500
TZOFFSETTO:-0400
TZNAME:EDT
DTSTART:20240310T070000
END:DAYLIGHT
BEGIN:STANDARD
TZOFFSETFROM:-0400
TZOFFSETTO:-0500
TZNAME:EST
DTSTART:20241103T060000
END:STANDARD
BEGIN:DAYLIGHT
TZOFFSETFROM:-0500
TZOFFSETTO:-0400
TZNAME:EDT
DTSTART:20250309T070000
END:DAYLIGHT
BEGIN:STANDARD
TZOFFSETFROM:-0400
TZOFFSETTO:-0500
TZNAME:EST
DTSTART:20251102T060000
END:STANDARD
END:VTIMEZONE
BEGIN:VEVENT
DTSTART;TZID=America/New_York:20240827T173000
DTEND;TZID=America/New_York:20240827T183000
DTSTAMP:20260419T123928
CREATED:20240809T222114Z
LAST-MODIFIED:20240809T222138Z
UID:10000894-1724779800-1724783400@mowtampa.org
SUMMARY:Ambassador Meeting
DESCRIPTION:Ambassadors Meeting\nMeeting of young professionals (ages of 21-39) who work together to promote and support the mission of Meals On Wheels of Tampa. \nFor more information\, click here.
URL:https://mowtampa.org/event/ambassador-meeting-2/
END:VEVENT
BEGIN:VEVENT
DTSTART;TZID=America/New_York:20240827T183000
DTEND;TZID=America/New_York:20240827T200000
DTSTAMP:20260419T123928
CREATED:20240809T221757Z
LAST-MODIFIED:20240809T222036Z
UID:10000893-1724783400-1724788800@mowtampa.org
SUMMARY:Ambassador Welcome Happy Hour
DESCRIPTION:Ambassadors Welcome Happy Hour\nHappy Hour to welcome all new Ambassadors joining this year!  \nTo RSVP\, click here.
URL:https://mowtampa.org/event/ambassador-meeting/
END:VEVENT
END:VCALENDAR