BEGIN:VCALENDAR
VERSION:2.0
PRODID:-//Meals On Wheels of Tampa - ECPv6.15.20//NONSGML v1.0//EN
CALSCALE:GREGORIAN
METHOD:PUBLISH
X-WR-CALNAME:Meals On Wheels of Tampa
X-ORIGINAL-URL:https://mowtampa.org
X-WR-CALDESC:Events for Meals On Wheels of Tampa
REFRESH-INTERVAL;VALUE=DURATION:PT1H
X-Robots-Tag:noindex
X-PUBLISHED-TTL:PT1H
BEGIN:VTIMEZONE
TZID:America/New_York
BEGIN:DAYLIGHT
TZOFFSETFROM:-0500
TZOFFSETTO:-0400
TZNAME:EDT
DTSTART:20180311T070000
END:DAYLIGHT
BEGIN:STANDARD
TZOFFSETFROM:-0400
TZOFFSETTO:-0500
TZNAME:EST
DTSTART:20181104T060000
END:STANDARD
BEGIN:DAYLIGHT
TZOFFSETFROM:-0500
TZOFFSETTO:-0400
TZNAME:EDT
DTSTART:20190310T070000
END:DAYLIGHT
BEGIN:STANDARD
TZOFFSETFROM:-0400
TZOFFSETTO:-0500
TZNAME:EST
DTSTART:20191103T060000
END:STANDARD
BEGIN:DAYLIGHT
TZOFFSETFROM:-0500
TZOFFSETTO:-0400
TZNAME:EDT
DTSTART:20200308T070000
END:DAYLIGHT
BEGIN:STANDARD
TZOFFSETFROM:-0400
TZOFFSETTO:-0500
TZNAME:EST
DTSTART:20201101T060000
END:STANDARD
END:VTIMEZONE
BEGIN:VEVENT
DTSTART;TZID=America/New_York:20191128T093000
DTEND;TZID=America/New_York:20191128T110000
DTSTAMP:20260424T190541
CREATED:20190521T172625Z
LAST-MODIFIED:20190521T172938Z
UID:10000049-1574933400-1574938800@mowtampa.org
SUMMARY:Thanksgiving morning delivery
DESCRIPTION:Volunteers will deliver cards and baked goods to all program recipients on Thanksgiving morning. \nVolunteers must complete an application and attend an orientation before delivering.  All routes are reserved in advance. \nClick here for more information. 
URL:https://mowtampa.org/event/thanksgiving-morning-delivery/
LOCATION:Meals On Wheels of Tampa\, Inc.\, 550 W Hillsborough Avenue\, Tampa\, FL\, 33603\, United States
GEO:27.9957562;-82.4676813
X-APPLE-STRUCTURED-LOCATION;VALUE=URI;X-ADDRESS=Meals On Wheels of Tampa Inc. 550 W Hillsborough Avenue Tampa FL 33603 United States;X-APPLE-RADIUS=500;X-TITLE=550 W Hillsborough Avenue:geo:-82.4676813,27.9957562
END:VEVENT
END:VCALENDAR